Workbook

Sheet RESUMEN
A1: MINISTERIO DE SALUD
A2: SERVICIO DE SALUD COQUIMBO
A3: SUBDIRECCION DE GESTION ASISTENCIAL
A4: SUBDEPTO DE ESTADÍSTICA Y GESTIÓN DE LA INFORMACIÓN
A5: COMUNA | B5: RESUMEN DE CUMPLIMIENTO DE METAS A MARZO 2018
B6: CORTE A MARZO
B8: METAS COMPONENTE ESTRATEGIA RISS, PRODUCCIÓN,COBERTURA EFECTIVA E IMPACTO SANITARIO
B9: META Nº2 | C9: META Nº3.1 | D9: META Nº5 | E9: META Nº6 | F9: META Nº7 | G9: META Nº8.1 | H9: META Nº8.2 | I9: META Nº8.3 | J9: META Nº9 | K9: META Nº10 | L9: META Nº11 | M9: META Nº12 | N9: META Nº13 | O9: META Nº14 | P9: META Nº17 | Q9: META Nº18 | R9: META Nº19 | S9: META Nº20 | T9: META Nº21 | U9: CUMPLIMIENTO GENERAL
B10: Familias Evaluadas según riesgo (*) | C10: Gestion de Reclamos APS | D10: Consultas de Morbilidad y Controles Médicos | E10: SIC derivadas desde la APS al Nivel Secundario | F10: Visita domiciliaria integral | G10: EMP hombres 20 a 64 años | H10: EMP mujeres de 45 a 64 años | I10: EMP 65 y mas años | J10: Evaluación del desarrollo Psicomotor de niños/as de 12 a 23 meses bajo control | K10: Control de salud integral adolescentes de 10 a 14 años | L10: Alta odontologica menores de 7 años a menor de 20 años | M10: Cobertura de Atención Integral de trastornos mentales en personas de 5 y más años | N10: Cobertura de Atención de Asma en Población general y EPOC en personas de 40 años y más | O10: Capacitación a Cuidadores de personas con Dependencia Severa con Pago de Estipendio (*) | P10: Control embarazada | Q10: Cobertura de Métodos Anticonceptivos en Adolescentes | R10: Cobertura DM2 en personas de 15 y mas años (*) | S10: Cobertutra HTA en personas de 15 y mas años (*) | T10: Proporción de Niñas y Niños de 3 años libre de Caries
A12: LA HIGUERA | B12: N/A | C12: =+'META 3.1'!$C$16 -> 0.67798908 | D12: =+'META 5 '!C16 -> 0.19933172 | E12: =+'META 6'!$C$16 -> 0.52075197 | F12: =+'META 7'!$C$16 -> 0.29121339 | G12: =+'META 8.1'!$C$16 -> 0.067954633 | H12: =+'META 8.2'!$C$16 -> 0.026628322 | I12: =+'META 8.3'!$C$16 -> 0.021036776 | J12: =+'META 9'!$C$16 -> 0.26004728 | K12: =+'META 10'!$C$16 -> 0 | L12: =+'META 11'!$C$16 -> 0 | M12: =+'META 12'!$C$16 -> 0.99985175 | N12: =+'META 13'!$C$16 -> 0.94827251 | O12: =+'META 14'!$C$16 -> 0 | P12: =+'META 17'!$C$16 -> 0.9495594 | Q12: =+'META 18'!$C$16 -> 0 | R12: =+'META 19'!$C$16 -> 0 | S12: =+'META 20'!$C$16 -> 0 | T12: =+'META 21'!$C$16 -> 0.023148148 | U12: =+'META 3.1'!$C$16 -> 0.67798908
A13: PAIHUANO | B13: N/A | C13: =+'META 3.1'!$C$21 -> #DIV/0! | D13: =+'META 5 '!C21 -> 0.23145447 | E13: =+'META 6'!$C$21 -> 1.9194137 | F13: =+'META 7'!$C$21 -> 0.18074308 | G13: =+'META 8.1'!$C$21 -> 0.17536476 | H13: =+'META 8.2'!$C$21 -> 0.11781165 | I13: =+'META 8.3'!$C$21 -> 0.18091599 | J13: =+'META 9'!$C$21 -> 0.24898144 | K13: =+'META 10'!$C$21 -> 0 | L13: =+'META 11'!$C$21 -> 0 | M13: =+'META 12'!$C$21 -> 0.99993828 | N13: =+'META 13'!$C$21 -> 0.44299053 | O13: =+'META 14'!$C$21 -> 0 | P13: =+'META 17'!$C$21 -> 0.7982359 | Q13: =+'META 18'!$C$21 -> 0 | R13: =+'META 19'!$C$21 -> 0 | S13: =+'META 20'!$C$21 -> 0 | T13: =+'META 21'!$C$21 -> 0.058823529 | U13: =+'META 3.1'!$C$21 -> #DIV/0!
A14: (*) Metas a Evaluar con Serie P de Junio 2018
A17: COMUNA | B17: RESUMEN DE CUMPLIMIENTO DE METAS A MARZO 2016
B19: CORTE A MARZO
B20: METAS COMPONENTE ACTIVIDAD GENERAL
B21: META Nº1 | C21: META Nº2 | D21: META Nº3 | E21: META Nº4 | F21: META Nº5 | G21: META Nº6 | H21: META Nº7 | I21: META Nº8 | J21: META Nº9 | K21: META Nº10 | L21: META Nº11 | M21: META Nº12 | N21: META Nº13
B22: EMP hombres 20 a 44 años | C22: EMP mujeres de 45 a 64 años | D22: EMP 65 y mas años | E22: Control embarazada | F22: Alta odontologica menores de 20 años | G22: Gestion de reclamos | H22: Cobertura DM2 en personas de 15 y mas años | I22: Cobertutra HTA en personas de 15 y mas años | J22: Cobertura de Evaluación del desarrollo Psicomotor de niños/as de 12 a 23 meses bajo control | K22: Visita domiciliaria integral | L22: Cobertura de Atención de Asma en Población general y EPOC en personas de 40 años y más | M22: Cobertura de Atención Integral de trastornos mentales en personas de 5 y más años | N22: Cobertura de control de salud integral a adolescentes de 10 a 14 años
A24: LA HIGUERA | B24: =IF(B12="n/a","n/a",IF(B12="","",IF(B12>1,1,B12))) -> n/a | C24: =IF(C12="n/a","n/a",IF(C12="","",IF(C12>1,1,C12))) -> 0.67798908 | D24: =IF(D12="n/a","n/a",IF(D12="","",IF(D12>1,1,D12))) -> 0.19933172 | E24: =IF(E12="n/a","n/a",IF(E12="","",IF(E12>1,1,E12))) -> 0.52075197 | F24: =IF(F12="n/a","n/a",IF(F12="","",IF(F12>1,1,F12))) -> 0.29121339 | G24: =IF(G12="n/a","n/a",IF(G12="","",IF(G12>1,1,G12))) -> 0.067954633 | H24: =IF(H12="n/a","n/a",IF(H12="","",IF(H12>1,1,H12))) -> 0.026628322 | I24: =IF(I12="n/a","n/a",IF(I12="","",IF(I12>1,1,I12))) -> 0.021036776 | ... N24: =IF(N12="n/a","n/a",IF(N12="","",IF(N12>1,1,N12))) -> 0.94827251
A25: PAIHUANO | B25: =IF(B13="n/a","n/a",IF(B13="","",IF(B13>1,1,B13))) -> n/a | C25: =IF(C13="n/a","n/a",IF(C13="","",IF(C13>1,1,C13))) -> #DIV/0! | D25: =IF(D13="n/a","n/a",IF(D13="","",IF(D13>1,1,D13))) -> 0.23145447 | E25: =IF(E13="n/a","n/a",IF(E13="","",IF(E13>1,1,E13))) -> 1 | F25: =IF(F13="n/a","n/a",IF(F13="","",IF(F13>1,1,F13))) -> 0.18074308 | G25: =IF(G13="n/a","n/a",IF(G13="","",IF(G13>1,1,G13))) -> 0.17536476 | H25: =IF(H13="n/a","n/a",IF(H13="","",IF(H13>1,1,H13))) -> 0.11781165 | I25: =IF(I13="n/a","n/a",IF(I13="","",IF(I13>1,1,I13))) -> 0.18091599 | ... N25: =IF(N13="n/a","n/a",IF(N13="","",IF(N13>1,1,N13))) -> 0.44299053

Sheet META 2
A1: COMUNA | B1: ESTABLECIMIENTO | C1: CUMPLIMIENTO | D1: Indicador | E1: META 2 : FAMILIAS EVALUADAS SEGÚN RIESGO FAMILIAR
E2: NUMERADOR | G2: DENOMINADOR
E10: Nº de familias evaluadas según riesgo familiar | G10: Total de familias Insciritas (población estimada/3,3)
D11: Resultado | E11: A JUNIO | F11: A DICBRE
A12: 04104-LA HIGUERA | B12: 105314-CES. LA HIGUERA
A13: 04104-LA HIGUERA | B13: 105500-P.S.R. CALETA HORNOS
A14: 04104-LA HIGUERA | B14: 105505-P.S.R. LOS CHOROS
A15: 04104-LA HIGUERA | B15: 105506-P.S.R. EL TRAPICHE
A16: TOTAL LA HIGUERA | D16: =+E16/G16 -> 0 | E16: =SUM(E12:E15) -> 0 | F16: =SUM(F12:F15) -> 0 | G16: 1195
A17: 04105-PAIHUANO | B17: 105306-CES. PAIHUANO
A18: 04105-PAIHUANO | B18: 105475-P.S.R. HORCON
A19: 04105-PAIHUANO | B19: 105476-P.S.R. MONTE GRANDE
A20: 04105-PAIHUANO | B20: 105477-P.S.R. PISCO ELQUI
A21: TOTAL PAIHUANO | D21: =+E21/G21 -> 0 | E21: =SUM(E17:E20) -> 0 | F21: =SUM(F17:F20) -> 0 | G21: 1416
B22: TOTAL

Sheet META 3.1
A1: COMUNA | B1: ESTABLECIMIENTO | C1: CUMPLIMIENTO | D1: Indicador | E1: META 3.1: GESTION DE RECLAMOS EN APS
E2: NUMERADOR | R2: DENOMINADOR
E10: Nº total de reclamos respondidos con solución dentro de los plazos legales establecidos (15 días hábiles) | R10: Nº total de reclamos
D11: Resultado | E11: ENERO | F11: FEBRERO | G11: MARZO | H11: ABRIL | I11: MAYO | J11: JUNIO | K11: JULIO | L11: AGOSTO | M11: SEPBRE | N11: OCTBRE | O11: NOVBRE | P11: DICBRE | Q11: TOTAL | R11: ENERO | S11: FEBRERO | T11: MARZO | U11: ABRIL | V11: MAYO | W11: JUNIO | X11: JULIO | Y11: AGOSTO | Z11: SEPBRE | AA11: OCTBRE | AB11: NOVBRE | AC11: DICBRE | AD11: TOTAL
A12: 04104-LA HIGUERA | B12: 105314-CES. LA HIGUERA | E12: =IFERROR(VLOOKUP(B12,'[1]NUM3.1'!$H$3:$L$72,2,FALSE),0) -> 0 | F12: =IFERROR(VLOOKUP(B12,'[1]NUM3.1'!$H$3:$L$72,3,FALSE),0) -> 1 | G12: =IFERROR(VLOOKUP(B12,'[1]NUM3.1'!$H$3:$L$72,4,FALSE),0) -> 0 | Q12: =SUM(E12:P12) -> 1 | R12: =IFERROR(VLOOKUP(B12,'[1]DEN3.1'!$H$3:$L$72,2,FALSE),0) -> 0 | S12: =IFERROR(VLOOKUP(B12,'[1]DEN3.1'!$H$3:$L$72,3,FALSE),0) -> 1 | T12: =IFERROR(VLOOKUP(B12,'[1]DEN3.1'!$H$3:$L$72,4,FALSE),0) -> 0 | AD12: =SUM(R12:AC12) -> 1
A13: 04104-LA HIGUERA | B13: 105500-P.S.R. CALETA HORNOS | E13: =IFERROR(VLOOKUP(B13,'[1]NUM3.1'!$H$3:$L$72,2,FALSE),0) -> 0 | F13: =IFERROR(VLOOKUP(B13,'[1]NUM3.1'!$H$3:$L$72,3,FALSE),0) -> 0 | G13: =IFERROR(VLOOKUP(B13,'[1]NUM3.1'!$H$3:$L$72,4,FALSE),0) -> 0 | Q13: =SUM(E13:P13) -> 0 | R13: =IFERROR(VLOOKUP(B13,'[1]DEN3.1'!$H$3:$L$72,2,FALSE),0) -> 0 | S13: =IFERROR(VLOOKUP(B13,'[1]DEN3.1'!$H$3:$L$72,3,FALSE),0) -> 2 | T13: =IFERROR(VLOOKUP(B13,'[1]DEN3.1'!$H$3:$L$72,4,FALSE),0) -> 0 | AD13: =SUM(R13:AC13) -> 2
A14: 04104-LA HIGUERA | B14: 105505-P.S.R. LOS CHOROS | E14: =IFERROR(VLOOKUP(B14,'[1]NUM3.1'!$H$3:$L$72,2,FALSE),0) -> 0 | F14: =IFERROR(VLOOKUP(B14,'[1]NUM3.1'!$H$3:$L$72,3,FALSE),0) -> 3 | G14: =IFERROR(VLOOKUP(B14,'[1]NUM3.1'!$H$3:$L$72,4,FALSE),0) -> 0 | Q14: =SUM(E14:P14) -> 3 | R14: =IFERROR(VLOOKUP(B14,'[1]DEN3.1'!$H$3:$L$72,2,FALSE),0) -> 0 | S14: =IFERROR(VLOOKUP(B14,'[1]DEN3.1'!$H$3:$L$72,3,FALSE),0) -> 3 | T14: =IFERROR(VLOOKUP(B14,'[1]DEN3.1'!$H$3:$L$72,4,FALSE),0) -> 0 | AD14: =SUM(R14:AC14) -> 3
A15: 04104-LA HIGUERA | B15: 105506-P.S.R. EL TRAPICHE | E15: =IFERROR(VLOOKUP(B15,'[1]NUM3.1'!$H$3:$L$72,2,FALSE),0) -> 0 | F15: =IFERROR(VLOOKUP(B15,'[1]NUM3.1'!$H$3:$L$72,3,FALSE),0) -> 0 | G15: =IFERROR(VLOOKUP(B15,'[1]NUM3.1'!$H$3:$L$72,4,FALSE),0) -> 0 | Q15: =SUM(E15:P15) -> 0 | R15: =IFERROR(VLOOKUP(B15,'[1]DEN3.1'!$H$3:$L$72,2,FALSE),0) -> 0 | S15: =IFERROR(VLOOKUP(B15,'[1]DEN3.1'!$H$3:$L$72,3,FALSE),0) -> 0 | T15: =IFERROR(VLOOKUP(B15,'[1]DEN3.1'!$H$3:$L$72,4,FALSE),0) -> 0 | AD15: =SUM(R15:AC15) -> 0
A16: TOTAL LA HIGUERA | C16: =+D16/Metas!H7 -> 0.67798908 | D16: =+Q16/AD16 -> 0.66666667 | E16: =SUM(E12:E15) -> 0 | F16: =SUM(F12:F15) -> 4 | G16: =SUM(G12:G15) -> 0 | H16: =SUM(H12:H15) -> 0 | I16: =SUM(I12:I15) -> 0 | J16: =SUM(J12:J15) -> 0 | K16: =SUM(K12:K15) -> 0 | L16: =SUM(L12:L15) -> 0 | ... AD16: =SUM(AD12:AD15) -> 6
A17: 04105-PAIHUANO | B17: 105306-CES. PAIHUANO | E17: =IFERROR(VLOOKUP(B17,'[1]NUM3.1'!$H$3:$L$72,2,FALSE),0) -> 0 | F17: =IFERROR(VLOOKUP(B17,'[1]NUM3.1'!$H$3:$L$72,3,FALSE),0) -> 0 | G17: =IFERROR(VLOOKUP(B17,'[1]NUM3.1'!$H$3:$L$72,4,FALSE),0) -> 0 | Q17: =SUM(E17:P17) -> 0 | R17: =IFERROR(VLOOKUP(B17,'[1]DEN3.1'!$H$3:$L$72,2,FALSE),0) -> 0 | S17: =IFERROR(VLOOKUP(B17,'[1]DEN3.1'!$H$3:$L$72,3,FALSE),0) -> 0 | T17: =IFERROR(VLOOKUP(B17,'[1]DEN3.1'!$H$3:$L$72,4,FALSE),0) -> 0 | AD17: =SUM(R17:AC17) -> 0
A18: 04105-PAIHUANO | B18: 105475-P.S.R. HORCON | E18: =IFERROR(VLOOKUP(B18,'[1]NUM3.1'!$H$3:$L$72,2,FALSE),0) -> 0 | F18: =IFERROR(VLOOKUP(B18,'[1]NUM3.1'!$H$3:$L$72,3,FALSE),0) -> 0 | G18: =IFERROR(VLOOKUP(B18,'[1]NUM3.1'!$H$3:$L$72,4,FALSE),0) -> 0 | Q18: =SUM(E18:P18) -> 0 | R18: =IFERROR(VLOOKUP(B18,'[1]DEN3.1'!$H$3:$L$72,2,FALSE),0) -> 0 | S18: =IFERROR(VLOOKUP(B18,'[1]DEN3.1'!$H$3:$L$72,3,FALSE),0) -> 0 | T18: =IFERROR(VLOOKUP(B18,'[1]DEN3.1'!$H$3:$L$72,4,FALSE),0) -> 0 | AD18: =SUM(R18:AC18) -> 0
A19: 04105-PAIHUANO | B19: 105476-P.S.R. MONTE GRANDE | E19: =IFERROR(VLOOKUP(B19,'[1]NUM3.1'!$H$3:$L$72,2,FALSE),0) -> 0 | F19: =IFERROR(VLOOKUP(B19,'[1]NUM3.1'!$H$3:$L$72,3,FALSE),0) -> 0 | G19: =IFERROR(VLOOKUP(B19,'[1]NUM3.1'!$H$3:$L$72,4,FALSE),0) -> 0 | Q19: =SUM(E19:P19) -> 0 | R19: =IFERROR(VLOOKUP(B19,'[1]DEN3.1'!$H$3:$L$72,2,FALSE),0) -> 0 | S19: =IFERROR(VLOOKUP(B19,'[1]DEN3.1'!$H$3:$L$72,3,FALSE),0) -> 0 | T19: =IFERROR(VLOOKUP(B19,'[1]DEN3.1'!$H$3:$L$72,4,FALSE),0) -> 0 | AD19: =SUM(R19:AC19) -> 0
A20: 04105-PAIHUANO | B20: 105477-P.S.R. PISCO ELQUI | E20: =IFERROR(VLOOKUP(B20,'[1]NUM3.1'!$H$3:$L$72,2,FALSE),0) -> 0 | F20: =IFERROR(VLOOKUP(B20,'[1]NUM3.1'!$H$3:$L$72,3,FALSE),0) -> 0 | G20: =IFERROR(VLOOKUP(B20,'[1]NUM3.1'!$H$3:$L$72,4,FALSE),0) -> 0 | Q20: =SUM(E20:P20) -> 0 | R20: =IFERROR(VLOOKUP(B20,'[1]DEN3.1'!$H$3:$L$72,2,FALSE),0) -> 0 | S20: =IFERROR(VLOOKUP(B20,'[1]DEN3.1'!$H$3:$L$72,3,FALSE),0) -> 0 | T20: =IFERROR(VLOOKUP(B20,'[1]DEN3.1'!$H$3:$L$72,4,FALSE),0) -> 0 | AD20: =SUM(R20:AC20) -> 0
A21: TOTAL PAIHUANO | C21: =+D21/Metas!H6 -> #DIV/0! | D21: =+Q21/AD21 -> #DIV/0! | E21: =SUM(E17:E20) -> 0 | F21: =SUM(F17:F20) -> 0 | G21: =SUM(G17:G20) -> 0 | H21: =SUM(H17:H20) -> 0 | I21: =SUM(I17:I20) -> 0 | J21: =SUM(J17:J20) -> 0 | K21: =SUM(K17:K20) -> 0 | L21: =SUM(L17:L20) -> 0 | ... AD21: =SUM(AD17:AD20) -> 0
B22: TOTAL

Sheet META 5 
A1: COMUNA | B1: ESTABLECIMIENTO | C1: CUMPLIMIENTO | D1: Indicador | E1: META 5: TASA DE CONSULTAS DE MORBILIDAD Y CONTROLES MEDICOS POR HABITANTE/AÑO
E2: NUMERADOR | R2: DENOMINADOR
E10: Nº de consultas de morbilidad y controles médicos realizadas | R10: Población Estimada
D11: Resultado | E11: ENERO | F11: FEBRERO | G11: MARZO | H11: ABRIL | I11: MAYO | J11: JUNIO | K11: JULIO | L11: AGOSTO | M11: SEPBRE | N11: OCTBRE | O11: NOVBRE | P11: DICBRE | Q11: TOTAL
A12: 04104-LA HIGUERA | B12: 105314-CES. LA HIGUERA | E12: =IFERROR(VLOOKUP(B12,[1]NUM5!$H$3:$L$165,2,FALSE),0) -> 175 | F12: =IFERROR(VLOOKUP(B12,[1]NUM5!$H$3:$L$165,3,FALSE),0) -> 102 | G12: =IFERROR(VLOOKUP(B12,[1]NUM5!$H$3:$L$165,4,FALSE),0) -> 150 | Q12: =SUM(E12:P12) -> 427
A13: 04104-LA HIGUERA | B13: 105500-P.S.R. CALETA HORNOS | E13: =IFERROR(VLOOKUP(B13,[1]NUM5!$H$3:$L$165,2,FALSE),0) -> 57 | F13: =IFERROR(VLOOKUP(B13,[1]NUM5!$H$3:$L$165,3,FALSE),0) -> 53 | G13: =IFERROR(VLOOKUP(B13,[1]NUM5!$H$3:$L$165,4,FALSE),0) -> 51 | Q13: =SUM(E13:P13) -> 161
A14: 04104-LA HIGUERA | B14: 105505-P.S.R. LOS CHOROS | E14: =IFERROR(VLOOKUP(B14,[1]NUM5!$H$3:$L$165,2,FALSE),0) -> 67 | F14: =IFERROR(VLOOKUP(B14,[1]NUM5!$H$3:$L$165,3,FALSE),0) -> 55 | G14: =IFERROR(VLOOKUP(B14,[1]NUM5!$H$3:$L$165,4,FALSE),0) -> 31 | Q14: =SUM(E14:P14) -> 153
A15: 04104-LA HIGUERA | B15: 105506-P.S.R. EL TRAPICHE | E15: =IFERROR(VLOOKUP(B15,[1]NUM5!$H$3:$L$165,2,FALSE),0) -> 41 | F15: =IFERROR(VLOOKUP(B15,[1]NUM5!$H$3:$L$165,3,FALSE),0) -> 41 | G15: =IFERROR(VLOOKUP(B15,[1]NUM5!$H$3:$L$165,4,FALSE),0) -> 42 | Q15: =SUM(E15:P15) -> 124
A16: TOTAL LA HIGUERA | C16: =+D16/Metas!I7 -> 0.19933172 | D16: =+Q16/R16 -> 0.21926489 | E16: =SUM(E12:E15) -> 340 | F16: =SUM(F12:F15) -> 251 | G16: =SUM(G12:G15) -> 274 | H16: =SUM(H12:H15) -> 0 | I16: =SUM(I12:I15) -> 0 | J16: =SUM(J12:J15) -> 0 | K16: =SUM(K12:K15) -> 0 | L16: =SUM(L12:L15) -> 0 | ... Q16: =SUM(Q12:Q15) -> 865 | R16: 3945
A17: 04105-PAIHUANO | B17: 105306-CES. PAIHUANO | E17: =IFERROR(VLOOKUP(B17,[1]NUM5!$H$3:$L$165,2,FALSE),0) -> 315 | F17: =IFERROR(VLOOKUP(B17,[1]NUM5!$H$3:$L$165,3,FALSE),0) -> 325 | G17: =IFERROR(VLOOKUP(B17,[1]NUM5!$H$3:$L$165,4,FALSE),0) -> 274 | Q17: =SUM(E17:P17) -> 914
A18: 04105-PAIHUANO | B18: 105475-P.S.R. HORCON | E18: =IFERROR(VLOOKUP(B18,[1]NUM5!$H$3:$L$165,2,FALSE),0) -> 32 | F18: =IFERROR(VLOOKUP(B18,[1]NUM5!$H$3:$L$165,3,FALSE),0) -> 45 | G18: =IFERROR(VLOOKUP(B18,[1]NUM5!$H$3:$L$165,4,FALSE),0) -> 43 | Q18: =SUM(E18:P18) -> 120
A19: 04105-PAIHUANO | B19: 105476-P.S.R. MONTE GRANDE | E19: =IFERROR(VLOOKUP(B19,[1]NUM5!$H$3:$L$165,2,FALSE),0) -> 40 | F19: =IFERROR(VLOOKUP(B19,[1]NUM5!$H$3:$L$165,3,FALSE),0) -> 36 | G19: =IFERROR(VLOOKUP(B19,[1]NUM5!$H$3:$L$165,4,FALSE),0) -> 20 | Q19: =SUM(E19:P19) -> 96
A20: 04105-PAIHUANO | B20: 105477-P.S.R. PISCO ELQUI | E20: =IFERROR(VLOOKUP(B20,[1]NUM5!$H$3:$L$165,2,FALSE),0) -> 72 | F20: =IFERROR(VLOOKUP(B20,[1]NUM5!$H$3:$L$165,3,FALSE),0) -> 76 | G20: =IFERROR(VLOOKUP(B20,[1]NUM5!$H$3:$L$165,4,FALSE),0) -> 31 | Q20: =SUM(E20:P20) -> 179
A21: TOTAL PAIHUANO | C21: =+D21/Metas!I6 -> 0.23145447 | D21: =+Q21/R21 -> 0.28005991 | E21: =SUM(E17:E20) -> 459 | F21: =SUM(F17:F20) -> 482 | G21: =SUM(G17:G20) -> 368 | H21: =SUM(H17:H20) -> 0 | I21: =SUM(I17:I20) -> 0 | J21: =SUM(J17:J20) -> 0 | K21: =SUM(K17:K20) -> 0 | L21: =SUM(L17:L20) -> 0 | ... Q21: =SUM(Q17:Q20) -> 1309 | R21: 4674
B22: TOTAL

Sheet META 6
A1: COMUNA | B1: ESTABLECIMIENTO | C1: CUMPLIMIENTO | D1: Indicador | E1: META 6: SOLICITUDES DE INTERCONSULTAS A ESPECIALIDAD NIVEL SECUNDARIO DESDE LA APS
E2: NUMERADOR | R2: DENOMINADOR
E10: Nº de SIC a especialidad médica en el nivel secundario | R10: N° Total de Consultas y Controles Médicos en APS
D11: Resultado | E11: ENERO | F11: FEBRERO | G11: MARZO | H11: ABRIL | I11: MAYO | J11: JUNIO | K11: JULIO | L11: AGOSTO | M11: SEPBRE | N11: OCTBRE | O11: NOVBRE | P11: DICBRE | Q11: TOTAL | R11: ENERO | S11: FEBRERO | T11: MARZO | U11: ABRIL | V11: MAYO | W11: JUNIO | X11: JULIO | Y11: AGOSTO | Z11: SEPBRE | AA11: OCTBRE | AB11: NOVBRE | AC11: DICBRE | AD11: TOTAL
A12: 04104-LA HIGUERA | B12: 105314-CES. LA HIGUERA | E12: =IFERROR(VLOOKUP(B12,[1]NUM6!$H$3:$L$136,2,FALSE),0) -> 29 | F12: =IFERROR(VLOOKUP(B12,[1]NUM6!$H$3:$L$136,3,FALSE),0) -> 0 | G12: =IFERROR(VLOOKUP(B12,[1]NUM6!$H$3:$L$136,4,FALSE),0) -> 16 | Q12: =SUM(E12:P12) -> 45 | R12: =IFERROR(VLOOKUP(B12,[1]DEN6!$H$3:$L$165,2,FALSE),0) -> 175 | S12: =IFERROR(VLOOKUP(B12,[1]DEN6!$H$3:$L$165,3,FALSE),0) -> 102 | T12: =IFERROR(VLOOKUP(B12,[1]DEN6!$H$3:$L$165,4,FALSE),0) -> 150 | AD12: =SUM(R12:AC12) -> 427
A13: 04104-LA HIGUERA | B13: 105500-P.S.R. CALETA HORNOS | E13: =IFERROR(VLOOKUP(B13,[1]NUM6!$H$3:$L$136,2,FALSE),0) -> 0 | F13: =IFERROR(VLOOKUP(B13,[1]NUM6!$H$3:$L$136,3,FALSE),0) -> 0 | G13: =IFERROR(VLOOKUP(B13,[1]NUM6!$H$3:$L$136,4,FALSE),0) -> 0 | Q13: =SUM(E13:P13) -> 0 | R13: =IFERROR(VLOOKUP(B13,[1]DEN6!$H$3:$L$165,2,FALSE),0) -> 57 | S13: =IFERROR(VLOOKUP(B13,[1]DEN6!$H$3:$L$165,3,FALSE),0) -> 53 | T13: =IFERROR(VLOOKUP(B13,[1]DEN6!$H$3:$L$165,4,FALSE),0) -> 51 | AD13: =SUM(R13:AC13) -> 161
A14: 04104-LA HIGUERA | B14: 105505-P.S.R. LOS CHOROS | E14: =IFERROR(VLOOKUP(B14,[1]NUM6!$H$3:$L$136,2,FALSE),0) -> 0 | F14: =IFERROR(VLOOKUP(B14,[1]NUM6!$H$3:$L$136,3,FALSE),0) -> 0 | G14: =IFERROR(VLOOKUP(B14,[1]NUM6!$H$3:$L$136,4,FALSE),0) -> 0 | Q14: =SUM(E14:P14) -> 0 | R14: =IFERROR(VLOOKUP(B14,[1]DEN6!$H$3:$L$165,2,FALSE),0) -> 67 | S14: =IFERROR(VLOOKUP(B14,[1]DEN6!$H$3:$L$165,3,FALSE),0) -> 55 | T14: =IFERROR(VLOOKUP(B14,[1]DEN6!$H$3:$L$165,4,FALSE),0) -> 31 | AD14: =SUM(R14:AC14) -> 153
A15: 04104-LA HIGUERA | B15: 105506-P.S.R. EL TRAPICHE | E15: =IFERROR(VLOOKUP(B15,[1]NUM6!$H$3:$L$136,2,FALSE),0) -> 0 | F15: =IFERROR(VLOOKUP(B15,[1]NUM6!$H$3:$L$136,3,FALSE),0) -> 0 | G15: =IFERROR(VLOOKUP(B15,[1]NUM6!$H$3:$L$136,4,FALSE),0) -> 0 | Q15: =SUM(E15:P15) -> 0 | R15: =IFERROR(VLOOKUP(B15,[1]DEN6!$H$3:$L$165,2,FALSE),0) -> 41 | S15: =IFERROR(VLOOKUP(B15,[1]DEN6!$H$3:$L$165,3,FALSE),0) -> 41 | T15: =IFERROR(VLOOKUP(B15,[1]DEN6!$H$3:$L$165,4,FALSE),0) -> 42 | AD15: =SUM(R15:AC15) -> 124
A16: TOTAL LA HIGUERA | C16: =D16/Metas!J6 -> 0.52075197 | D16: =+Q16/AD16 -> 0.052023121 | E16: =SUM(E12:E15) -> 29 | F16: =SUM(F12:F15) -> 0 | G16: =SUM(G12:G15) -> 16 | H16: =SUM(H12:H15) -> 0 | I16: =SUM(I12:I15) -> 0 | J16: =SUM(J12:J15) -> 0 | K16: =SUM(K12:K15) -> 0 | L16: =SUM(L12:L15) -> 0 | ... AD16: =SUM(AD12:AD15) -> 865
A17: 04105-PAIHUANO | B17: 105306-CES. PAIHUANO | E17: =IFERROR(VLOOKUP(B17,[1]NUM6!$H$3:$L$136,2,FALSE),0) -> 94 | F17: =IFERROR(VLOOKUP(B17,[1]NUM6!$H$3:$L$136,3,FALSE),0) -> 94 | G17: =IFERROR(VLOOKUP(B17,[1]NUM6!$H$3:$L$136,4,FALSE),0) -> 63 | Q17: =SUM(E17:P17) -> 251 | R17: =IFERROR(VLOOKUP(B17,[1]DEN6!$H$3:$L$165,2,FALSE),0) -> 315 | S17: =IFERROR(VLOOKUP(B17,[1]DEN6!$H$3:$L$165,3,FALSE),0) -> 325 | T17: =IFERROR(VLOOKUP(B17,[1]DEN6!$H$3:$L$165,4,FALSE),0) -> 274 | AD17: =SUM(R17:AC17) -> 914
A18: 04105-PAIHUANO | B18: 105475-P.S.R. HORCON | E18: =IFERROR(VLOOKUP(B18,[1]NUM6!$H$3:$L$136,2,FALSE),0) -> 0 | F18: =IFERROR(VLOOKUP(B18,[1]NUM6!$H$3:$L$136,3,FALSE),0) -> 0 | G18: =IFERROR(VLOOKUP(B18,[1]NUM6!$H$3:$L$136,4,FALSE),0) -> 0 | Q18: =SUM(E18:P18) -> 0 | R18: =IFERROR(VLOOKUP(B18,[1]DEN6!$H$3:$L$165,2,FALSE),0) -> 32 | S18: =IFERROR(VLOOKUP(B18,[1]DEN6!$H$3:$L$165,3,FALSE),0) -> 45 | T18: =IFERROR(VLOOKUP(B18,[1]DEN6!$H$3:$L$165,4,FALSE),0) -> 43 | AD18: =SUM(R18:AC18) -> 120
A19: 04105-PAIHUANO | B19: 105476-P.S.R. MONTE GRANDE | E19: =IFERROR(VLOOKUP(B19,[1]NUM6!$H$3:$L$136,2,FALSE),0) -> 0 | F19: =IFERROR(VLOOKUP(B19,[1]NUM6!$H$3:$L$136,3,FALSE),0) -> 0 | G19: =IFERROR(VLOOKUP(B19,[1]NUM6!$H$3:$L$136,4,FALSE),0) -> 0 | Q19: =SUM(E19:P19) -> 0 | R19: =IFERROR(VLOOKUP(B19,[1]DEN6!$H$3:$L$165,2,FALSE),0) -> 40 | S19: =IFERROR(VLOOKUP(B19,[1]DEN6!$H$3:$L$165,3,FALSE),0) -> 36 | T19: =IFERROR(VLOOKUP(B19,[1]DEN6!$H$3:$L$165,4,FALSE),0) -> 20 | AD19: =SUM(R19:AC19) -> 96
A20: 04105-PAIHUANO | B20: 105477-P.S.R. PISCO ELQUI | E20: =IFERROR(VLOOKUP(B20,[1]NUM6!$H$3:$L$136,2,FALSE),0) -> 0 | F20: =IFERROR(VLOOKUP(B20,[1]NUM6!$H$3:$L$136,3,FALSE),0) -> 0 | G20: =IFERROR(VLOOKUP(B20,[1]NUM6!$H$3:$L$136,4,FALSE),0) -> 0 | Q20: =SUM(E20:P20) -> 0 | R20: =IFERROR(VLOOKUP(B20,[1]DEN6!$H$3:$L$165,2,FALSE),0) -> 72 | S20: =IFERROR(VLOOKUP(B20,[1]DEN6!$H$3:$L$165,3,FALSE),0) -> 76 | T20: =IFERROR(VLOOKUP(B20,[1]DEN6!$H$3:$L$165,4,FALSE),0) -> 31 | AD20: =SUM(R20:AC20) -> 179
A21: TOTAL PAIHUANO | C21: =D21/Metas!J6 -> 1.9194137 | D21: =+Q21/AD21 -> 0.19174943 | E21: =SUM(E17:E20) -> 94 | F21: =SUM(F17:F20) -> 94 | G21: =SUM(G17:G20) -> 63 | H21: =SUM(H17:H20) -> 0 | I21: =SUM(I17:I20) -> 0 | J21: =SUM(J17:J20) -> 0 | K21: =SUM(K17:K20) -> 0 | L21: =SUM(L17:L20) -> 0 | ... AD21: =SUM(AD17:AD20) -> 1309
B22: TOTAL

Sheet META 7
A1: COMUNA | B1: ESTABLECIMIENTO | C1: CUMPLIMIENTO | D1: Indicador | E1: META 7: TASA DE VISITA DOMICILIARIA INTEGRAL
E2: NUMERADOR | R2: DENOMINADOR
E10: Nº de visitas domiciliarias integrales realizadas | R10: Nº de familias (población estimada / 3,3)
D11: Resultado | E11: ENERO | F11: FEBRERO | G11: MARZO | H11: ABRIL | I11: MAYO | J11: JUNIO | K11: JULIO | L11: AGOSTO | M11: SEPBRE | N11: OCTBRE | O11: NOVBRE | P11: DICBRE | Q11: TOTAL
A12: 04104-LA HIGUERA | B12: 105314-CES. LA HIGUERA | E12: =IFERROR(VLOOKUP(B12,[1]NUM7!$H$3:$L$149,2,FALSE),0) -> 2 | F12: =IFERROR(VLOOKUP(B12,[1]NUM7!$H$3:$L$149,3,FALSE),0) -> 8 | G12: =IFERROR(VLOOKUP(B12,[1]NUM7!$H$3:$L$149,4,FALSE),0) -> 6 | Q12: =SUM(E12:P12) -> 16
A13: 04104-LA HIGUERA | B13: 105500-P.S.R. CALETA HORNOS | E13: =IFERROR(VLOOKUP(B13,[1]NUM7!$H$3:$L$149,2,FALSE),0) -> 1 | F13: =IFERROR(VLOOKUP(B13,[1]NUM7!$H$3:$L$149,3,FALSE),0) -> 10 | G13: =IFERROR(VLOOKUP(B13,[1]NUM7!$H$3:$L$149,4,FALSE),0) -> 6 | Q13: =SUM(E13:P13) -> 17
A14: 04104-LA HIGUERA | B14: 105505-P.S.R. LOS CHOROS | E14: =IFERROR(VLOOKUP(B14,[1]NUM7!$H$3:$L$149,2,FALSE),0) -> 8 | F14: =IFERROR(VLOOKUP(B14,[1]NUM7!$H$3:$L$149,3,FALSE),0) -> 9 | G14: =IFERROR(VLOOKUP(B14,[1]NUM7!$H$3:$L$149,4,FALSE),0) -> 7 | Q14: =SUM(E14:P14) -> 24
A15: 04104-LA HIGUERA | B15: 105506-P.S.R. EL TRAPICHE | E15: =IFERROR(VLOOKUP(B15,[1]NUM7!$H$3:$L$149,2,FALSE),0) -> 8 | F15: =IFERROR(VLOOKUP(B15,[1]NUM7!$H$3:$L$149,3,FALSE),0) -> 10 | G15: =IFERROR(VLOOKUP(B15,[1]NUM7!$H$3:$L$149,4,FALSE),0) -> 12 | Q15: =SUM(E15:P15) -> 30
A16: TOTAL LA HIGUERA | C16: =+D16/Metas!K7 -> 0.29121339 | D16: =+Q16/R16 -> 0.072803347 | E16: =SUM(E12:E15) -> 19 | F16: =SUM(F12:F15) -> 37 | G16: =SUM(G12:G15) -> 31 | H16: =SUM(H12:H15) -> 0 | I16: =SUM(I12:I15) -> 0 | J16: =SUM(J12:J15) -> 0 | K16: =SUM(K12:K15) -> 0 | L16: =SUM(L12:L15) -> 0 | ... Q16: =SUM(Q12:Q15) -> 87 | R16: 1195
A17: 04105-PAIHUANO | B17: 105306-CES. PAIHUANO | E17: =IFERROR(VLOOKUP(B17,[1]NUM7!$H$3:$L$149,2,FALSE),0) -> 36 | F17: =IFERROR(VLOOKUP(B17,[1]NUM7!$H$3:$L$149,3,FALSE),0) -> 23 | G17: =IFERROR(VLOOKUP(B17,[1]NUM7!$H$3:$L$149,4,FALSE),0) -> 29 | Q17: =SUM(E17:P17) -> 88
A18: 04105-PAIHUANO | B18: 105475-P.S.R. HORCON | E18: =IFERROR(VLOOKUP(B18,[1]NUM7!$H$3:$L$149,2,FALSE),0) -> 3 | F18: =IFERROR(VLOOKUP(B18,[1]NUM7!$H$3:$L$149,3,FALSE),0) -> 1 | G18: =IFERROR(VLOOKUP(B18,[1]NUM7!$H$3:$L$149,4,FALSE),0) -> 3 | Q18: =SUM(E18:P18) -> 7
A19: 04105-PAIHUANO | B19: 105476-P.S.R. MONTE GRANDE | E19: =IFERROR(VLOOKUP(B19,[1]NUM7!$H$3:$L$149,2,FALSE),0) -> 2 | F19: =IFERROR(VLOOKUP(B19,[1]NUM7!$H$3:$L$149,3,FALSE),0) -> 5 | G19: =IFERROR(VLOOKUP(B19,[1]NUM7!$H$3:$L$149,4,FALSE),0) -> 6 | Q19: =SUM(E19:P19) -> 13
A20: 04105-PAIHUANO | B20: 105477-P.S.R. PISCO ELQUI | E20: =IFERROR(VLOOKUP(B20,[1]NUM7!$H$3:$L$149,2,FALSE),0) -> 6 | F20: =IFERROR(VLOOKUP(B20,[1]NUM7!$H$3:$L$149,3,FALSE),0) -> 13 | G20: =IFERROR(VLOOKUP(B20,[1]NUM7!$H$3:$L$149,4,FALSE),0) -> 24 | Q20: =SUM(E20:P20) -> 43
A21: TOTAL PAIHUANO | C21: =+D21/Metas!K6 -> 0.18074308 | D21: =+Q21/R21 -> 0.10663842 | E21: =SUM(E17:E20) -> 47 | F21: =SUM(F17:F20) -> 42 | G21: =SUM(G17:G20) -> 62 | H21: =SUM(H17:H20) -> 0 | I21: =SUM(I17:I20) -> 0 | J21: =SUM(J17:J20) -> 0 | K21: =SUM(K17:K20) -> 0 | L21: =SUM(L17:L20) -> 0 | ... Q21: =SUM(Q17:Q20) -> 151 | R21: 1416
B22: TOTAL

Sheet META 8.1
A1: COMUNA | B1: ESTABLECIMIENTO | C1: CUMPLIMIENTO | D1: Indicador | E1: META 8.1: COBERTURA EXAMEN DE MEDICINA PREVENTIVA (EMP), EN HOMBRES DE 20 A 64 AÑOS
E2: NUMERADOR | R2: DENOMINADOR
E10: Nº Examen de Medicina Preventiva (EMP) realizado en población masculina de 20 a 64 años | R10: Población masculina de 20 a 64 años estimada, menos población bajo control en Programa Salud Cardiovascular | S10: Población masculina de 20 a 64 años bajo control en programa de salud cardiovascular | Y10: Población masculina de 20 a 64 años estimada | Z10: Ingresos de población masculina al PSCV de 20 y 64 años | AM10: Egresos de población masculina al PSCV de 20 y 64 años
D11: Resultado | E11: ENERO | F11: FEBRERO | G11: MARZO | H11: ABRIL | I11: MAYO | J11: JUNIO | K11: JULIO | L11: AGOSTO | M11: SEPBRE | N11: OCTBRE | O11: NOVBRE | P11: DICBRE | Q11: TOTAL | S11: A DIC 2017 | T11: A ABRIL | U11: A JUNIO | V11: A JULIO | W11: A OCTBRE | X11: A DICBRE | Y11: AÑO 2017 | Z11: ENERO | AA11: FEBRERO | AB11: MARZO | AC11: ABRIL | AD11: MAYO | AE11: JUNIO | AF11: JULIO | AG11: AGOSTO | AH11: SEPBRE | AI11: OCTBRE | AJ11: NOVBRE | AK11: DICBRE | AL11: TOTAL | AM11: ENERO | AN11: FEBRERO | AO11: MARZO | AP11: ABRIL | AQ11: MAYO | AR11: JUNIO | AS11: JULIO | AT11: AGOSTO | AU11: SEPBRE | AV11: OCTBRE | AW11: NOVBRE | AX11: DICBRE | AY11: TOTAL
A12: 04104-LA HIGUERA | B12: 105314-CES. LA HIGUERA | E12: =IFERROR(VLOOKUP(B12,'[1]NUM8.1'!$H$3:$L$156,2,FALSE),0) -> 0 | F12: =IFERROR(VLOOKUP(B12,'[1]NUM8.1'!$H$3:$L$156,3,FALSE),0) -> 0 | G12: =IFERROR(VLOOKUP(B12,'[1]NUM8.1'!$H$3:$L$156,4,FALSE),0) -> 0 | Q12: =SUM(E12:P12) -> 0 | S12: =IFERROR(VLOOKUP(B12,'[2]DEN8.1'!$H$3:$K$162,3,FALSE),0) -> 32 | T12: =+S12+(Z12+AA12+AB12+AC12)-(AM12+AN12+AO12+AP12) -> 35 | V12: =+U12+(AF12)-(AS12) -> 0 | W12: =+U12+(AF12+AG12+AH12+AI12)-(AS12+AT12+AU12+AV12) -> 0 | Z12: =IFERROR(VLOOKUP(B12,'[1]ACT DEN8.1'!$H$3:$L$128,2,FALSE),0) -> 0 | AA12: =IFERROR(VLOOKUP(B12,'[1]ACT DEN8.1'!$H$3:$L$128,3,FALSE),0) -> 0 | AB12: =IFERROR(VLOOKUP(B12,'[1]ACT DEN8.1'!$H$3:$L$128,4,FALSE),0) -> 3 | AL12: =SUM(Z12:AK12) -> 3 | AM12: =IFERROR(VLOOKUP(B12,'[1]ACT DEN8.1'!$AA$3:$AE$86,2,FALSE),0) -> 0 | AN12: =IFERROR(VLOOKUP(B12,'[1]ACT DEN8.1'!$AA$3:$AE$86,3,FALSE),0) -> 0 | AO12: =IFERROR(VLOOKUP(B12,'[1]ACT DEN8.1'!$AA$3:$AE$86,4,FALSE),0) -> 0 | AY12: =SUM(AM12:AX12) -> 0
A13: 04104-LA HIGUERA | B13: 105500-P.S.R. CALETA HORNOS | E13: =IFERROR(VLOOKUP(B13,'[1]NUM8.1'!$H$3:$L$156,2,FALSE),0) -> 0 | F13: =IFERROR(VLOOKUP(B13,'[1]NUM8.1'!$H$3:$L$156,3,FALSE),0) -> 1 | G13: =IFERROR(VLOOKUP(B13,'[1]NUM8.1'!$H$3:$L$156,4,FALSE),0) -> 0 | Q13: =SUM(E13:P13) -> 1 | S13: =IFERROR(VLOOKUP(B13,'[2]DEN8.1'!$H$3:$K$162,3,FALSE),0) -> 31 | T13: =+S13+(Z13+AA13+AB13+AC13)-(AM13+AN13+AO13+AP13) -> 31 | V13: =+U13+(AF13)-(AS13) -> 0 | W13: =+U13+(AF13+AG13+AH13+AI13)-(AS13+AT13+AU13+AV13) -> 0 | Z13: =IFERROR(VLOOKUP(B13,'[1]ACT DEN8.1'!$H$3:$L$128,2,FALSE),0) -> 0 | AA13: =IFERROR(VLOOKUP(B13,'[1]ACT DEN8.1'!$H$3:$L$128,3,FALSE),0) -> 0 | AB13: =IFERROR(VLOOKUP(B13,'[1]ACT DEN8.1'!$H$3:$L$128,4,FALSE),0) -> 0 | AL13: =SUM(Z13:AK13) -> 0 | AM13: =IFERROR(VLOOKUP(B13,'[1]ACT DEN8.1'!$AA$3:$AE$86,2,FALSE),0) -> 0 | AN13: =IFERROR(VLOOKUP(B13,'[1]ACT DEN8.1'!$AA$3:$AE$86,3,FALSE),0) -> 0 | AO13: =IFERROR(VLOOKUP(B13,'[1]ACT DEN8.1'!$AA$3:$AE$86,4,FALSE),0) -> 0 | AY13: =SUM(AM13:AX13) -> 0
A14: 04104-LA HIGUERA | B14: 105505-P.S.R. LOS CHOROS | E14: =IFERROR(VLOOKUP(B14,'[1]NUM8.1'!$H$3:$L$156,2,FALSE),0) -> 0 | F14: =IFERROR(VLOOKUP(B14,'[1]NUM8.1'!$H$3:$L$156,3,FALSE),0) -> 0 | G14: =IFERROR(VLOOKUP(B14,'[1]NUM8.1'!$H$3:$L$156,4,FALSE),0) -> 0 | Q14: =SUM(E14:P14) -> 0 | S14: =IFERROR(VLOOKUP(B14,'[2]DEN8.1'!$H$3:$K$162,3,FALSE),0) -> 23 | T14: =+S14+(Z14+AA14+AB14+AC14)-(AM14+AN14+AO14+AP14) -> 25 | V14: =+U14+(AF14)-(AS14) -> 0 | W14: =+U14+(AF14+AG14+AH14+AI14)-(AS14+AT14+AU14+AV14) -> 0 | Z14: =IFERROR(VLOOKUP(B14,'[1]ACT DEN8.1'!$H$3:$L$128,2,FALSE),0) -> 0 | AA14: =IFERROR(VLOOKUP(B14,'[1]ACT DEN8.1'!$H$3:$L$128,3,FALSE),0) -> 2 | AB14: =IFERROR(VLOOKUP(B14,'[1]ACT DEN8.1'!$H$3:$L$128,4,FALSE),0) -> 0 | AL14: =SUM(Z14:AK14) -> 2 | AM14: =IFERROR(VLOOKUP(B14,'[1]ACT DEN8.1'!$AA$3:$AE$86,2,FALSE),0) -> 0 | AN14: =IFERROR(VLOOKUP(B14,'[1]ACT DEN8.1'!$AA$3:$AE$86,3,FALSE),0) -> 0 | AO14: =IFERROR(VLOOKUP(B14,'[1]ACT DEN8.1'!$AA$3:$AE$86,4,FALSE),0) -> 0 | AY14: =SUM(AM14:AX14) -> 0
A15: 04104-LA HIGUERA | B15: 105506-P.S.R. EL TRAPICHE | E15: =IFERROR(VLOOKUP(B15,'[1]NUM8.1'!$H$3:$L$156,2,FALSE),0) -> 0 | F15: =IFERROR(VLOOKUP(B15,'[1]NUM8.1'!$H$3:$L$156,3,FALSE),0) -> 0 | G15: =IFERROR(VLOOKUP(B15,'[1]NUM8.1'!$H$3:$L$156,4,FALSE),0) -> 0 | Q15: =SUM(E15:P15) -> 0 | S15: =IFERROR(VLOOKUP(B15,'[2]DEN8.1'!$H$3:$K$162,3,FALSE),0) -> 15 | T15: =+S15+(Z15+AA15+AB15+AC15)-(AM15+AN15+AO15+AP15) -> 15 | V15: =+U15+(AF15)-(AS15) -> 0 | W15: =+U15+(AF15+AG15+AH15+AI15)-(AS15+AT15+AU15+AV15) -> 0 | Z15: =IFERROR(VLOOKUP(B15,'[1]ACT DEN8.1'!$H$3:$L$128,2,FALSE),0) -> 0 | AA15: =IFERROR(VLOOKUP(B15,'[1]ACT DEN8.1'!$H$3:$L$128,3,FALSE),0) -> 0 | AB15: =IFERROR(VLOOKUP(B15,'[1]ACT DEN8.1'!$H$3:$L$128,4,FALSE),0) -> 0 | AL15: =SUM(Z15:AK15) -> 0 | AM15: =IFERROR(VLOOKUP(B15,'[1]ACT DEN8.1'!$AA$3:$AE$86,2,FALSE),0) -> 0 | AN15: =IFERROR(VLOOKUP(B15,'[1]ACT DEN8.1'!$AA$3:$AE$86,3,FALSE),0) -> 0 | AO15: =IFERROR(VLOOKUP(B15,'[1]ACT DEN8.1'!$AA$3:$AE$86,4,FALSE),0) -> 0 | AY15: =SUM(AM15:AX15) -> 0
A16: TOTAL LA HIGUERA | C16: =+D16/Metas!L7 -> 0.067954633 | D16: =+Q16/S16 -> 0.0099009901 | E16: =SUM(E12:E15) -> 0 | F16: =SUM(F12:F15) -> 1 | G16: =SUM(G12:G15) -> 0 | H16: =SUM(H12:H15) -> 0 | I16: =SUM(I12:I15) -> 0 | J16: =SUM(J12:J15) -> 0 | K16: =SUM(K12:K15) -> 0 | L16: =SUM(L12:L15) -> 0 | ... Q16: =SUM(Q12:Q15) -> 1 | S16: =SUM(S12:S15) -> 101 | T16: =SUM(T12:T15) -> 106 | U16: =SUM(U12:U15) -> 0 | V16: =SUM(V12:V15) -> 0 | W16: =SUM(W12:W15) -> 0 | X16: =SUM(X12:X15) -> 0 | Y16: 101 | Z16: =SUM(Z12:Z15) -> 0 | AA16: =SUM(AA12:AA15) -> 2 | AB16: =SUM(AB12:AB15) -> 3 | AC16: =SUM(AC12:AC15) -> 0 | AD16: =SUM(AD12:AD15) -> 0 | AE16: =SUM(AE12:AE15) -> 0 | AF16: =SUM(AF12:AF15) -> 0 | AG16: =SUM(AG12:AG15) -> 0 | ... AK16: =SUM(AK12:AK15) -> 0 | AL16: =SUM(Z16:AK16) -> 5 | AM16: =SUM(AM12:AM15) -> 0 | AN16: =SUM(AN12:AN15) -> 0 | AO16: =SUM(AO12:AO15) -> 0 | AP16: =SUM(AP12:AP15) -> 0 | AQ16: =SUM(AQ12:AQ15) -> 0 | AR16: =SUM(AR12:AR15) -> 0 | AS16: =SUM(AS12:AS15) -> 0 | AT16: =SUM(AT12:AT15) -> 0 | ... AX16: =SUM(AX12:AX15) -> 0 | AY16: =SUM(AM16:AX16) -> 0
A17: 04105-PAIHUANO | B17: 105306-CES. PAIHUANO | E17: =IFERROR(VLOOKUP(B17,'[1]NUM8.1'!$H$3:$L$156,2,FALSE),0) -> 2 | F17: =IFERROR(VLOOKUP(B17,'[1]NUM8.1'!$H$3:$L$156,3,FALSE),0) -> 0 | G17: =IFERROR(VLOOKUP(B17,'[1]NUM8.1'!$H$3:$L$156,4,FALSE),0) -> 1 | Q17: =SUM(E17:P17) -> 3 | S17: =IFERROR(VLOOKUP(B17,'[2]DEN8.1'!$H$3:$K$162,3,FALSE),0) -> 63 | T17: =+S17+(Z17+AA17+AB17+AC17)-(AM17+AN17+AO17+AP17) -> 63 | V17: =+U17+(AF17)-(AS17) -> 0 | W17: =+U17+(AF17+AG17+AH17+AI17)-(AS17+AT17+AU17+AV17) -> 0 | Z17: =IFERROR(VLOOKUP(B17,'[1]ACT DEN8.1'!$H$3:$L$128,2,FALSE),0) -> 0 | AA17: =IFERROR(VLOOKUP(B17,'[1]ACT DEN8.1'!$H$3:$L$128,3,FALSE),0) -> 0 | AB17: =IFERROR(VLOOKUP(B17,'[1]ACT DEN8.1'!$H$3:$L$128,4,FALSE),0) -> 0 | AL17: =SUM(Z17:AK17) -> 0 | AM17: =IFERROR(VLOOKUP(B17,'[1]ACT DEN8.1'!$AA$3:$AE$86,2,FALSE),0) -> 0 | AN17: =IFERROR(VLOOKUP(B17,'[1]ACT DEN8.1'!$AA$3:$AE$86,3,FALSE),0) -> 0 | AO17: =IFERROR(VLOOKUP(B17,'[1]ACT DEN8.1'!$AA$3:$AE$86,4,FALSE),0) -> 0 | AY17: =SUM(AM17:AX17) -> 0
A18: 04105-PAIHUANO | B18: 105475-P.S.R. HORCON | E18: =IFERROR(VLOOKUP(B18,'[1]NUM8.1'!$H$3:$L$156,2,FALSE),0) -> 0 | F18: =IFERROR(VLOOKUP(B18,'[1]NUM8.1'!$H$3:$L$156,3,FALSE),0) -> 0 | G18: =IFERROR(VLOOKUP(B18,'[1]NUM8.1'!$H$3:$L$156,4,FALSE),0) -> 0 | Q18: =SUM(E18:P18) -> 0 | S18: =IFERROR(VLOOKUP(B18,'[2]DEN8.1'!$H$3:$K$162,3,FALSE),0) -> 28 | T18: =+S18+(Z18+AA18+AB18+AC18)-(AM18+AN18+AO18+AP18) -> 28 | V18: =+U18+(AF18)-(AS18) -> 0 | W18: =+U18+(AF18+AG18+AH18+AI18)-(AS18+AT18+AU18+AV18) -> 0 | Z18: =IFERROR(VLOOKUP(B18,'[1]ACT DEN8.1'!$H$3:$L$128,2,FALSE),0) -> 0 | AA18: =IFERROR(VLOOKUP(B18,'[1]ACT DEN8.1'!$H$3:$L$128,3,FALSE),0) -> 0 | AB18: =IFERROR(VLOOKUP(B18,'[1]ACT DEN8.1'!$H$3:$L$128,4,FALSE),0) -> 0 | AL18: =SUM(Z18:AK18) -> 0 | AM18: =IFERROR(VLOOKUP(B18,'[1]ACT DEN8.1'!$AA$3:$AE$86,2,FALSE),0) -> 0 | AN18: =IFERROR(VLOOKUP(B18,'[1]ACT DEN8.1'!$AA$3:$AE$86,3,FALSE),0) -> 0 | AO18: =IFERROR(VLOOKUP(B18,'[1]ACT DEN8.1'!$AA$3:$AE$86,4,FALSE),0) -> 0 | AY18: =SUM(AM18:AX18) -> 0
A19: 04105-PAIHUANO | B19: 105476-P.S.R. MONTE GRANDE | E19: =IFERROR(VLOOKUP(B19,'[1]NUM8.1'!$H$3:$L$156,2,FALSE),0) -> 0 | F19: =IFERROR(VLOOKUP(B19,'[1]NUM8.1'!$H$3:$L$156,3,FALSE),0) -> 0 | G19: =IFERROR(VLOOKUP(B19,'[1]NUM8.1'!$H$3:$L$156,4,FALSE),0) -> 0 | Q19: =SUM(E19:P19) -> 0 | S19: =IFERROR(VLOOKUP(B19,'[2]DEN8.1'!$H$3:$K$162,3,FALSE),0) -> 30 | T19: =+S19+(Z19+AA19+AB19+AC19)-(AM19+AN19+AO19+AP19) -> 33 | V19: =+U19+(AF19)-(AS19) -> 0 | W19: =+U19+(AF19+AG19+AH19+AI19)-(AS19+AT19+AU19+AV19) -> 0 | Z19: =IFERROR(VLOOKUP(B19,'[1]ACT DEN8.1'!$H$3:$L$128,2,FALSE),0) -> 1 | AA19: =IFERROR(VLOOKUP(B19,'[1]ACT DEN8.1'!$H$3:$L$128,3,FALSE),0) -> 0 | AB19: =IFERROR(VLOOKUP(B19,'[1]ACT DEN8.1'!$H$3:$L$128,4,FALSE),0) -> 2 | AL19: =SUM(Z19:AK19) -> 3 | AM19: =IFERROR(VLOOKUP(B19,'[1]ACT DEN8.1'!$AA$3:$AE$86,2,FALSE),0) -> 0 | AN19: =IFERROR(VLOOKUP(B19,'[1]ACT DEN8.1'!$AA$3:$AE$86,3,FALSE),0) -> 0 | AO19: =IFERROR(VLOOKUP(B19,'[1]ACT DEN8.1'!$AA$3:$AE$86,4,FALSE),0) -> 0 | AY19: =SUM(AM19:AX19) -> 0
A20: 04105-PAIHUANO | B20: 105477-P.S.R. PISCO ELQUI | E20: =IFERROR(VLOOKUP(B20,'[1]NUM8.1'!$H$3:$L$156,2,FALSE),0) -> 0 | F20: =IFERROR(VLOOKUP(B20,'[1]NUM8.1'!$H$3:$L$156,3,FALSE),0) -> 0 | G20: =IFERROR(VLOOKUP(B20,'[1]NUM8.1'!$H$3:$L$156,4,FALSE),0) -> 0 | Q20: =SUM(E20:P20) -> 0 | S20: =IFERROR(VLOOKUP(B20,'[2]DEN8.1'!$H$3:$K$162,3,FALSE),0) -> 41 | T20: =+S20+(Z20+AA20+AB20+AC20)-(AM20+AN20+AO20+AP20) -> 41 | V20: =+U20+(AF20)-(AS20) -> 0 | W20: =+U20+(AF20+AG20+AH20+AI20)-(AS20+AT20+AU20+AV20) -> 0 | Z20: =IFERROR(VLOOKUP(B20,'[1]ACT DEN8.1'!$H$3:$L$128,2,FALSE),0) -> 0 | AA20: =IFERROR(VLOOKUP(B20,'[1]ACT DEN8.1'!$H$3:$L$128,3,FALSE),0) -> 0 | AB20: =IFERROR(VLOOKUP(B20,'[1]ACT DEN8.1'!$H$3:$L$128,4,FALSE),0) -> 0 | AL20: =SUM(Z20:AK20) -> 0 | AM20: =IFERROR(VLOOKUP(B20,'[1]ACT DEN8.1'!$AA$3:$AE$86,2,FALSE),0) -> 0 | AN20: =IFERROR(VLOOKUP(B20,'[1]ACT DEN8.1'!$AA$3:$AE$86,3,FALSE),0) -> 0 | AO20: =IFERROR(VLOOKUP(B20,'[1]ACT DEN8.1'!$AA$3:$AE$86,4,FALSE),0) -> 0 | AY20: =SUM(AM20:AX20) -> 0
A21: TOTAL PAIHUANO | C21: =+D21/Metas!L6 -> 0.17536476 | D21: =+Q21/S21 -> 0.018518519 | E21: =SUM(E17:E20) -> 2 | F21: =SUM(F17:F20) -> 0 | G21: =SUM(G17:G20) -> 1 | H21: =SUM(H17:H20) -> 0 | I21: =SUM(I17:I20) -> 0 | J21: =SUM(J17:J20) -> 0 | K21: =SUM(K17:K20) -> 0 | L21: =SUM(L17:L20) -> 0 | ... Q21: =SUM(Q17:Q20) -> 3 | S21: =SUM(S17:S20) -> 162 | T21: =SUM(T17:T20) -> 165 | U21: =SUM(U17:U20) -> 0 | V21: =SUM(V17:V20) -> 0 | W21: =SUM(W17:W20) -> 0 | X21: =SUM(X17:X20) -> 0 | Y21: 162 | Z21: =SUM(Z17:Z20) -> 1 | AA21: =SUM(AA17:AA20) -> 0 | AB21: =SUM(AB17:AB20) -> 2 | AC21: =SUM(AC17:AC20) -> 0 | AD21: =SUM(AD17:AD20) -> 0 | AE21: =SUM(AE17:AE20) -> 0 | AF21: =SUM(AF17:AF20) -> 0 | AG21: =SUM(AG17:AG20) -> 0 | ... AY21: =SUM(AY17:AY20) -> 0
B22: TOTAL | E22: =+E16+E21 -> 2 | F22: =+F16+F21 -> 1 | G22: =+G16+G21 -> 1 | H22: =+H16+H21 -> 0 | I22: =+I16+I21 -> 0 | J22: =+J16+J21 -> 0 | K22: =+K16+K21 -> 0 | L22: =+L16+L21 -> 0 | ... AY22: =+AY16+AY21 -> 0

Sheet META 8.2
A1: COMUNA | B1: ESTABLECIMIENTO | C1: CUMPLIMIENTO | D1: Indicador | E1: META 8.2: COBERTURA EXAMEN DE MEDICINA PREVENTIVA (EMP), EN MUJERES DE 45 A 64 AÑOS
E2: NUMERADOR | R2: DENOMINADOR
E10: Nº Examen de Medicina Preventiva (EMP) realizado en población femenina de 45 a 64 años | R10: Población femenina de 45 a 64 años estimada, menos población bajo control en Programa Salud Cardiovascular | S10: Población femenina de 45 a 64 años bajo control en Programa Salud Cardiovascular | Y10: Población femenina de 45 a 64 años estimada | Z10: Ingresos de población femenina al PSCV de 45 y 65 años | AM10: Egresos de población Femenina al PSCV de 45 a 65 años
D11: Resultado | E11: ENERO | F11: FEBRERO | G11: MARZO | H11: ABRIL | I11: MAYO | J11: JUNIO | K11: JULIO | L11: AGOSTO | M11: SEPBRE | N11: OCTBRE | O11: NOVBRE | P11: DICBRE | Q11: TOTAL | S11: A DIC 2017 | T11: A ABRIL | U11: A JUNIO | V11: A JULIO | W11: A OCTBRE | X11: A DICBRE | Y11: AÑO 2017 | Z11: ENERO | AA11: FEBRERO | AB11: MARZO | AC11: ABRIL | AD11: MAYO | AE11: JUNIO | AF11: JULIO | AG11: AGOSTO | AH11: SEPBRE | AI11: OCTBRE | AJ11: NOVBRE | AK11: DICBRE | AL11: TOTAL | AM11: ENERO | AN11: FEBRERO | AO11: MARZO | AP11: ABRIL | AQ11: MAYO | AR11: JUNIO | AS11: JULIO | AT11: AGOSTO | AU11: SEPBRE | AV11: OCTBRE | AW11: NOVBRE | AX11: DICBRE | AY11: TOTAL
A12: 04104-LA HIGUERA | B12: 105314-CES. LA HIGUERA | E12: =IFERROR(VLOOKUP(B12,'[1]NUM8.2'!$H$3:$L$156,2,FALSE),0) -> 0 | F12: =IFERROR(VLOOKUP(B12,'[1]NUM8.2'!$H$3:$L$156,3,FALSE),0) -> 0 | G12: =IFERROR(VLOOKUP(B12,'[1]NUM8.2'!$H$3:$L$156,4,FALSE),0) -> 0 | Q12: =SUM(E12:P12) -> 0 | S12: =IFERROR(VLOOKUP(B12,'[2]DEN8.2'!$H$3:$K$162,3,FALSE),0) -> 62 | T12: =+S12+(Z12+AA12+AB12+AC12)-(AM12+AN12+AO12+AP12) -> 66 | V12: =+U12+(AF12)-(AS12) -> 0 | W12: =+U12+(AF12+AG12+AH12+AI12)-(AS12+AT12+AU12+AV12) -> 0 | Z12: =IFERROR(VLOOKUP(B12,'[1]ACT NUM8.2'!$H$3:$L$128,2,FALSE),0) -> 2 | AA12: =IFERROR(VLOOKUP(B12,'[1]ACT NUM8.2'!$H$3:$L$128,3,FALSE),0) -> 0 | AB12: =IFERROR(VLOOKUP(B12,'[1]ACT NUM8.2'!$H$3:$L$128,4,FALSE),0) -> 2 | AL12: =SUM(Z12:AK12) -> 4 | AM12: =IFERROR(VLOOKUP(B12,'[1]ACT NUM8.2'!$AA$3:$AE$86,2,FALSE),0) -> 0 | AN12: =IFERROR(VLOOKUP(B12,'[1]ACT NUM8.2'!$AA$3:$AE$86,3,FALSE),0) -> 0 | AO12: =IFERROR(VLOOKUP(B12,'[1]ACT NUM8.2'!$AA$3:$AE$86,4,FALSE),0) -> 0 | AY12: =SUM(AM12:AX12) -> 0
A13: 04104-LA HIGUERA | B13: 105500-P.S.R. CALETA HORNOS | E13: =IFERROR(VLOOKUP(B13,'[1]NUM8.2'!$H$3:$L$156,2,FALSE),0) -> 1 | F13: =IFERROR(VLOOKUP(B13,'[1]NUM8.2'!$H$3:$L$156,3,FALSE),0) -> 0 | G13: =IFERROR(VLOOKUP(B13,'[1]NUM8.2'!$H$3:$L$156,4,FALSE),0) -> 0 | Q13: =SUM(E13:P13) -> 1 | S13: =IFERROR(VLOOKUP(B13,'[2]DEN8.2'!$H$3:$K$162,3,FALSE),0) -> 48 | T13: =+S13+(Z13+AA13+AB13+AC13)-(AM13+AN13+AO13+AP13) -> 50 | V13: =+U13+(AF13)-(AS13) -> 0 | W13: =+U13+(AF13+AG13+AH13+AI13)-(AS13+AT13+AU13+AV13) -> 0 | Z13: =IFERROR(VLOOKUP(B13,'[1]ACT NUM8.2'!$H$3:$L$128,2,FALSE),0) -> 0 | AA13: =IFERROR(VLOOKUP(B13,'[1]ACT NUM8.2'!$H$3:$L$128,3,FALSE),0) -> 2 | AB13: =IFERROR(VLOOKUP(B13,'[1]ACT NUM8.2'!$H$3:$L$128,4,FALSE),0) -> 0 | AL13: =SUM(Z13:AK13) -> 2 | AM13: =IFERROR(VLOOKUP(B13,'[1]ACT NUM8.2'!$AA$3:$AE$86,2,FALSE),0) -> 0 | AN13: =IFERROR(VLOOKUP(B13,'[1]ACT NUM8.2'!$AA$3:$AE$86,3,FALSE),0) -> 0 | AO13: =IFERROR(VLOOKUP(B13,'[1]ACT NUM8.2'!$AA$3:$AE$86,4,FALSE),0) -> 0 | AY13: =SUM(AM13:AX13) -> 0
A14: 04104-LA HIGUERA | B14: 105505-P.S.R. LOS CHOROS | E14: =IFERROR(VLOOKUP(B14,'[1]NUM8.2'!$H$3:$L$156,2,FALSE),0) -> 0 | F14: =IFERROR(VLOOKUP(B14,'[1]NUM8.2'!$H$3:$L$156,3,FALSE),0) -> 0 | G14: =IFERROR(VLOOKUP(B14,'[1]NUM8.2'!$H$3:$L$156,4,FALSE),0) -> 0 | Q14: =SUM(E14:P14) -> 0 | S14: =IFERROR(VLOOKUP(B14,'[2]DEN8.2'!$H$3:$K$162,3,FALSE),0) -> 26 | T14: =+S14+(Z14+AA14+AB14+AC14)-(AM14+AN14+AO14+AP14) -> 26 | V14: =+U14+(AF14)-(AS14) -> 0 | W14: =+U14+(AF14+AG14+AH14+AI14)-(AS14+AT14+AU14+AV14) -> 0 | Z14: =IFERROR(VLOOKUP(B14,'[1]ACT NUM8.2'!$H$3:$L$128,2,FALSE),0) -> 0 | AA14: =IFERROR(VLOOKUP(B14,'[1]ACT NUM8.2'!$H$3:$L$128,3,FALSE),0) -> 0 | AB14: =IFERROR(VLOOKUP(B14,'[1]ACT NUM8.2'!$H$3:$L$128,4,FALSE),0) -> 0 | AL14: =SUM(Z14:AK14) -> 0 | AM14: =IFERROR(VLOOKUP(B14,'[1]ACT NUM8.2'!$AA$3:$AE$86,2,FALSE),0) -> 0 | AN14: =IFERROR(VLOOKUP(B14,'[1]ACT NUM8.2'!$AA$3:$AE$86,3,FALSE),0) -> 0 | AO14: =IFERROR(VLOOKUP(B14,'[1]ACT NUM8.2'!$AA$3:$AE$86,4,FALSE),0) -> 0 | AY14: =SUM(AM14:AX14) -> 0
A15: 04104-LA HIGUERA | B15: 105506-P.S.R. EL TRAPICHE | E15: =IFERROR(VLOOKUP(B15,'[1]NUM8.2'!$H$3:$L$156,2,FALSE),0) -> 0 | F15: =IFERROR(VLOOKUP(B15,'[1]NUM8.2'!$H$3:$L$156,3,FALSE),0) -> 0 | G15: =IFERROR(VLOOKUP(B15,'[1]NUM8.2'!$H$3:$L$156,4,FALSE),0) -> 0 | Q15: =SUM(E15:P15) -> 0 | S15: =IFERROR(VLOOKUP(B15,'[2]DEN8.2'!$H$3:$K$162,3,FALSE),0) -> 29 | T15: =+S15+(Z15+AA15+AB15+AC15)-(AM15+AN15+AO15+AP15) -> 30 | V15: =+U15+(AF15)-(AS15) -> 0 | W15: =+U15+(AF15+AG15+AH15+AI15)-(AS15+AT15+AU15+AV15) -> 0 | Z15: =IFERROR(VLOOKUP(B15,'[1]ACT NUM8.2'!$H$3:$L$128,2,FALSE),0) -> 0 | AA15: =IFERROR(VLOOKUP(B15,'[1]ACT NUM8.2'!$H$3:$L$128,3,FALSE),0) -> 0 | AB15: =IFERROR(VLOOKUP(B15,'[1]ACT NUM8.2'!$H$3:$L$128,4,FALSE),0) -> 1 | AL15: =SUM(Z15:AK15) -> 1 | AM15: =IFERROR(VLOOKUP(B15,'[1]ACT NUM8.2'!$AA$3:$AE$86,2,FALSE),0) -> 0 | AN15: =IFERROR(VLOOKUP(B15,'[1]ACT NUM8.2'!$AA$3:$AE$86,3,FALSE),0) -> 0 | AO15: =IFERROR(VLOOKUP(B15,'[1]ACT NUM8.2'!$AA$3:$AE$86,4,FALSE),0) -> 0 | AY15: =SUM(AM15:AX15) -> 0
A16: TOTAL LA HIGUERA | C16: =+D16/Metas!M7 -> 0.026628322 | D16: =+Q16/S16 -> 0.0060606061 | E16: =SUM(E12:E15) -> 1 | F16: =SUM(F12:F15) -> 0 | G16: =SUM(G12:G15) -> 0 | H16: =SUM(H12:H15) -> 0 | I16: =SUM(I12:I15) -> 0 | J16: =SUM(J12:J15) -> 0 | K16: =SUM(K12:K15) -> 0 | L16: =SUM(L12:L15) -> 0 | ... Q16: =SUM(Q12:Q15) -> 1 | S16: =SUM(S12:S15) -> 165 | T16: =SUM(T12:T15) -> 172 | U16: =SUM(U12:U15) -> 0 | V16: =SUM(V12:V15) -> 0 | W16: =SUM(W12:W15) -> 0 | X16: =SUM(X12:X15) -> 0 | Y16: 165 | Z16: =SUM(Z12:Z15) -> 2 | AA16: =SUM(AA12:AA15) -> 2 | AB16: =SUM(AB12:AB15) -> 3 | AC16: =SUM(AC12:AC15) -> 0 | AD16: =SUM(AD12:AD15) -> 0 | AE16: =SUM(AE12:AE15) -> 0 | AF16: =SUM(AF12:AF15) -> 0 | AG16: =SUM(AG12:AG15) -> 0 | ... AK16: =SUM(AK12:AK15) -> 0 | AL16: =SUM(Z16:AK16) -> 7 | AM16: =SUM(AM12:AM15) -> 0 | AN16: =SUM(AN12:AN15) -> 0 | AO16: =SUM(AO12:AO15) -> 0 | AP16: =SUM(AP12:AP15) -> 0 | AQ16: =SUM(AQ12:AQ15) -> 0 | AR16: =SUM(AR12:AR15) -> 0 | AS16: =SUM(AS12:AS15) -> 0 | AT16: =SUM(AT12:AT15) -> 0 | ... AX16: =SUM(AX12:AX15) -> 0 | AY16: =SUM(AM16:AX16) -> 0
A17: 04105-PAIHUANO | B17: 105306-CES. PAIHUANO | E17: =IFERROR(VLOOKUP(B17,'[1]NUM8.2'!$H$3:$L$156,2,FALSE),0) -> 0 | F17: =IFERROR(VLOOKUP(B17,'[1]NUM8.2'!$H$3:$L$156,3,FALSE),0) -> 0 | G17: =IFERROR(VLOOKUP(B17,'[1]NUM8.2'!$H$3:$L$156,4,FALSE),0) -> 3 | Q17: =SUM(E17:P17) -> 3 | S17: =IFERROR(VLOOKUP(B17,'[2]DEN8.2'!$H$3:$K$162,3,FALSE),0) -> 111 | T17: =+S17+(Z17+AA17+AB17+AC17)-(AM17+AN17+AO17+AP17) -> 108 | V17: =+U17+(AF17)-(AS17) -> 0 | W17: =+U17+(AF17+AG17+AH17+AI17)-(AS17+AT17+AU17+AV17) -> 0 | Z17: =IFERROR(VLOOKUP(B17,'[1]ACT NUM8.2'!$H$3:$L$128,2,FALSE),0) -> 0 | AA17: =IFERROR(VLOOKUP(B17,'[1]ACT NUM8.2'!$H$3:$L$128,3,FALSE),0) -> 0 | AB17: =IFERROR(VLOOKUP(B17,'[1]ACT NUM8.2'!$H$3:$L$128,4,FALSE),0) -> 0 | AL17: =SUM(Z17:AK17) -> 0 | AM17: =IFERROR(VLOOKUP(B17,'[1]ACT NUM8.2'!$AA$3:$AE$86,2,FALSE),0) -> 0 | AN17: =IFERROR(VLOOKUP(B17,'[1]ACT NUM8.2'!$AA$3:$AE$86,3,FALSE),0) -> 0 | AO17: =IFERROR(VLOOKUP(B17,'[1]ACT NUM8.2'!$AA$3:$AE$86,4,FALSE),0) -> 3 | AY17: =SUM(AM17:AX17) -> 3
A18: 04105-PAIHUANO | B18: 105475-P.S.R. HORCON | E18: =IFERROR(VLOOKUP(B18,'[1]NUM8.2'!$H$3:$L$156,2,FALSE),0) -> 0 | F18: =IFERROR(VLOOKUP(B18,'[1]NUM8.2'!$H$3:$L$156,3,FALSE),0) -> 0 | G18: =IFERROR(VLOOKUP(B18,'[1]NUM8.2'!$H$3:$L$156,4,FALSE),0) -> 0 | Q18: =SUM(E18:P18) -> 0 | S18: =IFERROR(VLOOKUP(B18,'[2]DEN8.2'!$H$3:$K$162,3,FALSE),0) -> 38 | T18: =+S18+(Z18+AA18+AB18+AC18)-(AM18+AN18+AO18+AP18) -> 38 | V18: =+U18+(AF18)-(AS18) -> 0 | W18: =+U18+(AF18+AG18+AH18+AI18)-(AS18+AT18+AU18+AV18) -> 0 | Z18: =IFERROR(VLOOKUP(B18,'[1]ACT NUM8.2'!$H$3:$L$128,2,FALSE),0) -> 0 | AA18: =IFERROR(VLOOKUP(B18,'[1]ACT NUM8.2'!$H$3:$L$128,3,FALSE),0) -> 0 | AB18: =IFERROR(VLOOKUP(B18,'[1]ACT NUM8.2'!$H$3:$L$128,4,FALSE),0) -> 0 | AL18: =SUM(Z18:AK18) -> 0 | AM18: =IFERROR(VLOOKUP(B18,'[1]ACT NUM8.2'!$AA$3:$AE$86,2,FALSE),0) -> 0 | AN18: =IFERROR(VLOOKUP(B18,'[1]ACT NUM8.2'!$AA$3:$AE$86,3,FALSE),0) -> 0 | AO18: =IFERROR(VLOOKUP(B18,'[1]ACT NUM8.2'!$AA$3:$AE$86,4,FALSE),0) -> 0 | AY18: =SUM(AM18:AX18) -> 0
A19: 04105-PAIHUANO | B19: 105476-P.S.R. MONTE GRANDE | E19: =IFERROR(VLOOKUP(B19,'[1]NUM8.2'!$H$3:$L$156,2,FALSE),0) -> 0 | F19: =IFERROR(VLOOKUP(B19,'[1]NUM8.2'!$H$3:$L$156,3,FALSE),0) -> 0 | G19: =IFERROR(VLOOKUP(B19,'[1]NUM8.2'!$H$3:$L$156,4,FALSE),0) -> 0 | Q19: =SUM(E19:P19) -> 0 | S19: =IFERROR(VLOOKUP(B19,'[2]DEN8.2'!$H$3:$K$162,3,FALSE),0) -> 30 | T19: =+S19+(Z19+AA19+AB19+AC19)-(AM19+AN19+AO19+AP19) -> 30 | V19: =+U19+(AF19)-(AS19) -> 0 | W19: =+U19+(AF19+AG19+AH19+AI19)-(AS19+AT19+AU19+AV19) -> 0 | Z19: =IFERROR(VLOOKUP(B19,'[1]ACT NUM8.2'!$H$3:$L$128,2,FALSE),0) -> 0 | AA19: =IFERROR(VLOOKUP(B19,'[1]ACT NUM8.2'!$H$3:$L$128,3,FALSE),0) -> 0 | AB19: =IFERROR(VLOOKUP(B19,'[1]ACT NUM8.2'!$H$3:$L$128,4,FALSE),0) -> 0 | AL19: =SUM(Z19:AK19) -> 0 | AM19: =IFERROR(VLOOKUP(B19,'[1]ACT NUM8.2'!$AA$3:$AE$86,2,FALSE),0) -> 0 | AN19: =IFERROR(VLOOKUP(B19,'[1]ACT NUM8.2'!$AA$3:$AE$86,3,FALSE),0) -> 0 | AO19: =IFERROR(VLOOKUP(B19,'[1]ACT NUM8.2'!$AA$3:$AE$86,4,FALSE),0) -> 0 | AY19: =SUM(AM19:AX19) -> 0
A20: 04105-PAIHUANO | B20: 105477-P.S.R. PISCO ELQUI | E20: =IFERROR(VLOOKUP(B20,'[1]NUM8.2'!$H$3:$L$156,2,FALSE),0) -> 0 | F20: =IFERROR(VLOOKUP(B20,'[1]NUM8.2'!$H$3:$L$156,3,FALSE),0) -> 0 | G20: =IFERROR(VLOOKUP(B20,'[1]NUM8.2'!$H$3:$L$156,4,FALSE),0) -> 1 | Q20: =SUM(E20:P20) -> 1 | S20: =IFERROR(VLOOKUP(B20,'[2]DEN8.2'!$H$3:$K$162,3,FALSE),0) -> 46 | T20: =+S20+(Z20+AA20+AB20+AC20)-(AM20+AN20+AO20+AP20) -> 46 | V20: =+U20+(AF20)-(AS20) -> 0 | W20: =+U20+(AF20+AG20+AH20+AI20)-(AS20+AT20+AU20+AV20) -> 0 | Z20: =IFERROR(VLOOKUP(B20,'[1]ACT NUM8.2'!$H$3:$L$128,2,FALSE),0) -> 0 | AA20: =IFERROR(VLOOKUP(B20,'[1]ACT NUM8.2'!$H$3:$L$128,3,FALSE),0) -> 0 | AB20: =IFERROR(VLOOKUP(B20,'[1]ACT NUM8.2'!$H$3:$L$128,4,FALSE),0) -> 0 | AL20: =SUM(Z20:AK20) -> 0 | AM20: =IFERROR(VLOOKUP(B20,'[1]ACT NUM8.2'!$AA$3:$AE$86,2,FALSE),0) -> 0 | AN20: =IFERROR(VLOOKUP(B20,'[1]ACT NUM8.2'!$AA$3:$AE$86,3,FALSE),0) -> 0 | AO20: =IFERROR(VLOOKUP(B20,'[1]ACT NUM8.2'!$AA$3:$AE$86,4,FALSE),0) -> 0 | AY20: =SUM(AM20:AX20) -> 0
A21: TOTAL PAIHUANO | C21: =+D21/Metas!M6 -> 0.11781165 | D21: =+Q21/S21 -> 0.017777778 | E21: =SUM(E17:E20) -> 0 | F21: =SUM(F17:F20) -> 0 | G21: =SUM(G17:G20) -> 4 | H21: =SUM(H17:H20) -> 0 | I21: =SUM(I17:I20) -> 0 | J21: =SUM(J17:J20) -> 0 | K21: =SUM(K17:K20) -> 0 | L21: =SUM(L17:L20) -> 0 | ... Q21: =SUM(Q17:Q20) -> 4 | S21: =SUM(S17:S20) -> 225 | T21: =SUM(T17:T20) -> 222 | U21: =SUM(U17:U20) -> 0 | V21: =SUM(V17:V20) -> 0 | W21: =SUM(W17:W20) -> 0 | X21: =SUM(X17:X20) -> 0 | Y21: 225 | Z21: =SUM(Z17:Z20) -> 0 | AA21: =SUM(AA17:AA20) -> 0 | AB21: =SUM(AB17:AB20) -> 0 | AC21: =SUM(AC17:AC20) -> 0 | AD21: =SUM(AD17:AD20) -> 0 | AE21: =SUM(AE17:AE20) -> 0 | AF21: =SUM(AF17:AF20) -> 0 | AG21: =SUM(AG17:AG20) -> 0 | ... AY21: =SUM(AY17:AY20) -> 3
B22: TOTAL | E22: =+E16+E21 -> 1 | F22: =+F16+F21 -> 0 | G22: =+G16+G21 -> 4 | H22: =+H16+H21 -> 0 | I22: =+I16+I21 -> 0 | J22: =+J16+J21 -> 0 | K22: =+K16+K21 -> 0 | L22: =+L16+L21 -> 0 | ... AY22: =+AY16+AY21 -> 3

Sheet META 8.3
A1: COMUNA | B1: ESTABLECIMIENTO | C1: CUMPLIMIENTO | D1: Indicador | E1: META 8.3: COBERTURA EXAMEN DE MEDICINA PREVENTIVA (EMPAM) EN PERSONAS DE 65 AÑOS Y MÁS
E2: NUMERADOR | R2: DENOMINADOR
E10: N° de adultos de 65 y más años con Examen de Medicina Preventiva | R10: Nº de adultos de 65 y más años estimados
D11: Resultado | E11: ENERO | F11: FEBRERO | G11: MARZO | H11: ABRIL | I11: MAYO | J11: JUNIO | K11: JULIO | L11: AGOSTO | M11: SEPBRE | N11: OCTBRE | O11: NOVBRE | P11: DICBRE | Q11: TOTAL
A12: 04104-LA HIGUERA | B12: 105314-CES. LA HIGUERA | E12: =IFERROR(VLOOKUP(B12,'[1]NUM8.3'!$H$3:$L$156,2,FALSE),0) -> 0 | F12: =IFERROR(VLOOKUP(B12,'[1]NUM8.3'!$H$3:$L$156,3,FALSE),0) -> 0 | G12: =IFERROR(VLOOKUP(B12,'[1]NUM8.3'!$H$3:$L$156,4,FALSE),0) -> 2 | Q12: =SUM(E12:P12) -> 2
A13: 04104-LA HIGUERA | B13: 105500-P.S.R. CALETA HORNOS | E13: =IFERROR(VLOOKUP(B13,'[1]NUM8.3'!$H$3:$L$156,2,FALSE),0) -> 0 | F13: =IFERROR(VLOOKUP(B13,'[1]NUM8.3'!$H$3:$L$156,3,FALSE),0) -> 0 | G13: =IFERROR(VLOOKUP(B13,'[1]NUM8.3'!$H$3:$L$156,4,FALSE),0) -> 0 | Q13: =SUM(E13:P13) -> 0
A14: 04104-LA HIGUERA | B14: 105505-P.S.R. LOS CHOROS | E14: =IFERROR(VLOOKUP(B14,'[1]NUM8.3'!$H$3:$L$156,2,FALSE),0) -> 0 | F14: =IFERROR(VLOOKUP(B14,'[1]NUM8.3'!$H$3:$L$156,3,FALSE),0) -> 0 | G14: =IFERROR(VLOOKUP(B14,'[1]NUM8.3'!$H$3:$L$156,4,FALSE),0) -> 0 | Q14: =SUM(E14:P14) -> 0
A15: 04104-LA HIGUERA | B15: 105506-P.S.R. EL TRAPICHE | E15: =IFERROR(VLOOKUP(B15,'[1]NUM8.3'!$H$3:$L$156,2,FALSE),0) -> 0 | F15: =IFERROR(VLOOKUP(B15,'[1]NUM8.3'!$H$3:$L$156,3,FALSE),0) -> 1 | G15: =IFERROR(VLOOKUP(B15,'[1]NUM8.3'!$H$3:$L$156,4,FALSE),0) -> 0 | Q15: =SUM(E15:P15) -> 1
A16: TOTAL LA HIGUERA | C16: =+D16/Metas!N7 -> 0.021036776 | D16: =+Q16/R16 -> 0.010638298 | E16: =SUM(E12:E15) -> 0 | F16: =SUM(F12:F15) -> 1 | G16: =SUM(G12:G15) -> 2 | H16: =SUM(H12:H15) -> 0 | I16: =SUM(I12:I15) -> 0 | J16: =SUM(J12:J15) -> 0 | K16: =SUM(K12:K15) -> 0 | L16: =SUM(L12:L15) -> 0 | ... Q16: =SUM(Q12:Q15) -> 3 | R16: 282
A17: 04105-PAIHUANO | B17: 105306-CES. PAIHUANO | E17: =IFERROR(VLOOKUP(B17,'[1]NUM8.3'!$H$3:$L$156,2,FALSE),0) -> 6 | F17: =IFERROR(VLOOKUP(B17,'[1]NUM8.3'!$H$3:$L$156,3,FALSE),0) -> 7 | G17: =IFERROR(VLOOKUP(B17,'[1]NUM8.3'!$H$3:$L$156,4,FALSE),0) -> 11 | Q17: =SUM(E17:P17) -> 24
A18: 04105-PAIHUANO | B18: 105475-P.S.R. HORCON | E18: =IFERROR(VLOOKUP(B18,'[1]NUM8.3'!$H$3:$L$156,2,FALSE),0) -> 1 | F18: =IFERROR(VLOOKUP(B18,'[1]NUM8.3'!$H$3:$L$156,3,FALSE),0) -> 2 | G18: =IFERROR(VLOOKUP(B18,'[1]NUM8.3'!$H$3:$L$156,4,FALSE),0) -> 9 | Q18: =SUM(E18:P18) -> 12
A19: 04105-PAIHUANO | B19: 105476-P.S.R. MONTE GRANDE | E19: =IFERROR(VLOOKUP(B19,'[1]NUM8.3'!$H$3:$L$156,2,FALSE),0) -> 0 | F19: =IFERROR(VLOOKUP(B19,'[1]NUM8.3'!$H$3:$L$156,3,FALSE),0) -> 1 | G19: =IFERROR(VLOOKUP(B19,'[1]NUM8.3'!$H$3:$L$156,4,FALSE),0) -> 7 | Q19: =SUM(E19:P19) -> 8
A20: 04105-PAIHUANO | B20: 105477-P.S.R. PISCO ELQUI | E20: =IFERROR(VLOOKUP(B20,'[1]NUM8.3'!$H$3:$L$156,2,FALSE),0) -> 2 | F20: =IFERROR(VLOOKUP(B20,'[1]NUM8.3'!$H$3:$L$156,3,FALSE),0) -> 2 | G20: =IFERROR(VLOOKUP(B20,'[1]NUM8.3'!$H$3:$L$156,4,FALSE),0) -> 7 | Q20: =SUM(E20:P20) -> 11
A21: TOTAL PAIHUANO | C21: =+D21/Metas!N6 -> 0.18091599 | D21: =+Q21/R21 -> 0.15068493 | E21: =SUM(E17:E20) -> 9 | F21: =SUM(F17:F20) -> 12 | G21: =SUM(G17:G20) -> 34 | H21: =SUM(H17:H20) -> 0 | I21: =SUM(I17:I20) -> 0 | J21: =SUM(J17:J20) -> 0 | K21: =SUM(K17:K20) -> 0 | L21: =SUM(L17:L20) -> 0 | ... Q21: =SUM(Q17:Q20) -> 55 | R21: 365
B22: TOTAL | E22: =+E16+E21 -> 9 | F22: =+F16+F21 -> 13 | G22: =+G16+G21 -> 36 | H22: =+H16+H21 -> 0 | I22: =+I16+I21 -> 0 | J22: =+J16+J21 -> 0 | K22: =+K16+K21 -> 0 | L22: =+L16+L21 -> 0 | ... Q22: =+Q16+Q21 -> 58

Sheet META 9
A1: COMUNA | B1: ESTABLECIMIENTO | C1: CUMPLIMIENTO | D1: Indicador | E1: META 9: COBERTURA DE EVALUACIÓN DEL DESARROLLO PSICOMOTOR DE NIÑOS Y NIÑAS DE 12 A 23 MESES BAJO CONTROL
E2: NUMERADOR | R2: DENOMINADOR
E10: Niños y niñas 12 a 23 con Evaluación del Desarrollo Psicomotor | R10: Niños y Niñas entre 12 a 23 meses bajo control
D11: Resultado | E11: ENERO | F11: FEBRERO | G11: MARZO | H11: ABRIL | I11: MAYO | J11: JUNIO | K11: JULIO | L11: AGOSTO | M11: SEPBRE | N11: OCTBRE | O11: NOVBRE | P11: DICBRE | Q11: TOTAL | R11: A DIC 2017 | S11: A ABRIL | T11: A JUNIO | U11: A AGOSTO | V11: A OCTBRE | W11: A DICBRE
A12: 04104-LA HIGUERA | B12: 105314-CES. LA HIGUERA | E12: =IFERROR(VLOOKUP(B12,[1]NUM9!$H$3:$L$146,2,FALSE),0) -> 2 | F12: =IFERROR(VLOOKUP(B12,[1]NUM9!$H$3:$L$146,3,FALSE),0) -> 3 | G12: =IFERROR(VLOOKUP(B12,[1]NUM9!$H$3:$L$146,4,FALSE),0) -> 2 | Q12: =SUM(E12:P12) -> 7 | R12: =IFERROR(VLOOKUP(B12,[2]DEN9!$H$3:$K$159,3,FALSE),0) -> 26
A13: 04104-LA HIGUERA | B13: 105500-P.S.R. CALETA HORNOS | E13: =IFERROR(VLOOKUP(B13,[1]NUM9!$H$3:$L$146,2,FALSE),0) -> 0 | F13: =IFERROR(VLOOKUP(B13,[1]NUM9!$H$3:$L$146,3,FALSE),0) -> 0 | G13: =IFERROR(VLOOKUP(B13,[1]NUM9!$H$3:$L$146,4,FALSE),0) -> 0 | Q13: =SUM(E13:P13) -> 0 | R13: =IFERROR(VLOOKUP(B13,[2]DEN9!$H$3:$K$159,3,FALSE),0) -> 8
A14: 04104-LA HIGUERA | B14: 105505-P.S.R. LOS CHOROS | E14: =IFERROR(VLOOKUP(B14,[1]NUM9!$H$3:$L$146,2,FALSE),0) -> 1 | F14: =IFERROR(VLOOKUP(B14,[1]NUM9!$H$3:$L$146,3,FALSE),0) -> 0 | G14: =IFERROR(VLOOKUP(B14,[1]NUM9!$H$3:$L$146,4,FALSE),0) -> 0 | Q14: =SUM(E14:P14) -> 1 | R14: =IFERROR(VLOOKUP(B14,[2]DEN9!$H$3:$K$159,3,FALSE),0) -> 4
A15: 04104-LA HIGUERA | B15: 105506-P.S.R. EL TRAPICHE | E15: =IFERROR(VLOOKUP(B15,[1]NUM9!$H$3:$L$146,2,FALSE),0) -> 3 | F15: =IFERROR(VLOOKUP(B15,[1]NUM9!$H$3:$L$146,3,FALSE),0) -> 0 | G15: =IFERROR(VLOOKUP(B15,[1]NUM9!$H$3:$L$146,4,FALSE),0) -> 0 | Q15: =SUM(E15:P15) -> 3 | R15: =IFERROR(VLOOKUP(B15,[2]DEN9!$H$3:$K$159,3,FALSE),0) -> 7
A16: TOTAL LA HIGUERA | C16: =+D16/Metas!O7 -> 0.26004728 | D16: =+Q16/R16 -> 0.24444444 | E16: =SUM(E12:E15) -> 6 | F16: =SUM(F12:F15) -> 3 | G16: =SUM(G12:G15) -> 2 | H16: =SUM(H12:H15) -> 0 | I16: =SUM(I12:I15) -> 0 | J16: =SUM(J12:J15) -> 0 | K16: =SUM(K12:K15) -> 0 | L16: =SUM(L12:L15) -> 0 | ... W16: =SUM(W12:W15) -> 0
A17: 04105-PAIHUANO | B17: 105306-CES. PAIHUANO | E17: =IFERROR(VLOOKUP(B17,[1]NUM9!$H$3:$L$146,2,FALSE),0) -> 2 | F17: =IFERROR(VLOOKUP(B17,[1]NUM9!$H$3:$L$146,3,FALSE),0) -> 2 | G17: =IFERROR(VLOOKUP(B17,[1]NUM9!$H$3:$L$146,4,FALSE),0) -> 4 | Q17: =SUM(E17:P17) -> 8 | R17: =IFERROR(VLOOKUP(B17,[2]DEN9!$H$3:$K$159,3,FALSE),0) -> 22
A18: 04105-PAIHUANO | B18: 105475-P.S.R. HORCON | E18: =IFERROR(VLOOKUP(B18,[1]NUM9!$H$3:$L$146,2,FALSE),0) -> 0 | F18: =IFERROR(VLOOKUP(B18,[1]NUM9!$H$3:$L$146,3,FALSE),0) -> 0 | G18: =IFERROR(VLOOKUP(B18,[1]NUM9!$H$3:$L$146,4,FALSE),0) -> 1 | Q18: =SUM(E18:P18) -> 1 | R18: =IFERROR(VLOOKUP(B18,[2]DEN9!$H$3:$K$159,3,FALSE),0) -> 14
A19: 04105-PAIHUANO | B19: 105476-P.S.R. MONTE GRANDE | E19: =IFERROR(VLOOKUP(B19,[1]NUM9!$H$3:$L$146,2,FALSE),0) -> 0 | F19: =IFERROR(VLOOKUP(B19,[1]NUM9!$H$3:$L$146,3,FALSE),0) -> 0 | G19: =IFERROR(VLOOKUP(B19,[1]NUM9!$H$3:$L$146,4,FALSE),0) -> 1 | Q19: =SUM(E19:P19) -> 1 | R19: =IFERROR(VLOOKUP(B19,[2]DEN9!$H$3:$K$159,3,FALSE),0) -> 4
A20: 04105-PAIHUANO | B20: 105477-P.S.R. PISCO ELQUI | E20: =IFERROR(VLOOKUP(B20,[1]NUM9!$H$3:$L$146,2,FALSE),0) -> 1 | F20: =IFERROR(VLOOKUP(B20,[1]NUM9!$H$3:$L$146,3,FALSE),0) -> 0 | G20: =IFERROR(VLOOKUP(B20,[1]NUM9!$H$3:$L$146,4,FALSE),0) -> 0 | Q20: =SUM(E20:P20) -> 1 | R20: =IFERROR(VLOOKUP(B20,[2]DEN9!$H$3:$K$159,3,FALSE),0) -> 7
A21: TOTAL PAIHUANO | C21: =+D21/Metas!O6 -> 0.24898144 | D21: =+Q21/R21 -> 0.23404255 | E21: =SUM(E17:E20) -> 3 | F21: =SUM(F17:F20) -> 2 | G21: =SUM(G17:G20) -> 6 | H21: =SUM(H17:H20) -> 0 | I21: =SUM(I17:I20) -> 0 | J21: =SUM(J17:J20) -> 0 | K21: =SUM(K17:K20) -> 0 | L21: =SUM(L17:L20) -> 0 | ... W21: =SUM(W17:W20) -> 0
B22: TOTAL | E22: =+E16+E21 -> 9 | F22: =+F16+F21 -> 5 | G22: =+G16+G21 -> 8 | H22: =+H16+H21 -> 0 | I22: =+I16+I21 -> 0 | J22: =+J16+J21 -> 0 | K22: =+K16+K21 -> 0 | L22: =+L16+L21 -> 0 | ... W22: =+W16+W21 -> 0

Sheet META 10
A1: COMUNA | B1: ESTABLECIMIENTO | C1: CUMPLIMIENTO | D1: Indicador | E1: META 10: COBERTURA DE CONTROL DE SALUD INTEGRAL EN ADOLESCENTES DE 10 14 AÑOS
E2: NUMERADOR | R2: DENOMINADOR
E10: Nº de controles de salud integral, realizados a adolescentes de 10 a 14 años | R10: Población adolescente de 10 a 14 años estimada en el establecimiento de salud
D11: Resultado | E11: ENERO | F11: FEBRERO | G11: MARZO | H11: ABRIL | I11: MAYO | J11: JUNIO | K11: JULIO | L11: AGOSTO | M11: SEPBRE | N11: OCTBRE | O11: NOVBRE | P11: DICBRE | Q11: TOTAL
A12: 04104-LA HIGUERA | B12: 105314-CES. LA HIGUERA | E12: =IFERROR(VLOOKUP(B12,[1]NUM10!$H$3:$L$48,2,FALSE),0) -> 0 | F12: =IFERROR(VLOOKUP(B12,[1]NUM10!$H$3:$L$48,3,FALSE),0) -> 0 | G12: =IFERROR(VLOOKUP(B12,[1]NUM10!$H$3:$L$48,4,FALSE),0) -> 0 | Q12: =SUM(E12:P12) -> 0
A13: 04104-LA HIGUERA | B13: 105500-P.S.R. CALETA HORNOS | E13: =IFERROR(VLOOKUP(B13,[1]NUM10!$H$3:$L$48,2,FALSE),0) -> 0 | F13: =IFERROR(VLOOKUP(B13,[1]NUM10!$H$3:$L$48,3,FALSE),0) -> 0 | G13: =IFERROR(VLOOKUP(B13,[1]NUM10!$H$3:$L$48,4,FALSE),0) -> 0 | Q13: =SUM(E13:P13) -> 0
A14: 04104-LA HIGUERA | B14: 105505-P.S.R. LOS CHOROS | E14: =IFERROR(VLOOKUP(B14,[1]NUM10!$H$3:$L$48,2,FALSE),0) -> 0 | F14: =IFERROR(VLOOKUP(B14,[1]NUM10!$H$3:$L$48,3,FALSE),0) -> 0 | G14: =IFERROR(VLOOKUP(B14,[1]NUM10!$H$3:$L$48,4,FALSE),0) -> 0 | Q14: =SUM(E14:P14) -> 0
A15: 04104-LA HIGUERA | B15: 105506-P.S.R. EL TRAPICHE | E15: =IFERROR(VLOOKUP(B15,[1]NUM10!$H$3:$L$48,2,FALSE),0) -> 0 | F15: =IFERROR(VLOOKUP(B15,[1]NUM10!$H$3:$L$48,3,FALSE),0) -> 0 | G15: =IFERROR(VLOOKUP(B15,[1]NUM10!$H$3:$L$48,4,FALSE),0) -> 0 | Q15: =SUM(E15:P15) -> 0
A16: TOTAL LA HIGUERA | C16: =+D16/Metas!P7 -> 0 | D16: =+Q16/R16 -> 0 | E16: =SUM(E12:E15) -> 0 | F16: =SUM(F12:F15) -> 0 | G16: =SUM(G12:G15) -> 0 | H16: =SUM(H12:H15) -> 0 | I16: =SUM(I12:I15) -> 0 | J16: =SUM(J12:J15) -> 0 | K16: =SUM(K12:K15) -> 0 | L16: =SUM(L12:L15) -> 0 | ... Q16: =SUM(Q12:Q15) -> 0 | R16: 247
A17: 04105-PAIHUANO | B17: 105306-CES. PAIHUANO | E17: =IFERROR(VLOOKUP(B17,[1]NUM10!$H$3:$L$48,2,FALSE),0) -> 0 | F17: =IFERROR(VLOOKUP(B17,[1]NUM10!$H$3:$L$48,3,FALSE),0) -> 0 | G17: =IFERROR(VLOOKUP(B17,[1]NUM10!$H$3:$L$48,4,FALSE),0) -> 0 | Q17: =SUM(E17:P17) -> 0
A18: 04105-PAIHUANO | B18: 105475-P.S.R. HORCON | E18: =IFERROR(VLOOKUP(B18,[1]NUM10!$H$3:$L$48,2,FALSE),0) -> 0 | F18: =IFERROR(VLOOKUP(B18,[1]NUM10!$H$3:$L$48,3,FALSE),0) -> 0 | G18: =IFERROR(VLOOKUP(B18,[1]NUM10!$H$3:$L$48,4,FALSE),0) -> 0 | Q18: =SUM(E18:P18) -> 0
A19: 04105-PAIHUANO | B19: 105476-P.S.R. MONTE GRANDE | E19: =IFERROR(VLOOKUP(B19,[1]NUM10!$H$3:$L$48,2,FALSE),0) -> 0 | F19: =IFERROR(VLOOKUP(B19,[1]NUM10!$H$3:$L$48,3,FALSE),0) -> 0 | G19: =IFERROR(VLOOKUP(B19,[1]NUM10!$H$3:$L$48,4,FALSE),0) -> 0 | Q19: =SUM(E19:P19) -> 0
A20: 04105-PAIHUANO | B20: 105477-P.S.R. PISCO ELQUI | E20: =IFERROR(VLOOKUP(B20,[1]NUM10!$H$3:$L$48,2,FALSE),0) -> 0 | F20: =IFERROR(VLOOKUP(B20,[1]NUM10!$H$3:$L$48,3,FALSE),0) -> 0 | G20: =IFERROR(VLOOKUP(B20,[1]NUM10!$H$3:$L$48,4,FALSE),0) -> 0 | Q20: =SUM(E20:P20) -> 0
A21: TOTAL PAIHUANO | C21: =+D21/Metas!P6 -> 0 | D21: =+Q21/R21 -> 0 | E21: =SUM(E17:E20) -> 0 | F21: =SUM(F17:F20) -> 0 | G21: =SUM(G17:G20) -> 0 | H21: =SUM(H17:H20) -> 0 | I21: =SUM(I17:I20) -> 0 | J21: =SUM(J17:J20) -> 0 | K21: =SUM(K17:K20) -> 0 | L21: =SUM(L17:L20) -> 0 | ... Q21: =SUM(Q17:Q20) -> 0 | R21: 279
B22: TOTAL | E22: =+E16+E21 -> 0 | F22: =+F16+F21 -> 0 | G22: =+G16+G21 -> 0 | H22: =+H16+H21 -> 0 | I22: =+I16+I21 -> 0 | J22: =+J16+J21 -> 0 | K22: =+K16+K21 -> 0 | L22: =+L16+L21 -> 0 | ... Q22: =+Q16+Q21 -> 0

Sheet META 11
A1: COMUNA | B1: ESTABLECIMIENTO | C1: CUMPLIMIENTO | D1: Indicador | E1: META 11: PROPORCIÓN DE MENORES DE 20 AÑOS CON ALTA ODONTOLÓGICA TOTAL
E2: NUMERADOR | R2: DENOMINADOR
E10: Nº de altas odontológicas en menores de 7 años a menor de 20 años | R10: Población inscrita de 7 años a menor de 20 años
D11: Resultado | E11: ENERO | F11: FEBRERO | G11: MARZO | H11: ABRIL | I11: MAYO | J11: JUNIO | K11: JULIO | L11: AGOSTO | M11: SEPBRE | N11: OCTBRE | O11: NOVBRE | P11: DICBRE | Q11: TOTAL
A12: 04104-LA HIGUERA | B12: 105314-CES. LA HIGUERA | E12: =IFERROR(VLOOKUP(B12,[1]NUM11!$H$3:$L$109,2,FALSE),0) -> 0 | F12: =IFERROR(VLOOKUP(B12,[1]NUM11!$H$3:$L$109,3,FALSE),0) -> 0 | G12: =IFERROR(VLOOKUP(B12,[1]NUM11!$H$3:$L$109,4,FALSE),0) -> 0 | Q12: =SUM(E12:P12) -> 0
A13: 04104-LA HIGUERA | B13: 105500-P.S.R. CALETA HORNOS | E13: =IFERROR(VLOOKUP(B13,[1]NUM11!$H$3:$L$109,2,FALSE),0) -> 0 | F13: =IFERROR(VLOOKUP(B13,[1]NUM11!$H$3:$L$109,3,FALSE),0) -> 0 | G13: =IFERROR(VLOOKUP(B13,[1]NUM11!$H$3:$L$109,4,FALSE),0) -> 0 | Q13: =SUM(E13:P13) -> 0
A14: 04104-LA HIGUERA | B14: 105505-P.S.R. LOS CHOROS | E14: =IFERROR(VLOOKUP(B14,[1]NUM11!$H$3:$L$109,2,FALSE),0) -> 0 | F14: =IFERROR(VLOOKUP(B14,[1]NUM11!$H$3:$L$109,3,FALSE),0) -> 0 | G14: =IFERROR(VLOOKUP(B14,[1]NUM11!$H$3:$L$109,4,FALSE),0) -> 0 | Q14: =SUM(E14:P14) -> 0
A15: 04104-LA HIGUERA | B15: 105506-P.S.R. EL TRAPICHE | E15: =IFERROR(VLOOKUP(B15,[1]NUM11!$H$3:$L$109,2,FALSE),0) -> 0 | F15: =IFERROR(VLOOKUP(B15,[1]NUM11!$H$3:$L$109,3,FALSE),0) -> 0 | G15: =IFERROR(VLOOKUP(B15,[1]NUM11!$H$3:$L$109,4,FALSE),0) -> 0 | Q15: =SUM(E15:P15) -> 0
A16: TOTAL LA HIGUERA | C16: =+D16/Metas!Q7 -> 0 | D16: =+Q16/R16 -> 0 | E16: =SUM(E12:E15) -> 0 | F16: =SUM(F12:F15) -> 0 | G16: =SUM(G12:G15) -> 0 | H16: =SUM(H12:H15) -> 0 | I16: =SUM(I12:I15) -> 0 | J16: =SUM(J12:J15) -> 0 | K16: =SUM(K12:K15) -> 0 | L16: =SUM(L12:L15) -> 0 | ... Q16: =SUM(Q12:Q15) -> 0 | R16: 582
A17: 04105-PAIHUANO | B17: 105306-CES. PAIHUANO | E17: =IFERROR(VLOOKUP(B17,[1]NUM11!$H$3:$L$109,2,FALSE),0) -> 0 | F17: =IFERROR(VLOOKUP(B17,[1]NUM11!$H$3:$L$109,3,FALSE),0) -> 0 | G17: =IFERROR(VLOOKUP(B17,[1]NUM11!$H$3:$L$109,4,FALSE),0) -> 0 | Q17: =SUM(E17:P17) -> 0
A18: 04105-PAIHUANO | B18: 105475-P.S.R. HORCON | E18: =IFERROR(VLOOKUP(B18,[1]NUM11!$H$3:$L$109,2,FALSE),0) -> 0 | F18: =IFERROR(VLOOKUP(B18,[1]NUM11!$H$3:$L$109,3,FALSE),0) -> 0 | G18: =IFERROR(VLOOKUP(B18,[1]NUM11!$H$3:$L$109,4,FALSE),0) -> 0 | Q18: =SUM(E18:P18) -> 0
A19: 04105-PAIHUANO | B19: 105476-P.S.R. MONTE GRANDE | E19: =IFERROR(VLOOKUP(B19,[1]NUM11!$H$3:$L$109,2,FALSE),0) -> 0 | F19: =IFERROR(VLOOKUP(B19,[1]NUM11!$H$3:$L$109,3,FALSE),0) -> 0 | G19: =IFERROR(VLOOKUP(B19,[1]NUM11!$H$3:$L$109,4,FALSE),0) -> 0 | Q19: =SUM(E19:P19) -> 0
A20: 04105-PAIHUANO | B20: 105477-P.S.R. PISCO ELQUI | E20: =IFERROR(VLOOKUP(B20,[1]NUM11!$H$3:$L$109,2,FALSE),0) -> 0 | F20: =IFERROR(VLOOKUP(B20,[1]NUM11!$H$3:$L$109,3,FALSE),0) -> 0 | G20: =IFERROR(VLOOKUP(B20,[1]NUM11!$H$3:$L$109,4,FALSE),0) -> 0 | Q20: =SUM(E20:P20) -> 0
A21: TOTAL PAIHUANO | C21: =+D21/Metas!Q6 -> 0 | D21: =+Q21/R21 -> 0 | E21: =SUM(E17:E20) -> 0 | F21: =SUM(F17:F20) -> 0 | G21: =SUM(G17:G20) -> 0 | H21: =SUM(H17:H20) -> 0 | I21: =SUM(I17:I20) -> 0 | J21: =SUM(J17:J20) -> 0 | K21: =SUM(K17:K20) -> 0 | L21: =SUM(L17:L20) -> 0 | ... Q21: =SUM(Q17:Q20) -> 0 | R21: 662
B22: TOTAL

Sheet META 12
A1: COMUNA | B1: ESTABLECIMIENTO | C1: CUMPLIMIENTO | D1: CUMPLIMIENTO | E1: META 12: COBERTURA DE ATENCIÓN INTEGRAL A PERSONAS DE 5 AÑOS Y MAS CON TRASTORNOS MENTALES
E2: NUMERADOR | AK2: DENOMINADOR
E10: Nº de personas de 5 años y más con trastorno mental bajo control | K10: Ingresos de personas con trastorno mental de 5 años y más | X10: Egresos de personas con trastorno mental de 5 años y más | AK10: Nº de personas con trastorno mental estimada según prevalencia de 5 años y más (población estimada Fonasa de 5 y más años x 22%)
E11: A DIC 2017 | F11: A ABRIL | G11: A JUNIO | H11: A AGOSTO | I11: A OCTBRE | J11: A DICBRE | K11: ENERO | L11: FEBRERO | M11: MARZO | N11: ABRIL | O11: MAYO | P11: JUNIO | Q11: JULIO | R11: AGOSTO | S11: SEPBRE | T11: OCTBRE | U11: NOVBRE | V11: DICBRE | W11: TOTAL | X11: ENERO | Y11: FEBRERO | Z11: MARZO | AA11: ABRIL | AB11: MAYO | AC11: JUNIO | AD11: JULIO | AE11: AGOSTO | AF11: SEPBRE | AG11: OCTBRE | AH11: NOVBRE | AI11: DICBRE | AJ11: TOTAL
A12: 04104-LA HIGUERA | B12: 105314-CES. LA HIGUERA | E12: =IFERROR(VLOOKUP(B12,[2]NUM12!$H$3:$K$156,3,FALSE),0) -> 82 | F12: =+E12+(K12+L12+M12+N12)-(X12+Y12+Z12+AA12) -> 86 | H12: =+G12+(Q12+R12)-(AD12+AE12) -> 0 | I12: =+G12+(Q12+R12+S12+T12)-(AD12+AE12+AF12+AG12) -> 0 | K12: =IFERROR(VLOOKUP(B12,'[1]ACT NUM12'!$H$3:$L$127,2,FALSE),0) -> 2 | L12: =IFERROR(VLOOKUP(B12,'[1]ACT NUM12'!$H$3:$L$127,3,FALSE),0) -> 4 | M12: =IFERROR(VLOOKUP(B12,'[1]ACT NUM12'!$H$3:$L$127,4,FALSE),0) -> 1 | W12: =SUM(K12:V12) -> 7 | X12: =IFERROR(VLOOKUP(B12,'[1]ACT NUM12'!$AA$3:$AE$98,2,FALSE),0) -> 3 | Y12: =IFERROR(VLOOKUP(B12,'[1]ACT NUM12'!$AA$3:$AE$98,3,FALSE),0) -> 0 | Z12: =IFERROR(VLOOKUP(B12,'[1]ACT NUM12'!$AA$3:$AE$98,4,FALSE),0) -> 0 | AJ12: =SUM(X12:AI12) -> 3
A13: 04104-LA HIGUERA | B13: 105500-P.S.R. CALETA HORNOS | E13: =IFERROR(VLOOKUP(B13,[2]NUM12!$H$3:$K$156,3,FALSE),0) -> 67 | F13: =+E13+(K13+L13+M13+N13)-(X13+Y13+Z13+AA13) -> 69 | H13: =+G13+(Q13+R13)-(AD13+AE13) -> 0 | I13: =+G13+(Q13+R13+S13+T13)-(AD13+AE13+AF13+AG13) -> 0 | K13: =IFERROR(VLOOKUP(B13,'[1]ACT NUM12'!$H$3:$L$127,2,FALSE),0) -> 0 | L13: =IFERROR(VLOOKUP(B13,'[1]ACT NUM12'!$H$3:$L$127,3,FALSE),0) -> 3 | M13: =IFERROR(VLOOKUP(B13,'[1]ACT NUM12'!$H$3:$L$127,4,FALSE),0) -> 0 | W13: =SUM(K13:V13) -> 3 | X13: =IFERROR(VLOOKUP(B13,'[1]ACT NUM12'!$AA$3:$AE$98,2,FALSE),0) -> 0 | Y13: =IFERROR(VLOOKUP(B13,'[1]ACT NUM12'!$AA$3:$AE$98,3,FALSE),0) -> 0 | Z13: =IFERROR(VLOOKUP(B13,'[1]ACT NUM12'!$AA$3:$AE$98,4,FALSE),0) -> 1 | AJ13: =SUM(X13:AI13) -> 1
A14: 04104-LA HIGUERA | B14: 105505-P.S.R. LOS CHOROS | E14: =IFERROR(VLOOKUP(B14,[2]NUM12!$H$3:$K$156,3,FALSE),0) -> 51 | F14: =+E14+(K14+L14+M14+N14)-(X14+Y14+Z14+AA14) -> 55 | H14: =+G14+(Q14+R14)-(AD14+AE14) -> 0 | I14: =+G14+(Q14+R14+S14+T14)-(AD14+AE14+AF14+AG14) -> 0 | K14: =IFERROR(VLOOKUP(B14,'[1]ACT NUM12'!$H$3:$L$127,2,FALSE),0) -> 1 | L14: =IFERROR(VLOOKUP(B14,'[1]ACT NUM12'!$H$3:$L$127,3,FALSE),0) -> 0 | M14: =IFERROR(VLOOKUP(B14,'[1]ACT NUM12'!$H$3:$L$127,4,FALSE),0) -> 3 | W14: =SUM(K14:V14) -> 4 | X14: =IFERROR(VLOOKUP(B14,'[1]ACT NUM12'!$AA$3:$AE$98,2,FALSE),0) -> 0 | Y14: =IFERROR(VLOOKUP(B14,'[1]ACT NUM12'!$AA$3:$AE$98,3,FALSE),0) -> 0 | Z14: =IFERROR(VLOOKUP(B14,'[1]ACT NUM12'!$AA$3:$AE$98,4,FALSE),0) -> 0 | AJ14: =SUM(X14:AI14) -> 0
A15: 04104-LA HIGUERA | B15: 105506-P.S.R. EL TRAPICHE | E15: =IFERROR(VLOOKUP(B15,[2]NUM12!$H$3:$K$156,3,FALSE),0) -> 32 | F15: =+E15+(K15+L15+M15+N15)-(X15+Y15+Z15+AA15) -> 34 | H15: =+G15+(Q15+R15)-(AD15+AE15) -> 0 | I15: =+G15+(Q15+R15+S15+T15)-(AD15+AE15+AF15+AG15) -> 0 | K15: =IFERROR(VLOOKUP(B15,'[1]ACT NUM12'!$H$3:$L$127,2,FALSE),0) -> 1 | L15: =IFERROR(VLOOKUP(B15,'[1]ACT NUM12'!$H$3:$L$127,3,FALSE),0) -> 0 | M15: =IFERROR(VLOOKUP(B15,'[1]ACT NUM12'!$H$3:$L$127,4,FALSE),0) -> 1 | W15: =SUM(K15:V15) -> 2 | X15: =IFERROR(VLOOKUP(B15,'[1]ACT NUM12'!$AA$3:$AE$98,2,FALSE),0) -> 0 | Y15: =IFERROR(VLOOKUP(B15,'[1]ACT NUM12'!$AA$3:$AE$98,3,FALSE),0) -> 0 | Z15: =IFERROR(VLOOKUP(B15,'[1]ACT NUM12'!$AA$3:$AE$98,4,FALSE),0) -> 0 | AJ15: =SUM(X15:AI15) -> 0
A16: TOTAL LA HIGUERA | C16: =+D16/Metas!R7 -> 0.99985175 | D16: =E16/AK16 -> 0.28855721 | E16: =SUM(E12:E15) -> 232 | F16: =SUM(F12:F15) -> 244 | G16: =SUM(G12:G15) -> 0 | H16: =SUM(H12:H15) -> 0 | I16: =SUM(I12:I15) -> 0 | J16: =SUM(J12:J15) -> 0 | K16: =SUM(K12:K15) -> 4 | L16: =SUM(L12:L15) -> 7 | ... V16: =SUM(V12:V15) -> 0 | W16: =SUM(K16:V16) -> 16 | X16: =SUM(X12:X15) -> 3 | Y16: =SUM(Y12:Y15) -> 0 | Z16: =SUM(Z12:Z15) -> 1 | AA16: =SUM(AA12:AA15) -> 0 | AB16: =SUM(AB12:AB15) -> 0 | AC16: =SUM(AC12:AC15) -> 0 | AD16: =SUM(AD12:AD15) -> 0 | AE16: =SUM(AE12:AE15) -> 0 | ... AI16: =SUM(AI12:AI15) -> 0 | AJ16: =SUM(X16:AI16) -> 4 | AK16: 804
A17: 04105-PAIHUANO | B17: 105306-CES. PAIHUANO | E17: =IFERROR(VLOOKUP(B17,[2]NUM12!$H$3:$K$156,3,FALSE),0) -> 243 | F17: =+E17+(K17+L17+M17+N17)-(X17+Y17+Z17+AA17) -> 293 | H17: =+G17+(Q17+R17)-(AD17+AE17) -> 0 | I17: =+G17+(Q17+R17+S17+T17)-(AD17+AE17+AF17+AG17) -> 0 | K17: =IFERROR(VLOOKUP(B17,'[1]ACT NUM12'!$H$3:$L$127,2,FALSE),0) -> 13 | L17: =IFERROR(VLOOKUP(B17,'[1]ACT NUM12'!$H$3:$L$127,3,FALSE),0) -> 16 | M17: =IFERROR(VLOOKUP(B17,'[1]ACT NUM12'!$H$3:$L$127,4,FALSE),0) -> 23 | W17: =SUM(K17:V17) -> 52 | X17: =IFERROR(VLOOKUP(B17,'[1]ACT NUM12'!$AA$3:$AE$98,2,FALSE),0) -> 0 | Y17: =IFERROR(VLOOKUP(B17,'[1]ACT NUM12'!$AA$3:$AE$98,3,FALSE),0) -> 1 | Z17: =IFERROR(VLOOKUP(B17,'[1]ACT NUM12'!$AA$3:$AE$98,4,FALSE),0) -> 1 | AJ17: =SUM(X17:AI17) -> 2
A18: 04105-PAIHUANO | B18: 105475-P.S.R. HORCON | E18: =IFERROR(VLOOKUP(B18,[2]NUM12!$H$3:$K$156,3,FALSE),0) -> 0 | F18: =+E18+(K18+L18+M18+N18)-(X18+Y18+Z18+AA18) -> 6 | H18: =+G18+(Q18+R18)-(AD18+AE18) -> 0 | I18: =+G18+(Q18+R18+S18+T18)-(AD18+AE18+AF18+AG18) -> 0 | K18: =IFERROR(VLOOKUP(B18,'[1]ACT NUM12'!$H$3:$L$127,2,FALSE),0) -> 3 | L18: =IFERROR(VLOOKUP(B18,'[1]ACT NUM12'!$H$3:$L$127,3,FALSE),0) -> 1 | M18: =IFERROR(VLOOKUP(B18,'[1]ACT NUM12'!$H$3:$L$127,4,FALSE),0) -> 2 | W18: =SUM(K18:V18) -> 6 | X18: =IFERROR(VLOOKUP(B18,'[1]ACT NUM12'!$AA$3:$AE$98,2,FALSE),0) -> 0 | Y18: =IFERROR(VLOOKUP(B18,'[1]ACT NUM12'!$AA$3:$AE$98,3,FALSE),0) -> 0 | Z18: =IFERROR(VLOOKUP(B18,'[1]ACT NUM12'!$AA$3:$AE$98,4,FALSE),0) -> 0 | AJ18: =SUM(X18:AI18) -> 0
A19: 04105-PAIHUANO | B19: 105476-P.S.R. MONTE GRANDE | E19: =IFERROR(VLOOKUP(B19,[2]NUM12!$H$3:$K$156,3,FALSE),0) -> 0 | F19: =+E19+(K19+L19+M19+N19)-(X19+Y19+Z19+AA19) -> 4 | H19: =+G19+(Q19+R19)-(AD19+AE19) -> 0 | I19: =+G19+(Q19+R19+S19+T19)-(AD19+AE19+AF19+AG19) -> 0 | K19: =IFERROR(VLOOKUP(B19,'[1]ACT NUM12'!$H$3:$L$127,2,FALSE),0) -> 4 | L19: =IFERROR(VLOOKUP(B19,'[1]ACT NUM12'!$H$3:$L$127,3,FALSE),0) -> 0 | M19: =IFERROR(VLOOKUP(B19,'[1]ACT NUM12'!$H$3:$L$127,4,FALSE),0) -> 0 | W19: =SUM(K19:V19) -> 4 | X19: =IFERROR(VLOOKUP(B19,'[1]ACT NUM12'!$AA$3:$AE$98,2,FALSE),0) -> 0 | Y19: =IFERROR(VLOOKUP(B19,'[1]ACT NUM12'!$AA$3:$AE$98,3,FALSE),0) -> 0 | Z19: =IFERROR(VLOOKUP(B19,'[1]ACT NUM12'!$AA$3:$AE$98,4,FALSE),0) -> 0 | AJ19: =SUM(X19:AI19) -> 0
A20: 04105-PAIHUANO | B20: 105477-P.S.R. PISCO ELQUI | E20: =IFERROR(VLOOKUP(B20,[2]NUM12!$H$3:$K$156,3,FALSE),0) -> 0 | F20: =+E20+(K20+L20+M20+N20)-(X20+Y20+Z20+AA20) -> 12 | H20: =+G20+(Q20+R20)-(AD20+AE20) -> 0 | I20: =+G20+(Q20+R20+S20+T20)-(AD20+AE20+AF20+AG20) -> 0 | K20: =IFERROR(VLOOKUP(B20,'[1]ACT NUM12'!$H$3:$L$127,2,FALSE),0) -> 3 | L20: =IFERROR(VLOOKUP(B20,'[1]ACT NUM12'!$H$3:$L$127,3,FALSE),0) -> 4 | M20: =IFERROR(VLOOKUP(B20,'[1]ACT NUM12'!$H$3:$L$127,4,FALSE),0) -> 5 | W20: =SUM(K20:V20) -> 12 | X20: =IFERROR(VLOOKUP(B20,'[1]ACT NUM12'!$AA$3:$AE$98,2,FALSE),0) -> 0 | Y20: =IFERROR(VLOOKUP(B20,'[1]ACT NUM12'!$AA$3:$AE$98,3,FALSE),0) -> 0 | Z20: =IFERROR(VLOOKUP(B20,'[1]ACT NUM12'!$AA$3:$AE$98,4,FALSE),0) -> 0 | AJ20: =SUM(X20:AI20) -> 0
A21: TOTAL PAIHUANO | C21: =+D21/Metas!R6 -> 0.99993828 | D21: =E21/AK21 -> 0.25498426 | E21: =SUM(E17:E20) -> 243 | F21: =SUM(F17:F20) -> 315 | G21: =SUM(G17:G20) -> 0 | H21: =SUM(H17:H20) -> 0 | I21: =SUM(I17:I20) -> 0 | J21: =SUM(J17:J20) -> 0 | K21: =SUM(K17:K20) -> 23 | L21: =SUM(L17:L20) -> 21 | ... AJ21: =SUM(AJ17:AJ20) -> 2 | AK21: 953
B22: TOTAL | E22: =+E16+E21 -> 475 | F22: =+F16+F21 -> 559 | G22: =+G16+G21 -> 0 | H22: =+H16+H21 -> 0 | I22: =+I16+I21 -> 0 | J22: =+J16+J21 -> 0 | K22: =+K16+K21 -> 27 | L22: =+L16+L21 -> 28 | ... AK22: =+AK16+AK21 -> 1757

Sheet META 13
A1: COMUNA | B1: ESTABLECIMIENTO | C1: CUMPLIMIENTO | D1: Indicador | E1: META 13: COBERTURA DE ATENCIÓN DE ASMA EN POBLACIÓN estimada Y EPOC EN PERSONAS DE 40 AÑOS Y MÁS
E2: NUMERADOR | AK2: DENOMINADOR
E10: Nº de personas con diagnóstico de Asma Bajo Control y de personas con EPOC de 40 años y más bajo control | K10: Ingresos de personas con Asma y EPOC de 40 años en Sala IRA-ERA | X10: Egresos de personas con Asma y EPOC de 40 años en Sala IRA-ERA | AK10: Nº de personas con Asma y EPOC estimada según prevalencia
D11: Resultado | E11: A DIC 2017 | F11: A ABRIL | G11: A JUNIO | H11: A AGOSTO | I11: A OCTBRE | J11: A DICBRE | K11: ENERO | L11: FEBRERO | M11: MARZO | N11: ABRIL | O11: MAYO | P11: JUNIO | Q11: JULIO | R11: AGOSTO | S11: SEPBRE | T11: OCTBRE | U11: NOVBRE | V11: DICBRE | W11: TOTAL | X11: ENERO | Y11: FEBRERO | Z11: MARZO | AA11: ABRIL | AB11: MAYO | AC11: JUNIO | AD11: JULIO | AE11: AGOSTO | AF11: SEPBRE | AG11: OCTBRE | AH11: NOVBRE | AI11: DICBRE | AJ11: TOTAL
A12: 04104-LA HIGUERA | B12: 105314-CES. LA HIGUERA | E12: =IFERROR(VLOOKUP(B12,[2]NUM13!$H$3:$K$147,3,FALSE),0) -> 62 | F12: =+E12+(K12+L12+M12)-(X12+Y12+Z12) -> 62 | H12: =+G12+(Q12+R12)-(AD12+AE12) -> 0 | I12: =+G12+(Q12+R12+S12+T12)-(AD12+AE12+AF12+AG12) -> 0 | K12: =IFERROR(VLOOKUP(B12,'[1]ACT NUM 13'!$H$3:$L$80,2,FALSE),0) -> 0 | L12: =IFERROR(VLOOKUP(B12,'[1]ACT NUM 13'!$H$3:$L$80,3,FALSE),0) -> 0 | M12: =IFERROR(VLOOKUP(B12,'[1]ACT NUM 13'!$H$3:$L$80,4,FALSE),0) -> 1 | W12: =SUM(K12:V12) -> 1 | X12: =IFERROR(VLOOKUP(B12,'[1]ACT NUM 13'!$AA$3:$AE$41,2,FALSE),0) -> 1 | Y12: =IFERROR(VLOOKUP(B12,'[1]ACT NUM 13'!$AA$3:$AE$41,3,FALSE),0) -> 0 | Z12: =IFERROR(VLOOKUP(B12,'[1]ACT NUM 13'!$AA$3:$AE$41,4,FALSE),0) -> 0 | AJ12: =SUM(X12:AI12) -> 1
A13: 04104-LA HIGUERA | B13: 105500-P.S.R. CALETA HORNOS | E13: =IFERROR(VLOOKUP(B13,[2]NUM13!$H$3:$K$147,3,FALSE),0) -> 48 | F13: =+E13+(K13+L13+M13)-(X13+Y13+Z13) -> 51 | H13: =+G13+(Q13+R13)-(AD13+AE13) -> 0 | I13: =+G13+(Q13+R13+S13+T13)-(AD13+AE13+AF13+AG13) -> 0 | K13: =IFERROR(VLOOKUP(B13,'[1]ACT NUM 13'!$H$3:$L$80,2,FALSE),0) -> 2 | L13: =IFERROR(VLOOKUP(B13,'[1]ACT NUM 13'!$H$3:$L$80,3,FALSE),0) -> 1 | M13: =IFERROR(VLOOKUP(B13,'[1]ACT NUM 13'!$H$3:$L$80,4,FALSE),0) -> 0 | W13: =SUM(K13:V13) -> 3 | X13: =IFERROR(VLOOKUP(B13,'[1]ACT NUM 13'!$AA$3:$AE$41,2,FALSE),0) -> 0 | Y13: =IFERROR(VLOOKUP(B13,'[1]ACT NUM 13'!$AA$3:$AE$41,3,FALSE),0) -> 0 | Z13: =IFERROR(VLOOKUP(B13,'[1]ACT NUM 13'!$AA$3:$AE$41,4,FALSE),0) -> 0 | AJ13: =SUM(X13:AI13) -> 0
A14: 04104-LA HIGUERA | B14: 105505-P.S.R. LOS CHOROS | E14: =IFERROR(VLOOKUP(B14,[2]NUM13!$H$3:$K$147,3,FALSE),0) -> 32 | F14: =+E14+(K14+L14+M14)-(X14+Y14+Z14) -> 32 | H14: =+G14+(Q14+R14)-(AD14+AE14) -> 0 | I14: =+G14+(Q14+R14+S14+T14)-(AD14+AE14+AF14+AG14) -> 0 | K14: =IFERROR(VLOOKUP(B14,'[1]ACT NUM 13'!$H$3:$L$80,2,FALSE),0) -> 0 | L14: =IFERROR(VLOOKUP(B14,'[1]ACT NUM 13'!$H$3:$L$80,3,FALSE),0) -> 0 | M14: =IFERROR(VLOOKUP(B14,'[1]ACT NUM 13'!$H$3:$L$80,4,FALSE),0) -> 0 | W14: =SUM(K14:V14) -> 0 | X14: =IFERROR(VLOOKUP(B14,'[1]ACT NUM 13'!$AA$3:$AE$41,2,FALSE),0) -> 0 | Y14: =IFERROR(VLOOKUP(B14,'[1]ACT NUM 13'!$AA$3:$AE$41,3,FALSE),0) -> 0 | Z14: =IFERROR(VLOOKUP(B14,'[1]ACT NUM 13'!$AA$3:$AE$41,4,FALSE),0) -> 0 | AJ14: =SUM(X14:AI14) -> 0
A15: 04104-LA HIGUERA | B15: 105506-P.S.R. EL TRAPICHE | E15: =IFERROR(VLOOKUP(B15,[2]NUM13!$H$3:$K$147,3,FALSE),0) -> 41 | F15: =+E15+(K15+L15+M15)-(X15+Y15+Z15) -> 43 | H15: =+G15+(Q15+R15)-(AD15+AE15) -> 0 | I15: =+G15+(Q15+R15+S15+T15)-(AD15+AE15+AF15+AG15) -> 0 | K15: =IFERROR(VLOOKUP(B15,'[1]ACT NUM 13'!$H$3:$L$80,2,FALSE),0) -> 1 | L15: =IFERROR(VLOOKUP(B15,'[1]ACT NUM 13'!$H$3:$L$80,3,FALSE),0) -> 1 | M15: =IFERROR(VLOOKUP(B15,'[1]ACT NUM 13'!$H$3:$L$80,4,FALSE),0) -> 0 | W15: =SUM(K15:V15) -> 2 | X15: =IFERROR(VLOOKUP(B15,'[1]ACT NUM 13'!$AA$3:$AE$41,2,FALSE),0) -> 0 | Y15: =IFERROR(VLOOKUP(B15,'[1]ACT NUM 13'!$AA$3:$AE$41,3,FALSE),0) -> 0 | Z15: =IFERROR(VLOOKUP(B15,'[1]ACT NUM 13'!$AA$3:$AE$41,4,FALSE),0) -> 0 | AJ15: =SUM(X15:AI15) -> 0
A16: TOTAL LA HIGUERA | C16: =+D16/Metas!S7 -> 0.94827251 | D16: =+E16/AK16 -> 0.19202518 | E16: =SUM(E12:E15) -> 183 | F16: =SUM(F12:F15) -> 188 | G16: =SUM(G12:G15) -> 0 | H16: =SUM(H12:H15) -> 0 | I16: =SUM(I12:I15) -> 0 | J16: =SUM(J12:J15) -> 0 | K16: =SUM(K12:K15) -> 3 | L16: =SUM(L12:L15) -> 2 | ... V16: =SUM(V12:V15) -> 0 | W16: =SUM(K16:V16) -> 6 | X16: =SUM(X12:X15) -> 1 | Y16: =SUM(Y12:Y15) -> 0 | Z16: =SUM(Z12:Z15) -> 0 | AA16: =SUM(AA12:AA15) -> 0 | AB16: =SUM(AB12:AB15) -> 0 | AC16: =SUM(AC12:AC15) -> 0 | AD16: =SUM(AD12:AD15) -> 0 | AE16: =SUM(AE12:AE15) -> 0 | ... AI16: =SUM(AI12:AI15) -> 0 | AJ16: =SUM(X16:AI16) -> 1 | AK16: 953
A17: 04105-PAIHUANO | B17: 105306-CES. PAIHUANO | E17: =IFERROR(VLOOKUP(B17,[2]NUM13!$H$3:$K$147,3,FALSE),0) -> 34 | F17: =+E17+(K17+L17+M17)-(X17+Y17+Z17) -> 36 | H17: =+G17+(Q17+R17)-(AD17+AE17) -> 0 | I17: =+G17+(Q17+R17+S17+T17)-(AD17+AE17+AF17+AG17) -> 0 | K17: =IFERROR(VLOOKUP(B17,'[1]ACT NUM 13'!$H$3:$L$80,2,FALSE),0) -> 0 | L17: =IFERROR(VLOOKUP(B17,'[1]ACT NUM 13'!$H$3:$L$80,3,FALSE),0) -> 2 | M17: =IFERROR(VLOOKUP(B17,'[1]ACT NUM 13'!$H$3:$L$80,4,FALSE),0) -> 0 | W17: =SUM(K17:V17) -> 2 | X17: =IFERROR(VLOOKUP(B17,'[1]ACT NUM 13'!$AA$3:$AE$41,2,FALSE),0) -> 0 | Y17: =IFERROR(VLOOKUP(B17,'[1]ACT NUM 13'!$AA$3:$AE$41,3,FALSE),0) -> 0 | Z17: =IFERROR(VLOOKUP(B17,'[1]ACT NUM 13'!$AA$3:$AE$41,4,FALSE),0) -> 0 | AJ17: =SUM(X17:AI17) -> 0
A18: 04105-PAIHUANO | B18: 105475-P.S.R. HORCON | E18: =IFERROR(VLOOKUP(B18,[2]NUM13!$H$3:$K$147,3,FALSE),0) -> 0 | F18: =+E18+(K18+L18+M18)-(X18+Y18+Z18) -> 1 | H18: =+G18+(Q18+R18)-(AD18+AE18) -> 0 | I18: =+G18+(Q18+R18+S18+T18)-(AD18+AE18+AF18+AG18) -> 0 | K18: =IFERROR(VLOOKUP(B18,'[1]ACT NUM 13'!$H$3:$L$80,2,FALSE),0) -> 0 | L18: =IFERROR(VLOOKUP(B18,'[1]ACT NUM 13'!$H$3:$L$80,3,FALSE),0) -> 1 | M18: =IFERROR(VLOOKUP(B18,'[1]ACT NUM 13'!$H$3:$L$80,4,FALSE),0) -> 0 | W18: =SUM(K18:V18) -> 1 | X18: =IFERROR(VLOOKUP(B18,'[1]ACT NUM 13'!$AA$3:$AE$41,2,FALSE),0) -> 0 | Y18: =IFERROR(VLOOKUP(B18,'[1]ACT NUM 13'!$AA$3:$AE$41,3,FALSE),0) -> 0 | Z18: =IFERROR(VLOOKUP(B18,'[1]ACT NUM 13'!$AA$3:$AE$41,4,FALSE),0) -> 0 | AJ18: =SUM(X18:AI18) -> 0
A19: 04105-PAIHUANO | B19: 105476-P.S.R. MONTE GRANDE | E19: =IFERROR(VLOOKUP(B19,[2]NUM13!$H$3:$K$147,3,FALSE),0) -> 5 | F19: =+E19+(K19+L19+M19)-(X19+Y19+Z19) -> 6 | H19: =+G19+(Q19+R19)-(AD19+AE19) -> 0 | I19: =+G19+(Q19+R19+S19+T19)-(AD19+AE19+AF19+AG19) -> 0 | K19: =IFERROR(VLOOKUP(B19,'[1]ACT NUM 13'!$H$3:$L$80,2,FALSE),0) -> 0 | L19: =IFERROR(VLOOKUP(B19,'[1]ACT NUM 13'!$H$3:$L$80,3,FALSE),0) -> 1 | M19: =IFERROR(VLOOKUP(B19,'[1]ACT NUM 13'!$H$3:$L$80,4,FALSE),0) -> 0 | W19: =SUM(K19:V19) -> 1 | X19: =IFERROR(VLOOKUP(B19,'[1]ACT NUM 13'!$AA$3:$AE$41,2,FALSE),0) -> 0 | Y19: =IFERROR(VLOOKUP(B19,'[1]ACT NUM 13'!$AA$3:$AE$41,3,FALSE),0) -> 0 | Z19: =IFERROR(VLOOKUP(B19,'[1]ACT NUM 13'!$AA$3:$AE$41,4,FALSE),0) -> 0 | AJ19: =SUM(X19:AI19) -> 0
A20: 04105-PAIHUANO | B20: 105477-P.S.R. PISCO ELQUI | E20: =IFERROR(VLOOKUP(B20,[2]NUM13!$H$3:$K$147,3,FALSE),0) -> 0 | F20: =+E20+(K20+L20+M20)-(X20+Y20+Z20) -> 1 | H20: =+G20+(Q20+R20)-(AD20+AE20) -> 0 | I20: =+G20+(Q20+R20+S20+T20)-(AD20+AE20+AF20+AG20) -> 0 | K20: =IFERROR(VLOOKUP(B20,'[1]ACT NUM 13'!$H$3:$L$80,2,FALSE),0) -> 1 | L20: =IFERROR(VLOOKUP(B20,'[1]ACT NUM 13'!$H$3:$L$80,3,FALSE),0) -> 0 | M20: =IFERROR(VLOOKUP(B20,'[1]ACT NUM 13'!$H$3:$L$80,4,FALSE),0) -> 0 | W20: =SUM(K20:V20) -> 1 | X20: =IFERROR(VLOOKUP(B20,'[1]ACT NUM 13'!$AA$3:$AE$41,2,FALSE),0) -> 0 | Y20: =IFERROR(VLOOKUP(B20,'[1]ACT NUM 13'!$AA$3:$AE$41,3,FALSE),0) -> 0 | Z20: =IFERROR(VLOOKUP(B20,'[1]ACT NUM 13'!$AA$3:$AE$41,4,FALSE),0) -> 0 | AJ20: =SUM(X20:AI20) -> 0
A21: TOTAL PAIHUANO | C21: =+D21/Metas!S6 -> 0.44299053 | D21: =E21/AK21 -> 0.048507463 | E21: =SUM(E17:E20) -> 39 | F21: =SUM(F17:F20) -> 44 | G21: =SUM(G17:G20) -> 0 | H21: =SUM(H17:H20) -> 0 | I21: =SUM(I17:I20) -> 0 | J21: =SUM(J17:J20) -> 0 | K21: =SUM(K17:K20) -> 1 | L21: =SUM(L17:L20) -> 4 | ... AJ21: =SUM(AJ17:AJ20) -> 0 | AK21: 804
B22: TOTAL

Sheet META 14
A1: COMUNA | B1: ESTABLECIMIENTO | C1: CUMPLIMIENTO | D1: Indicador | E1: META 14 : CAPACITACIÓN A CUIDADORES DE PERSONAS CON DEPENDENCIA CON PAGO DE ESTIPENDIO
E2: NUMERADOR | G2: DENOMINADOR
E10: Nº de cuidadores de personas con dependencia severa con pago de estipendio capacitados | G10: Nº total de cuidadores de personas con dependencia severa con pago de estipendio
D11: Resultado | E11: A JUNIO | F11: A DICBRE | G11: A JUNIO | H11: A DICBRE
A12: 04104-LA HIGUERA | B12: 105314-CES. LA HIGUERA
A13: 04104-LA HIGUERA | B13: 105500-P.S.R. CALETA HORNOS
A14: 04104-LA HIGUERA | B14: 105505-P.S.R. LOS CHOROS
A15: 04104-LA HIGUERA | B15: 105506-P.S.R. EL TRAPICHE
A16: TOTAL LA HIGUERA | D16: =+E16/G16 -> #DIV/0! | E16: =SUM(E12:E15) -> 0 | F16: =SUM(F12:F15) -> 0 | G16: =SUM(G12:G15) -> 0 | H16: =SUM(H12:H15) -> 0
A17: 04105-PAIHUANO | B17: 105306-CES. PAIHUANO
A18: 04105-PAIHUANO | B18: 105475-P.S.R. HORCON
A19: 04105-PAIHUANO | B19: 105476-P.S.R. MONTE GRANDE
A20: 04105-PAIHUANO | B20: 105477-P.S.R. PISCO ELQUI
A21: TOTAL PAIHUANO | D21: =+E21/G21 -> #DIV/0! | E21: =SUM(E17:E20) -> 0 | F21: =SUM(F17:F20) -> 0 | G21: =SUM(G17:G20) -> 0 | H21: =SUM(H17:H20) -> 0
B22: TOTAL

Sheet META 17
A1: COMUNA | B1: ESTABLECIMIENTO | C1: CUMPLIMIENTO | D1: Indicador | E1: META 17: INGRESO PRECOZ A CONTROL DE EMBARAZO
E2: NUMERADOR | R2: DENOMINADOR
E10: Nº de mujeres embarazadas ingresadas antes de las 14 semanas a control | R10: Total de mujeres embarazadas ingresadas a control
D11: Resultado | E11: ENERO | F11: FEBRERO | G11: MARZO | H11: ABRIL | I11: MAYO | J11: JUNIO | K11: JULIO | L11: AGOSTO | M11: SEPBRE | N11: OCTBRE | O11: NOVBRE | P11: DICBRE | Q11: TOTAL | R11: ENERO | S11: FEBRERO | T11: MARZO | U11: ABRIL | V11: MAYO | W11: JUNIO | X11: JULIO | Y11: AGOSTO | Z11: SEPBRE | AA11: OCTBRE | AB11: NOVBRE | AC11: DICBRE | AD11: TOTAL
A12: 04104-LA HIGUERA | B12: 105314-CES. LA HIGUERA | E12: =IFERROR(VLOOKUP(B12,[1]NUM17!$H$3:$L$113,2,FALSE),0) -> 0 | F12: =IFERROR(VLOOKUP(B12,[1]NUM17!$H$3:$L$113,3,FALSE),0) -> 0 | G12: =IFERROR(VLOOKUP(B12,[1]NUM17!$H$3:$L$113,4,FALSE),0) -> 1 | Q12: =SUM(E12:P12) -> 1 | R12: =IFERROR(VLOOKUP(B12,[1]DEN17!$H$3:$L$117,2,FALSE),0) -> 0 | S12: =IFERROR(VLOOKUP(B12,[1]DEN17!$H$3:$L$117,3,FALSE),0) -> 0 | T12: =IFERROR(VLOOKUP(B12,[1]DEN17!$H$3:$L$117,4,FALSE),0) -> 2 | AD12: =SUM(R12:AC12) -> 2
A13: 04104-LA HIGUERA | B13: 105500-P.S.R. CALETA HORNOS | E13: =IFERROR(VLOOKUP(B13,[1]NUM17!$H$3:$L$113,2,FALSE),0) -> 3 | F13: =IFERROR(VLOOKUP(B13,[1]NUM17!$H$3:$L$113,3,FALSE),0) -> 0 | G13: =IFERROR(VLOOKUP(B13,[1]NUM17!$H$3:$L$113,4,FALSE),0) -> 1 | Q13: =SUM(E13:P13) -> 4 | R13: =IFERROR(VLOOKUP(B13,[1]DEN17!$H$3:$L$117,2,FALSE),0) -> 3 | S13: =IFERROR(VLOOKUP(B13,[1]DEN17!$H$3:$L$117,3,FALSE),0) -> 0 | T13: =IFERROR(VLOOKUP(B13,[1]DEN17!$H$3:$L$117,4,FALSE),0) -> 1 | AD13: =SUM(R13:AC13) -> 4
A14: 04104-LA HIGUERA | B14: 105505-P.S.R. LOS CHOROS | E14: =IFERROR(VLOOKUP(B14,[1]NUM17!$H$3:$L$113,2,FALSE),0) -> 0 | F14: =IFERROR(VLOOKUP(B14,[1]NUM17!$H$3:$L$113,3,FALSE),0) -> 0 | G14: =IFERROR(VLOOKUP(B14,[1]NUM17!$H$3:$L$113,4,FALSE),0) -> 0 | Q14: =SUM(E14:P14) -> 0 | R14: =IFERROR(VLOOKUP(B14,[1]DEN17!$H$3:$L$117,2,FALSE),0) -> 0 | S14: =IFERROR(VLOOKUP(B14,[1]DEN17!$H$3:$L$117,3,FALSE),0) -> 0 | T14: =IFERROR(VLOOKUP(B14,[1]DEN17!$H$3:$L$117,4,FALSE),0) -> 0 | AD14: =SUM(R14:AC14) -> 0
A15: 04104-LA HIGUERA | B15: 105506-P.S.R. EL TRAPICHE | E15: =IFERROR(VLOOKUP(B15,[1]NUM17!$H$3:$L$113,2,FALSE),0) -> 0 | F15: =IFERROR(VLOOKUP(B15,[1]NUM17!$H$3:$L$113,3,FALSE),0) -> 0 | G15: =IFERROR(VLOOKUP(B15,[1]NUM17!$H$3:$L$113,4,FALSE),0) -> 0 | Q15: =SUM(E15:P15) -> 0 | R15: =IFERROR(VLOOKUP(B15,[1]DEN17!$H$3:$L$117,2,FALSE),0) -> 0 | S15: =IFERROR(VLOOKUP(B15,[1]DEN17!$H$3:$L$117,3,FALSE),0) -> 0 | T15: =IFERROR(VLOOKUP(B15,[1]DEN17!$H$3:$L$117,4,FALSE),0) -> 0 | AD15: =SUM(R15:AC15) -> 0
A16: TOTAL LA HIGUERA | C16: =+D16/Metas!U7 -> 0.9495594 | D16: =+Q16/AD16 -> 0.83333333 | E16: =SUM(E12:E15) -> 3 | F16: =SUM(F12:F15) -> 0 | G16: =SUM(G12:G15) -> 2 | H16: =SUM(H12:H15) -> 0 | I16: =SUM(I12:I15) -> 0 | J16: =SUM(J12:J15) -> 0 | K16: =SUM(K12:K15) -> 0 | L16: =SUM(L12:L15) -> 0 | ... AD16: =SUM(AD12:AD15) -> 6
A17: 04105-PAIHUANO | B17: 105306-CES. PAIHUANO | E17: =IFERROR(VLOOKUP(B17,[1]NUM17!$H$3:$L$113,2,FALSE),0) -> 0 | F17: =IFERROR(VLOOKUP(B17,[1]NUM17!$H$3:$L$113,3,FALSE),0) -> 1 | G17: =IFERROR(VLOOKUP(B17,[1]NUM17!$H$3:$L$113,4,FALSE),0) -> 2 | Q17: =SUM(E17:P17) -> 3 | R17: =IFERROR(VLOOKUP(B17,[1]DEN17!$H$3:$L$117,2,FALSE),0) -> 0 | S17: =IFERROR(VLOOKUP(B17,[1]DEN17!$H$3:$L$117,3,FALSE),0) -> 3 | T17: =IFERROR(VLOOKUP(B17,[1]DEN17!$H$3:$L$117,4,FALSE),0) -> 3 | AD17: =SUM(R17:AC17) -> 6
A18: 04105-PAIHUANO | B18: 105475-P.S.R. HORCON | E18: =IFERROR(VLOOKUP(B18,[1]NUM17!$H$3:$L$113,2,FALSE),0) -> 0 | F18: =IFERROR(VLOOKUP(B18,[1]NUM17!$H$3:$L$113,3,FALSE),0) -> 1 | G18: =IFERROR(VLOOKUP(B18,[1]NUM17!$H$3:$L$113,4,FALSE),0) -> 1 | Q18: =SUM(E18:P18) -> 2 | R18: =IFERROR(VLOOKUP(B18,[1]DEN17!$H$3:$L$117,2,FALSE),0) -> 0 | S18: =IFERROR(VLOOKUP(B18,[1]DEN17!$H$3:$L$117,3,FALSE),0) -> 1 | T18: =IFERROR(VLOOKUP(B18,[1]DEN17!$H$3:$L$117,4,FALSE),0) -> 1 | AD18: =SUM(R18:AC18) -> 2
A19: 04105-PAIHUANO | B19: 105476-P.S.R. MONTE GRANDE | E19: =IFERROR(VLOOKUP(B19,[1]NUM17!$H$3:$L$113,2,FALSE),0) -> 0 | F19: =IFERROR(VLOOKUP(B19,[1]NUM17!$H$3:$L$113,3,FALSE),0) -> 0 | G19: =IFERROR(VLOOKUP(B19,[1]NUM17!$H$3:$L$113,4,FALSE),0) -> 0 | Q19: =SUM(E19:P19) -> 0 | R19: =IFERROR(VLOOKUP(B19,[1]DEN17!$H$3:$L$117,2,FALSE),0) -> 0 | S19: =IFERROR(VLOOKUP(B19,[1]DEN17!$H$3:$L$117,3,FALSE),0) -> 0 | T19: =IFERROR(VLOOKUP(B19,[1]DEN17!$H$3:$L$117,4,FALSE),0) -> 0 | AD19: =SUM(R19:AC19) -> 0
A20: 04105-PAIHUANO | B20: 105477-P.S.R. PISCO ELQUI | E20: =IFERROR(VLOOKUP(B20,[1]NUM17!$H$3:$L$113,2,FALSE),0) -> 2 | F20: =IFERROR(VLOOKUP(B20,[1]NUM17!$H$3:$L$113,3,FALSE),0) -> 0 | G20: =IFERROR(VLOOKUP(B20,[1]NUM17!$H$3:$L$113,4,FALSE),0) -> 1 | Q20: =SUM(E20:P20) -> 3 | R20: =IFERROR(VLOOKUP(B20,[1]DEN17!$H$3:$L$117,2,FALSE),0) -> 2 | S20: =IFERROR(VLOOKUP(B20,[1]DEN17!$H$3:$L$117,3,FALSE),0) -> 0 | T20: =IFERROR(VLOOKUP(B20,[1]DEN17!$H$3:$L$117,4,FALSE),0) -> 1 | AD20: =SUM(R20:AC20) -> 3
A21: TOTAL PAIHUANO | C21: =+D21/Metas!U6 -> 0.7982359 | D21: =+Q21/AD21 -> 0.72727273 | E21: =SUM(E17:E20) -> 2 | F21: =SUM(F17:F20) -> 2 | G21: =SUM(G17:G20) -> 4 | H21: =SUM(H17:H20) -> 0 | I21: =SUM(I17:I20) -> 0 | J21: =SUM(J17:J20) -> 0 | K21: =SUM(K17:K20) -> 0 | L21: =SUM(L17:L20) -> 0 | ... AD21: =SUM(AD17:AD20) -> 11
B22: TOTAL | E22: =+E16+E21 -> 5 | F22: =+F16+F21 -> 2 | G22: =+G16+G21 -> 6 | H22: =+H16+H21 -> 0 | I22: =+I16+I21 -> 0 | J22: =+J16+J21 -> 0 | K22: =+K16+K21 -> 0 | L22: =+L16+L21 -> 0 | ... AD22: =+AD16+AD21 -> 17

Sheet META 18
A1: COMUNA | B1: ESTABLECIMIENTO | C1: CUMPLIMIENTO | D1: Indicador | E1: META 18 : COBERTURA DE MÉTODOS ANTICONCEPTIVOS EN ADOLESCENTES
E2: NUMERADOR | G2: DENOMINADOR
E10: Nº de adolescentes de 15 a 19 años estimados que usan métodos de regulación de fertilidad (Bajo Control) | G10: Total de adolescentes de 15 a 19 años estimados
D11: Resultado | E11: A JUNIO | F11: A DICBRE
A12: 04104-LA HIGUERA | B12: 105314-CES. LA HIGUERA
A13: 04104-LA HIGUERA | B13: 105500-P.S.R. CALETA HORNOS
A14: 04104-LA HIGUERA | B14: 105505-P.S.R. LOS CHOROS
A15: 04104-LA HIGUERA | B15: 105506-P.S.R. EL TRAPICHE
A16: TOTAL LA HIGUERA | D16: =+E16/G16 -> 0 | E16: =SUM(E12:E15) -> 0 | F16: =SUM(F12:F15) -> 0 | G16: 223
A17: 04105-PAIHUANO | B17: 105306-CES. PAIHUANO
A18: 04105-PAIHUANO | B18: 105475-P.S.R. HORCON
A19: 04105-PAIHUANO | B19: 105476-P.S.R. MONTE GRANDE
A20: 04105-PAIHUANO | B20: 105477-P.S.R. PISCO ELQUI
A21: TOTAL PAIHUANO | D21: =+E21/G21 -> 0 | E21: =SUM(E17:E20) -> 0 | F21: =SUM(F17:F20) -> 0 | G21: 252
B22: TOTAL

Sheet META 19
A1: COMUNA | B1: ESTABLECIMIENTO | C1: CUMPLIMIENTO | D1: Indicador | E1: META 19: COBERTURA EFECTIVA DE TRATAMIENTO EN PERSONAS DE 15 AÑOS Y MAS CON DIABETES MELLITUS 2
E2: NUMERADOR | K2: DENOMINADOR
E10: Nº de personas con DM2 que cumplen Metas de Compensación definidas | G10: Nº de personas con DM 2 de 15 a 79 años con Hb A1c bajo 7% | I10: Nº de personas con DM 2 de 80 y más años con Hb A1c bajo 8% | K10: Nº de diabéticos de 15 y más, esperados según prevalencia
D11: Resultado | E11: A JUNIO | F11: A DICBRE | G11: A JUNIO | H11: A DICBRE | I11: A JUNIO | J11: A DICBRE
A12: 04104-LA HIGUERA | B12: 105314-CES. LA HIGUERA | E12: =+G12+I12 -> 0 | F12: =+H12+J12 -> 0
A13: 04104-LA HIGUERA | B13: 105500-P.S.R. CALETA HORNOS | E13: =+G13+I13 -> 0 | F13: =+H13+J13 -> 0
A14: 04104-LA HIGUERA | B14: 105505-P.S.R. LOS CHOROS | E14: =+G14+I14 -> 0 | F14: =+H14+J14 -> 0
A15: 04104-LA HIGUERA | B15: 105506-P.S.R. EL TRAPICHE | E15: =+G15+I15 -> 0 | F15: =+H15+J15 -> 0
A16: TOTAL LA HIGUERA | D16: =+E16/K16 -> 0 | E16: =SUM(E12:E15) -> 0 | F16: =SUM(F12:F15) -> 0 | G16: =SUM(G12:G15) -> 0 | H16: =SUM(H12:H15) -> 0 | I16: =SUM(I12:I15) -> 0 | J16: =SUM(J12:J15) -> 0 | K16: 390
A17: 04105-PAIHUANO | B17: 105306-CES. PAIHUANO | E17: =+G17+I17 -> 0 | F17: =+H17+J17 -> 0
A18: 04105-PAIHUANO | B18: 105475-P.S.R. HORCON | E18: =+G18+I18 -> 0 | F18: =+H18+J18 -> 0
A19: 04105-PAIHUANO | B19: 105476-P.S.R. MONTE GRANDE | E19: =+G19+I19 -> 0 | F19: =+H19+J19 -> 0
A20: 04105-PAIHUANO | B20: 105477-P.S.R. PISCO ELQUI
A21: TOTAL PAIHUANO | D21: =+E21/K21 -> 0 | E21: =SUM(E17:E20) -> 0 | F21: =SUM(F17:F20) -> 0 | G21: =SUM(G17:G20) -> 0 | H21: =SUM(H17:H20) -> 0 | I21: =SUM(I17:I20) -> 0 | J21: =SUM(J17:J20) -> 0 | K21: 472
B22: TOTAL | D22: =+D16+D21 -> 0 | E22: =+E21+E16 -> 0 | F22: =+F21+F16 -> 0 | G22: =+G21+G16 -> 0 | H22: =+H21+H16 -> 0 | I22: =+I21+I16 -> 0 | J22: =+J21+J16 -> 0

Sheet META 20
A1: COMUNA | B1: ESTABLECIMIENTO | C1: CUMPLIMIENTO | D1: Indicador | E1: META 20: COBERTURA EFECTIVA DE TRATAMIENTO EN PERSONAS DE 15 AÑOS Y MAS CON HIPERTENSION ARTERIAL
E2: NUMERADOR | K2: DENOMINADOR
E10: Nº de personas hipertensas que cumplen Metas de Compensación definidas | G10: Nº de personas hipertensas de 15 a 79 años con PA< 140/90 mm Hg | I10: Nº de personas hipertensas de 80 y más años con PA< 150/90 mm Hg | K10: Nº de Hipertensos de 15 y más, esperados según prevalencia
D11: Resultado | E11: A JUNIO | F11: A DICBRE | G11: A JUNIO | H11: A DICBRE | I11: A JUNIO | J11: A DICBRE
A12: 04104-LA HIGUERA | B12: 105314-CES. LA HIGUERA | E12: =+G12+I12 -> 0 | F12: =+H12+J12 -> 0
A13: 04104-LA HIGUERA | B13: 105500-P.S.R. CALETA HORNOS | E13: =+G13+I13 -> 0 | F13: =+H13+J13 -> 0
A14: 04104-LA HIGUERA | B14: 105505-P.S.R. LOS CHOROS | E14: =+G14+I14 -> 0 | F14: =+H14+J14 -> 0
A15: 04104-LA HIGUERA | B15: 105506-P.S.R. EL TRAPICHE | E15: =+G15+I15 -> 0 | F15: =+H15+J15 -> 0
A16: TOTAL LA HIGUERA | D16: =+E16/K16 -> 0 | E16: =SUM(E12:E15) -> 0 | F16: =SUM(F12:F15) -> 0 | G16: =SUM(G12:G15) -> 0 | H16: =SUM(H12:H15) -> 0 | I16: =SUM(I12:I15) -> 0 | J16: =SUM(J12:J15) -> 0 | K16: 740
A17: 04105-PAIHUANO | B17: 105306-CES. PAIHUANO | E17: =+G17+I17 -> 0 | F17: =+H17+J17 -> 0
A18: 04105-PAIHUANO | B18: 105475-P.S.R. HORCON | E18: =+G18+I18 -> 0 | F18: =+H18+J18 -> 0
A19: 04105-PAIHUANO | B19: 105476-P.S.R. MONTE GRANDE | E19: =+G19+I19 -> 0 | F19: =+H19+J19 -> 0
A20: 04105-PAIHUANO | B20: 105477-P.S.R. PISCO ELQUI | E20: =+G20+I20 -> 0 | F20: =+H20+J20 -> 0
A21: TOTAL PAIHUANO | D21: =+E21/K21 -> 0 | E21: =SUM(E17:E20) -> 0 | F21: =SUM(F17:F20) -> 0 | G21: =SUM(G17:G20) -> 0 | H21: =SUM(H17:H20) -> 0 | I21: =SUM(I17:I20) -> 0 | J21: =SUM(J17:J20) -> 0 | K21: 905
B22: TOTAL | D22: =+D16+D21 -> 0 | E22: =+E21+E16 -> 0 | F22: =+F21+F16 -> 0 | G22: =+G21+G16 -> 0 | H22: =+H21+H16 -> 0 | I22: =+I21+I16 -> 0 | J22: =+J21+J16 -> 0

Sheet META 21
A1: COMUNA | B1: ESTABLECIMIENTO | C1: CUMPLIMIENTO | D1: Indicador | E1: META 21: PROPORCIÓN DE NIÑAS Y NIÑOS DE 3 AÑOS LIBRE DE CARIES
E2: NUMERADOR | R2: DENOMINADOR
E10: Nº de niñas y niños menores de 3 años con regsitro de CEOD=0 | R10: Nº de niñas y niños menores de 3 años estimados
D11: Resultado | E11: ENERO | F11: FEBRERO | G11: MARZO | H11: ABRIL | I11: MAYO | J11: JUNIO | K11: JULIO | L11: AGOSTO | M11: SEPBRE | N11: OCTBRE | O11: NOVBRE | P11: DICBRE | Q11: TOTAL
A12: 04104-LA HIGUERA | B12: 105314-CES. LA HIGUERA | E12: =IFERROR(VLOOKUP(B12,[1]NUM21!$H$3:$L$118,2,FALSE),0) -> 0 | F12: =IFERROR(VLOOKUP(B12,[1]NUM21!$H$3:$L$118,3,FALSE),0) -> 0 | G12: =IFERROR(VLOOKUP(B12,[1]NUM21!$H$3:$L$118,4,FALSE),0) -> 1 | Q12: =SUM(E12:P12) -> 1
A13: 04104-LA HIGUERA | B13: 105500-P.S.R. CALETA HORNOS | E13: =IFERROR(VLOOKUP(B13,[1]NUM21!$H$3:$L$118,2,FALSE),0) -> 0 | F13: =IFERROR(VLOOKUP(B13,[1]NUM21!$H$3:$L$118,3,FALSE),0) -> 0 | G13: =IFERROR(VLOOKUP(B13,[1]NUM21!$H$3:$L$118,4,FALSE),0) -> 0 | Q13: =SUM(E13:P13) -> 0
A14: 04104-LA HIGUERA | B14: 105505-P.S.R. LOS CHOROS | E14: =IFERROR(VLOOKUP(B14,[1]NUM21!$H$3:$L$118,2,FALSE),0) -> 0 | F14: =IFERROR(VLOOKUP(B14,[1]NUM21!$H$3:$L$118,3,FALSE),0) -> 0 | G14: =IFERROR(VLOOKUP(B14,[1]NUM21!$H$3:$L$118,4,FALSE),0) -> 1 | Q14: =SUM(E14:P14) -> 1
A15: 04104-LA HIGUERA | B15: 105506-P.S.R. EL TRAPICHE | E15: =IFERROR(VLOOKUP(B15,[1]NUM21!$H$3:$L$118,2,FALSE),0) -> 0 | F15: =IFERROR(VLOOKUP(B15,[1]NUM21!$H$3:$L$118,3,FALSE),0) -> 0 | G15: =IFERROR(VLOOKUP(B15,[1]NUM21!$H$3:$L$118,4,FALSE),0) -> 0 | Q15: =SUM(E15:P15) -> 0
A16: TOTAL LA HIGUERA | C16: =+D16/Metas!Y7 -> 0.023148148 | D16: =+Q16/R16 -> 0.013888889 | E16: =SUM(E12:E15) -> 0 | F16: =SUM(F12:F15) -> 0 | G16: =SUM(G12:G15) -> 2 | H16: =SUM(H12:H15) -> 0 | I16: =SUM(I12:I15) -> 0 | J16: =SUM(J12:J15) -> 0 | K16: =SUM(K12:K15) -> 0 | L16: =SUM(L12:L15) -> 0 | ... Q16: =SUM(Q12:Q15) -> 2 | R16: 144
A17: 04105-PAIHUANO | B17: 105306-CES. PAIHUANO | E17: =IFERROR(VLOOKUP(B17,[1]NUM21!$H$3:$L$118,2,FALSE),0) -> 2 | F17: =IFERROR(VLOOKUP(B17,[1]NUM21!$H$3:$L$118,3,FALSE),0) -> 0 | G17: =IFERROR(VLOOKUP(B17,[1]NUM21!$H$3:$L$118,4,FALSE),0) -> 2 | Q17: =SUM(E17:P17) -> 4
A18: 04105-PAIHUANO | B18: 105475-P.S.R. HORCON | E18: =IFERROR(VLOOKUP(B18,[1]NUM21!$H$3:$L$118,2,FALSE),0) -> 0 | F18: =IFERROR(VLOOKUP(B18,[1]NUM21!$H$3:$L$118,3,FALSE),0) -> 0 | G18: =IFERROR(VLOOKUP(B18,[1]NUM21!$H$3:$L$118,4,FALSE),0) -> 1 | Q18: =SUM(E18:P18) -> 1
A19: 04105-PAIHUANO | B19: 105476-P.S.R. MONTE GRANDE | E19: =IFERROR(VLOOKUP(B19,[1]NUM21!$H$3:$L$118,2,FALSE),0) -> 1 | F19: =IFERROR(VLOOKUP(B19,[1]NUM21!$H$3:$L$118,3,FALSE),0) -> 0 | G19: =IFERROR(VLOOKUP(B19,[1]NUM21!$H$3:$L$118,4,FALSE),0) -> 0 | Q19: =SUM(E19:P19) -> 1
A20: 04105-PAIHUANO | B20: 105477-P.S.R. PISCO ELQUI | E20: =IFERROR(VLOOKUP(B20,[1]NUM21!$H$3:$L$118,2,FALSE),0) -> 0 | F20: =IFERROR(VLOOKUP(B20,[1]NUM21!$H$3:$L$118,3,FALSE),0) -> 0 | G20: =IFERROR(VLOOKUP(B20,[1]NUM21!$H$3:$L$118,4,FALSE),0) -> 0 | Q20: =SUM(E20:P20) -> 0
A21: TOTAL PAIHUANO | C21: =+D21/Metas!Y6 -> 0.058823529 | D21: =+Q21/R21 -> 0.035294118 | E21: =SUM(E17:E20) -> 3 | F21: =SUM(F17:F20) -> 0 | G21: =SUM(G17:G20) -> 3 | H21: =SUM(H17:H20) -> 0 | I21: =SUM(I17:I20) -> 0 | J21: =SUM(J17:J20) -> 0 | K21: =SUM(K17:K20) -> 0 | L21: =SUM(L17:L20) -> 0 | ... Q21: =SUM(Q17:Q20) -> 6 | R21: 170
B22: TOTAL | E22: =+E16+E21 -> 3 | F22: =+F16+F21 -> 0 | G22: =+G16+G21 -> 5 | H22: =+H16+H21 -> 0 | I22: =+I16+I21 -> 0 | J22: =+J16+J21 -> 0 | K22: =+K16+K21 -> 0 | L22: =+L16+L21 -> 0 | ... R22: =+R16+R21 -> 314

Sheet Metas
A1: METAS ANUALES
E2: CODIGO COMUNA | F2: TIPO | G2: METAS COMPONENTE ACTIVIDAD GENERAL | AE2: 2016 | AF2: 2016 | AG2: 2017 | AH2: 2017 | AK2: A ABRIL | AM2: A JULIO | AO2: A OCTUBRE | AQ2: A DICIEMBRE
G3: META Nº 2 | H3: META Nº 3.1 | I3: META Nº 5 | J3: META Nº 6 | K3: META Nº 7 | L3: META Nº 8.1 | M3: META Nº 8.2 | N3: META Nº 8.3 | O3: META Nº9 | P3: META Nº10 | Q3: META Nº11 | R3: META Nº12 | S3: META Nº13 | T3: META Nº14 | U3: META Nº17 | V3: META Nº18 | W3: META Nº19 | X3: META Nº20 | Y3: META Nº21 | AE3: META Nº12 | AF3: META Nº13 | AG3: META Nº12 | AH3: META Nº13 | AI3: DIF 2017-2016 | AK3: META Nº12 | AL3: META Nº13 | AM3: META Nº12 | AN3: META Nº13 | AO3: META Nº12 | AP3: META Nº13 | AQ3: META Nº12 | AR3: META Nº13
A4: Nº | B4: SERVICIOS DE SALUD | C4: Nº | D4: COMUNA | G4: Porcentaje de familias evaluadas según riesgo familiar | H4: Gestión de reclamos en APS con enfoque participativo (porcentaje de reclamos respondidos dentro de plazo) | I4: Tasa de consultas de morbilidad y de controles médicos, por habitante año | J4: SIC derivadas desde APS al Nivel Secundario | K4: Tasa de Visita Domiciliaria Integral | L4: EMP hombres 20 a 64 años | M4: EMP mujeres de 45 a 64 años | N4: EMP hombres y mujeres de 65 y mas años | O4: Cobertura de Evaluación del desarrollo Psicomotor en niños y niñas de 12 a 23 meses bajo control. | P4: Cobertura de control de salud integral a adolescentes de 10 a 14 años | Q4: Proporción de menores de 20 años con alta odontologica total | R4: Cobertura de atención Integral a personas de 5 y más años con trastornos mentales | S4: Cobertura de atención de Asma en población general y EPOC en personas de 40 y más años | T4: Cobertura de capacitación a cuidadores de personas con dependencia severa con pago de estipendio | U4: Ingreso precoz de mujeres a control de embarazo | V4: Cobertura de método anticonceptivos en adolescentes de 15 a 19 años estimados que usan métodos de regulación de la fertilidad | W4: Cobertura efectiva de Tratamiento en personas con Diabetes Mellitus 2, de 15 y más años | X4: Cobertura efectiva de Tratamiento en personas de 15 y más años, con Hipertensión Arterial | Y4: Proporción de niñas y niños menores de 3 años libre de caries en población estimada | AE4: Cobertura de atención Integral a personas de 5 y más años con trastornos mentales | AF4: Cobertura de atención de Asma en población general y EPOC en personas de 40 y más años | AG4: Cobertura de atención Integral a personas de 5 y más años con trastornos mentales | AH4: Cobertura de atención de Asma en población general y EPOC en personas de 40 y más años | AI4: Cobertura de atención Integral a personas de 5 y más años con trastornos mentales | AJ4: Cobertura de atención de Asma en población general y EPOC en personas de 40 y más años | AK4: Cobertura de atención Integral a personas de 5 y más años con trastornos mentales | AL4: Cobertura de atención de Asma en población general y EPOC en personas de 40 y más años | AM4: Cobertura de atención Integral a personas de 5 y más años con trastornos mentales | AN4: Cobertura de atención de Asma en población general y EPOC en personas de 40 y más años | AO4: Cobertura de atención Integral a personas de 5 y más años con trastornos mentales | AP4: Cobertura de atención de Asma en población general y EPOC en personas de 40 y más años | AQ4: Cobertura de atención Integral a personas de 5 y más años con trastornos mentales | AR4: Cobertura de atención de Asma en población general y EPOC en personas de 40 y más años
G5: 0.15 | H5: 0.97 | I5: 1 | J5: 0.1 | K5: 0.22 | L5: 0.2 | M5: 0.25 | N5: 0.55 | O5: 0.94 | P5: 0.15 | Q5: 0.24 | R5: 0.17 | S5: 0.22 | T5: 0.9 | U5: 0.9 | V5: 0.19 | W5: 0.29 | X5: 0.54
A6: 17 | B6: COQUIMBO | C6: 5 | D6: PAIHUANO | E6: 4202 | F6: COSTO FIJO | G6: 0.1045 | H6: 0.9813 | I6: 1.21 | J6: 0.0999 | K6: 0.59 | L6: 0.1056 | M6: 0.1509 | N6: 0.8329 | O6: 0.94 | P6: 0.1505 | Q6: 0.2402 | R6: 0.255 | S6: 0.1095 | T6: 0.7647 | U6: 0.9111 | V6: 0.2698 | W6: 0.2627 | X6: 0.5094 | Y6: 0.6 | AE6: 0.2635 | AF6: 0.0478 | AG6: 0.2361 | AH6: 0.2206 | AI6: =AG6-AE6 -> -0.0274 | AJ6: =+AH6-AF6 -> 0.1728 | AK6: =+AE6+(AI6/4) -> 0.25665 | AL6: =+AF6+(AJ6/4) -> 0.091 | AM6: =+AE6+(AI6/2) -> 0.2498 | AN6: =+AF6+(AJ6/2) -> 0.1342 | AO6: =+AE6+(AI6*0.75) -> 0.24295 | AP6: =+AF6+(AJ6*0.75) -> 0.1774 | AQ6: =+AE6+AI6 -> 0.2361 | AR6: =+AF6+AJ6 -> 0.2206
A7: 18 | B7: COQUIMBO | C7: 5 | D7: LA HIGUERA | E7: 4302 | F7: COSTO FIJO | G7: 0.1397 | H7: 0.9833 | I7: 1.1 | J7: 0.0999 | K7: 0.25 | L7: 0.1457 | M7: 0.2276 | N7: 0.5057 | O7: 0.94 | P7: 0.166 | Q7: 0.3591 | R7: 0.2886 | S7: 0.2025 | T7: 0.7857 | U7: 0.8776 | V7: 0.2377 | W7: 0.2667 | X7: 0.45 | Y7: 0.6 | AE7: 0.2801 | AF7: 0.3443 | AG7: 0.3109 | AH7: 0.3492 | AI7: =AG7-AE7 -> 0.0308 | AJ7: =+AH7-AF7 -> 0.0049 | AK7: =+AE7+(AI7/4) -> 0.2878 | AL7: =+AF7+(AJ7/4) -> 0.345525 | AM7: =+AE7+(AI7/2) -> 0.2955 | AN7: =+AF7+(AJ7/2) -> 0.34675 | AO7: =+AE7+(AI7*0.75) -> 0.3032 | AP7: =+AF7+(AJ7*0.75) -> 0.347975 | AQ7: =+AE7+AI7 -> 0.3109 | AR7: =+AF7+AJ7 -> 0.3492
AI8: =AG8-AE8 -> 0 | AM8: =+AF8+(AJ8/2) -> 0
AI9: =AG9-AE9 -> 0 | AM9: =+AF9+(AJ9/2) -> 0
A10: METAS A ABRIL
E11: CODIGO COMUNA | F11: TIPO | G11: METAS COMPONENTE ACTIVIDAD GENERAL
G12: META Nº 2 | H12: META Nº 3.1 | I12: META Nº 5 | J12: META Nº 6 | K12: META Nº 7 | L12: META Nº 8.1 | M12: META Nº 8.2 | N12: META Nº 8.3 | O12: META Nº9 | P12: META Nº10 | Q12: META Nº11 | R12: META Nº12 | S12: META Nº13 | T12: META Nº14 | U12: META Nº17 | V12: META Nº18 | W12: META Nº19 | X12: META Nº20 | Y12: META Nº21 | AE12: META Nº12 | AF12: META Nº13
A13: Nº | B13: SERVICIOS DE SALUD | C13: Nº | D13: COMUNA | G13: Porcentaje de familias evaluadas según riesgo familiar | H13: Gestión de reclamos en APS con enfoque participativo (porcentaje de reclamos respondidos dentro de plazo) | I13: Tasa de consultas de morbilidad y de controles médicos, por habitante año | J13: SIC derivadas desde APS al Nivel Secundario | K13: Tasa de Visita Domiciliaria Integral | L13: EMP hombres 20 a 64 años | M13: EMP mujeres de 45 a 64 años | N13: EMP hombres y mujeres de 65 y mas años | O13: Cobertura de Evaluación del desarrollo Psicomotor en niños y niñas de 12 a 23 meses bajo control. | P13: Cobertura de control de salud integral a adolescentes de 10 a 14 años | Q13: Proporción de menores de 20 años con alta odontologica total | R13: Cobertura de atención Integral a personas de 5 y más años con trastornos mentales | S13: Cobertura de atención de Asma en población general y EPOC en personas de 40 y más años | T13: Cobertura de capacitación a cuidadores de personas con dependencia severa con pago de estipendio | U13: Ingreso precoz de mujeres a control de embarazo | V13: Cobertura de método anticonceptivos en adolescentes de 15 a 19 años estimados que usan métodos de regulación de la fertilidad | W13: Cobertura efectiva de Tratamiento en personas con Diabetes Mellitus 2, de 15 y más años | X13: Cobertura efectiva de Tratamiento en personas de 15 y más años, con Hipertensión Arterial | Y13: Proporción de niñas y niños menores de 3 años libre de caries en población estimada | AE13: Cobertura de atención Integral a personas de 5 y más años con trastornos mentales | AF13: Cobertura de atención de Asma en población general y EPOC en personas de 40 y más años
G14: 0.15 | H14: 1 | I14: 0.15 | J14: 1 | K14: 0.15 | L14: 0.15 | M14: 0.15 | N14: 0.15 | O14: 1 | P14: 0.15 | Q14: 0.15 | T14: 0.15 | U14: 1 | V14: 0.15 | W14: 1 | X14: 1 | AE14: 0.15 | AF14: 0.15
A15: 17 | B15: COQUIMBO | C15: 5 | D15: PAIHUANO | E15: 4202 | F15: RURAL | G15: =+$G6*$G$14 -> 0.015675 | H15: =+$H6*$H$14 -> 0.9813 | I15: =+$I6*$I$14 -> 0.1815 | J15: =+$J6*$J$14 -> 0.0999 | K15: =+$K6*$K$14 -> 0.0885 | L15: =+$L6*$L$14 -> 0.01584 | M15: =+$M6*$M$14 -> 0.022635 | N15: =+$N6*$N$14 -> 0.124935 | O15: =+$O6*$O$14 -> 0.94 | P15: =+$P6*$P$14 -> 0.022575 | Q15: =+$Q6*$Q$14 -> 0.03603 | S15: 0.091 | T15: =+$T6*$T$14 -> 0.114705 | U15: =+$U6*$U$14 -> 0.9111 | V15: =+$V6*$V$14 -> 0.04047 | W15: =+$W6*$W$14 -> 0.2627 | X15: =+$X6*$X$14 -> 0.5094 | AE15: =+$R6*$R$14 -> 0 | AF15: =+$S6*$S$14 -> 0
A16: 18 | B16: COQUIMBO | C16: 5 | D16: LA HIGUERA | E16: 4302 | F16: RURAL | G16: =+$G7*$G$14 -> 0.020955 | H16: =+$H7*$H$14 -> 0.9833 | I16: =+$I7*$I$14 -> 0.165 | J16: =+$J7*$J$14 -> 0.0999 | K16: =+$K7*$K$14 -> 0.0375 | L16: =+$L7*$L$14 -> 0.021855 | M16: =+$M7*$M$14 -> 0.03414 | N16: =+$N7*$N$14 -> 0.075855 | O16: =+$O7*$O$14 -> 0.94 | P16: =+$P7*$P$14 -> 0.0249 | Q16: =+$Q7*$Q$14 -> 0.053865 | R16: 0.2878 | S16: 0.345525 | T16: =+$T7*$T$14 -> 0.117855 | U16: =+$U7*$U$14 -> 0.8776 | V16: =+$V7*$V$14 -> 0.035655 | W16: =+$W7*$W$14 -> 0.2667 | X16: =+$X7*$X$14 -> 0.45 | AE16: =+$R7*$R$14 -> 0 | AF16: =+$S7*$S$14 -> 0
A20: METAS A JULIO
E21: CODIGO COMUNA | F21: TIPO | G21: METAS COMPONENTE ACTIVIDAD GENERAL
G22: META Nº 2 | H22: META Nº 3.1 | I22: META Nº 5 | J22: META Nº 6 | K22: META Nº 7 | L22: META Nº 8.1 | M22: META Nº 8.2 | N22: META Nº 8.3 | O22: META Nº9 | P22: META Nº10 | Q22: META Nº11 | R22: META Nº12 | S22: META Nº13 | T22: META Nº14 | U22: META Nº17 | V22: META Nº18 | W22: META Nº19 | X22: META Nº20 | Y22: META Nº21 | AE22: META Nº12 | AF22: META Nº13
A23: Nº | B23: SERVICIOS DE SALUD | C23: Nº | D23: COMUNA | G23: Porcentaje de familias evaluadas según riesgo familiar | H23: Gestión de reclamos en APS con enfoque participativo (porcentaje de reclamos respondidos dentro de plazo) | I23: Tasa de consultas de morbilidad y de controles médicos, por habitante año | J23: SIC derivadas desde APS al Nivel Secundario | K23: Tasa de Visita Domiciliaria Integral | L23: EMP hombres 20 a 64 años | M23: EMP mujeres de 45 a 64 años | N23: EMP hombres y mujeres de 65 y mas años | O23: Cobertura de Evaluación del desarrollo Psicomotor en niños y niñas de 12 a 23 meses bajo control. | P23: Cobertura de control de salud integral a adolescentes de 10 a 14 años | Q23: Proporción de menores de 20 años con alta odontologica total | R23: Cobertura de atención Integral a personas de 5 y más años con trastornos mentales | S23: Cobertura de atención de Asma en población general y EPOC en personas de 40 y más años | T23: Cobertura de capacitación a cuidadores de personas con dependencia severa con pago de estipendio | U23: Ingreso precoz de mujeres a control de embarazo | V23: Cobertura de método anticonceptivos en adolescentes de 15 a 19 años estimados que usan métodos de regulación de la fertilidad | W23: Cobertura efectiva de Tratamiento en personas con Diabetes Mellitus 2, de 15 y más años | X23: Cobertura efectiva de Tratamiento en personas de 15 y más años, con Hipertensión Arterial | Y23: Proporción de niñas y niños menores de 3 años libre de caries en población estimada | AE23: Cobertura de atención Integral a personas de 5 y más años con trastornos mentales | AF23: Cobertura de atención de Asma en población general y EPOC en personas de 40 y más años
G24: 0.15 | H24: 0.97 | I24: 1 | J24: 0.1 | K24: 0.22 | L24: 0.2 | M24: 0.25 | N24: 0.55 | O24: 0.94 | P24: 0.15 | Q24: 0.24 | R24: 0.17 | S24: 0.22 | T24: 0.9 | U24: 0.9 | V24: 0.19 | W24: 0.29 | X24: 0.54 | AE24: 0.17 | AF24: 0.22
A25: 17 | B25: COQUIMBO | C25: 5 | D25: CANELA | E25: 4202 | F25: RURAL
A26: 18 | B26: COQUIMBO | C26: 5 | D26: COMBARBALA | E26: 4302 | F26: RURAL
A27: 19 | B27: COQUIMBO | C27: 5 | D27: COQUIMBO | E27: 4102 | F27: URBANA
A28: 20 | B28: COQUIMBO | C28: 5 | D28: ILLAPEL | E28: 4201 | F28: RURAL
A29: 21 | B29: COQUIMBO | C29: 5 | D29: LA SERENA | E29: 4101 | F29: URBANA
A30: 22 | B30: COQUIMBO | C30: 5 | D30: LOS VILOS | E30: 4203 | F30: RURAL
A31: 23 | B31: COQUIMBO | C31: 5 | D31: MONTE PATRIA | E31: 4303 | F31: RURAL
A32: 24 | B32: COQUIMBO | C32: 5 | D32: OVALLE | E32: 4301 | F32: RURAL
A33: 25 | B33: COQUIMBO | C33: 5 | D33: PUNITAQUI | E33: 4304 | F33: RURAL
A34: 26 | B34: COQUIMBO | C34: 5 | D34: RIO HURTADO | E34: 4305 | F34: RURAL
A35: 27 | B35: COQUIMBO | C35: 5 | D35: SALAMANCA | E35: 4204 | F35: RURAL
A36: 28 | B36: COQUIMBO | C36: 5 | D36: VICUÑA | E36: 4106 | F36: RURAL
A40: METAS A OCTUBRE
E41: CODIGO COMUNA | F41: TIPO | G41: METAS COMPONENTE ACTIVIDAD GENERAL
G42: META Nº 2 | H42: META Nº 3.1 | I42: META Nº 5 | J42: META Nº 6 | K42: META Nº 7 | L42: META Nº 8.1 | M42: META Nº 8.2 | N42: META Nº 8.3 | O42: META Nº9 | P42: META Nº10 | Q42: META Nº11 | R42: META Nº12 | S42: META Nº13 | T42: META Nº14 | U42: META Nº17 | V42: META Nº18 | W42: META Nº19 | X42: META Nº20 | Y42: META Nº21 | AE42: META Nº12 | AF42: META Nº13
A43: Nº | B43: SERVICIOS DE SALUD | C43: Nº | D43: COMUNA | G43: Porcentaje de familias evaluadas según riesgo familiar | H43: Gestión de reclamos en APS con enfoque participativo (porcentaje de reclamos respondidos dentro de plazo) | I43: Tasa de consultas de morbilidad y de controles médicos, por habitante año | J43: SIC derivadas desde APS al Nivel Secundario | K43: Tasa de Visita Domiciliaria Integral | L43: EMP hombres 20 a 64 años | M43: EMP mujeres de 45 a 64 años | N43: EMP hombres y mujeres de 65 y mas años | O43: Cobertura de Evaluación del desarrollo Psicomotor en niños y niñas de 12 a 23 meses bajo control. | P43: Cobertura de control de salud integral a adolescentes de 10 a 14 años | Q43: Proporción de menores de 20 años con alta odontologica total | R43: Cobertura de atención Integral a personas de 5 y más años con trastornos mentales | S43: Cobertura de atención de Asma en población general y EPOC en personas de 40 y más años | T43: Cobertura de capacitación a cuidadores de personas con dependencia severa con pago de estipendio | U43: Ingreso precoz de mujeres a control de embarazo | V43: Cobertura de método anticonceptivos en adolescentes de 15 a 19 años estimados que usan métodos de regulación de la fertilidad | W43: Cobertura efectiva de Tratamiento en personas con Diabetes Mellitus 2, de 15 y más años | X43: Cobertura efectiva de Tratamiento en personas de 15 y más años, con Hipertensión Arterial | Y43: Proporción de niñas y niños menores de 3 años libre de caries en población estimada | AE43: Cobertura de atención Integral a personas de 5 y más años con trastornos mentales | AF43: Cobertura de atención de Asma en población general y EPOC en personas de 40 y más años
G44: 0.15 | H44: 0.97 | I44: 1 | J44: 0.1 | K44: 0.22 | L44: 0.2 | M44: 0.25 | N44: 0.55 | O44: 0.94 | P44: 0.15 | Q44: 0.24 | R44: 0.17 | S44: 0.22 | T44: 0.9 | U44: 0.9 | V44: 0.19 | W44: 0.29 | X44: 0.54 | AE44: 0.17 | AF44: 0.22
A45: 17 | B45: COQUIMBO | C45: 5 | D45: CANELA | E45: 4202 | F45: RURAL | G45: =+G6*$G$44 -> 0.015675 | H45: =+H6*$H$44 -> 0.951861 | I45: =+I6*$I$44 -> 1.21 | J45: =+J6*$J$44 -> 0.00999 | K45: =+K6*$K$44 -> 0.1298 | L45: =+L6*$L$44 -> 0.02112 | M45: =+M6*$M$44 -> 0.037725 | N45: =+N6*$N$44 -> 0.458095 | O45: =+O6*$O$44 -> 0.8836 | P45: =+P6*$P$44 -> 0.022575 | Q45: 0.22 | R45: 0.15 | S45: =+S25*$S$44 -> 0 | T45: 0.22 | U45: 0.15 | V45: =+V25*$S$44 -> 0 | W45: 0.22 | X45: 0.15 | Y45: =+Y25*$S$44 -> 0 | AE45: 0.15 | AF45: =+AF25*$S$44 -> 0
A46: 18 | B46: COQUIMBO | C46: 5 | D46: COMBARBALA | E46: 4302 | F46: RURAL | G46: =+G7*$G$44 -> 0.020955 | H46: =+H7*$H$44 -> 0.953801 | I46: =+I7*$I$44 -> 1.1 | J46: =+J7*$J$44 -> 0.00999 | K46: =+K7*$K$44 -> 0.055 | L46: =+L7*$L$44 -> 0.02914 | M46: =+M7*$M$44 -> 0.0569 | N46: =+N7*$N$44 -> 0.278135 | O46: =+O7*$O$44 -> 0.8836 | P46: =+P7*$P$44 -> 0.0249 | Q46: 0.22 | R46: 0.17 | S46: =+S7*$S$44 -> 0.04455 | T46: 0.22 | U46: 0.17 | V46: =+V7*$S$44 -> 0.052294 | W46: 0.22 | X46: 0.17 | Y46: =+Y7*$S$44 -> 0.132 | AE46: 0.17 | AF46: =+AF7*$S$44 -> 0.075746
A47: 19 | B47: COQUIMBO | C47: 5 | D47: COQUIMBO | E47: 4102 | F47: URBANA | G47: =+#REF!*$G$44 -> #REF! | H47: =+#REF!*$H$44 -> #REF! | I47: =+#REF!*$I$44 -> #REF! | J47: =+#REF!*$J$44 -> #REF! | K47: =+#REF!*$K$44 -> #REF! | L47: =+#REF!*$L$44 -> #REF! | M47: =+#REF!*$M$44 -> #REF! | N47: =+#REF!*$N$44 -> #REF! | O47: =+#REF!*$O$44 -> #REF! | P47: =+#REF!*$P$44 -> #REF! | Q47: 0.22 | R47: 0.17 | S47: =+#REF!*$S$44 -> #REF! | T47: 0.22 | U47: 0.17 | V47: =+#REF!*$S$44 -> #REF! | W47: 0.22 | X47: 0.17 | Y47: =+#REF!*$S$44 -> #REF! | AE47: 0.17 | AF47: =+#REF!*$S$44 -> #REF!
A48: 20 | B48: COQUIMBO | C48: 5 | D48: ILLAPEL | E48: 4201 | F48: RURAL | G48: =+#REF!*$G$44 -> #REF! | H48: =+#REF!*$H$44 -> #REF! | I48: =+#REF!*$I$44 -> #REF! | J48: =+#REF!*$J$44 -> #REF! | K48: =+#REF!*$K$44 -> #REF! | L48: =+#REF!*$L$44 -> #REF! | M48: =+#REF!*$M$44 -> #REF! | N48: =+#REF!*$N$44 -> #REF! | O48: =+#REF!*$O$44 -> #REF! | P48: =+#REF!*$P$44 -> #REF! | Q48: 0.22 | R48: 0.17 | S48: =+#REF!*$S$44 -> #REF! | T48: 0.22 | U48: 0.17 | V48: =+#REF!*$S$44 -> #REF! | W48: 0.22 | X48: 0.17 | Y48: =+#REF!*$S$44 -> #REF! | AE48: 0.17 | AF48: =+#REF!*$S$44 -> #REF!
A49: 21 | B49: COQUIMBO | C49: 5 | D49: LA SERENA | E49: 4101 | F49: URBANA | G49: =+#REF!*$G$44 -> #REF! | H49: =+#REF!*$H$44 -> #REF! | I49: =+#REF!*$I$44 -> #REF! | J49: =+#REF!*$J$44 -> #REF! | K49: =+#REF!*$K$44 -> #REF! | L49: =+#REF!*$L$44 -> #REF! | M49: =+#REF!*$M$44 -> #REF! | N49: =+#REF!*$N$44 -> #REF! | O49: =+#REF!*$O$44 -> #REF! | P49: =+#REF!*$P$44 -> #REF! | Q49: 0.22 | R49: 0.17 | S49: =+#REF!*$S$44 -> #REF! | T49: 0.22 | U49: 0.17 | V49: =+#REF!*$S$44 -> #REF! | W49: 0.22 | X49: 0.17 | Y49: =+#REF!*$S$44 -> #REF! | AE49: 0.17 | AF49: =+#REF!*$S$44 -> #REF!
A50: 22 | B50: COQUIMBO | C50: 5 | D50: LOS VILOS | E50: 4203 | F50: RURAL | G50: =+#REF!*$G$44 -> #REF! | H50: =+#REF!*$H$44 -> #REF! | I50: =+#REF!*$I$44 -> #REF! | J50: =+#REF!*$J$44 -> #REF! | K50: =+#REF!*$K$44 -> #REF! | L50: =+#REF!*$L$44 -> #REF! | M50: =+#REF!*$M$44 -> #REF! | N50: =+#REF!*$N$44 -> #REF! | O50: =+#REF!*$O$44 -> #REF! | P50: =+#REF!*$P$44 -> #REF! | Q50: 0.22 | R50: 0.19 | S50: =+#REF!*$S$44 -> #REF! | T50: 0.22 | U50: 0.19 | V50: =+#REF!*$S$44 -> #REF! | W50: 0.22 | X50: 0.19 | Y50: =+#REF!*$S$44 -> #REF! | AE50: 0.19 | AF50: =+#REF!*$S$44 -> #REF!
A51: 23 | B51: COQUIMBO | C51: 5 | D51: MONTE PATRIA | E51: 4303 | F51: RURAL | G51: =+#REF!*$G$44 -> #REF! | H51: =+#REF!*$H$44 -> #REF! | I51: =+#REF!*$I$44 -> #REF! | J51: =+#REF!*$J$44 -> #REF! | K51: =+#REF!*$K$44 -> #REF! | L51: =+#REF!*$L$44 -> #REF! | M51: =+#REF!*$M$44 -> #REF! | N51: =+#REF!*$N$44 -> #REF! | O51: =+#REF!*$O$44 -> #REF! | P51: =+#REF!*$P$44 -> #REF! | Q51: 0.22 | R51: 0.17 | S51: =+#REF!*$S$44 -> #REF! | T51: 0.22 | U51: 0.17 | V51: =+#REF!*$S$44 -> #REF! | W51: 0.22 | X51: 0.17 | Y51: =+#REF!*$S$44 -> #REF! | AE51: 0.17 | AF51: =+#REF!*$S$44 -> #REF!
A52: 24 | B52: COQUIMBO | C52: 5 | D52: OVALLE | E52: 4301 | F52: RURAL | G52: =+#REF!*$G$44 -> #REF! | H52: =+#REF!*$H$44 -> #REF! | I52: =+#REF!*$I$44 -> #REF! | J52: =+#REF!*$J$44 -> #REF! | K52: =+#REF!*$K$44 -> #REF! | L52: =+#REF!*$L$44 -> #REF! | M52: =+#REF!*$M$44 -> #REF! | N52: =+#REF!*$N$44 -> #REF! | O52: =+#REF!*$O$44 -> #REF! | P52: =+#REF!*$P$44 -> #REF! | Q52: 0.22 | R52: 0.17 | S52: =+#REF!*$S$44 -> #REF! | T52: 0.22 | U52: 0.17 | V52: =+#REF!*$S$44 -> #REF! | W52: 0.22 | X52: 0.17 | Y52: =+#REF!*$S$44 -> #REF! | AE52: 0.17 | AF52: =+#REF!*$S$44 -> #REF!
A53: 25 | B53: COQUIMBO | C53: 5 | D53: PUNITAQUI | E53: 4304 | F53: RURAL | G53: =+#REF!*$G$44 -> #REF! | H53: =+#REF!*$H$44 -> #REF! | I53: =+#REF!*$I$44 -> #REF! | J53: =+#REF!*$J$44 -> #REF! | K53: =+#REF!*$K$44 -> #REF! | L53: =+#REF!*$L$44 -> #REF! | M53: =+#REF!*$M$44 -> #REF! | N53: =+#REF!*$N$44 -> #REF! | O53: =+#REF!*$O$44 -> #REF! | P53: =+#REF!*$P$44 -> #REF! | Q53: 0.22 | R53: 0.17 | S53: =+#REF!*$S$44 -> #REF! | T53: 0.22 | U53: 0.17 | V53: =+#REF!*$S$44 -> #REF! | W53: 0.22 | X53: 0.17 | Y53: =+#REF!*$S$44 -> #REF! | AE53: 0.17 | AF53: =+#REF!*$S$44 -> #REF!
A54: 26 | B54: COQUIMBO | C54: 5 | D54: RIO HURTADO | E54: 4305 | F54: RURAL | G54: =+#REF!*$G$44 -> #REF! | H54: =+#REF!*$H$44 -> #REF! | I54: =+#REF!*$I$44 -> #REF! | J54: =+#REF!*$J$44 -> #REF! | K54: =+#REF!*$K$44 -> #REF! | L54: =+#REF!*$L$44 -> #REF! | M54: =+#REF!*$M$44 -> #REF! | N54: =+#REF!*$N$44 -> #REF! | O54: =+#REF!*$O$44 -> #REF! | P54: =+#REF!*$P$44 -> #REF! | Q54: 0.35 | R54: 0.32 | S54: =+#REF!*$S$44 -> #REF! | T54: 0.35 | U54: 0.32 | V54: =+#REF!*$S$44 -> #REF! | W54: 0.35 | X54: 0.32 | Y54: =+#REF!*$S$44 -> #REF! | AE54: 0.32 | AF54: =+#REF!*$S$44 -> #REF!
A55: 27 | B55: COQUIMBO | C55: 5 | D55: SALAMANCA | E55: 4204 | F55: RURAL | G55: =+#REF!*$G$44 -> #REF! | H55: =+#REF!*$H$44 -> #REF! | I55: =+#REF!*$I$44 -> #REF! | J55: =+#REF!*$J$44 -> #REF! | K55: =+#REF!*$K$44 -> #REF! | L55: =+#REF!*$L$44 -> #REF! | M55: =+#REF!*$M$44 -> #REF! | N55: =+#REF!*$N$44 -> #REF! | O55: =+#REF!*$O$44 -> #REF! | P55: =+#REF!*$P$44 -> #REF! | Q55: 0.22 | R55: 0.22 | S55: =+#REF!*$S$44 -> #REF! | T55: 0.22 | U55: 0.22 | V55: =+#REF!*$S$44 -> #REF! | W55: 0.22 | X55: 0.22 | Y55: =+#REF!*$S$44 -> #REF! | AE55: 0.22 | AF55: =+#REF!*$S$44 -> #REF!
A56: 28 | B56: COQUIMBO | C56: 5 | D56: VICUÑA | E56: 4106 | F56: RURAL | G56: =+#REF!*$G$44 -> #REF! | H56: =+#REF!*$H$44 -> #REF! | I56: =+#REF!*$I$44 -> #REF! | J56: =+#REF!*$J$44 -> #REF! | K56: =+#REF!*$K$44 -> #REF! | L56: =+#REF!*$L$44 -> #REF! | M56: =+#REF!*$M$44 -> #REF! | N56: =+#REF!*$N$44 -> #REF! | O56: =+#REF!*$O$44 -> #REF! | P56: =+#REF!*$P$44 -> #REF! | Q56: 0.22 | R56: 0.23 | S56: =+#REF!*$S$44 -> #REF! | T56: 0.22 | U56: 0.23 | V56: =+#REF!*$S$44 -> #REF! | W56: 0.22 | X56: 0.23 | Y56: =+#REF!*$S$44 -> #REF! | AE56: 0.23 | AF56: =+#REF!*$S$44 -> #REF!
A60: METAS A DICIEMBRE
E61: CODIGO COMUNA | F61: TIPO | G61: METAS COMPONENTE ACTIVIDAD GENERAL
G62: META Nº 2 | H62: META Nº 3.1 | I62: META Nº 5 | J62: META Nº 6 | K62: META Nº 7 | L62: META Nº 8.1 | M62: META Nº 8.2 | N62: META Nº 8.3 | O62: META Nº9 | P62: META Nº10 | Q62: META Nº11 | R62: META Nº12 | S62: META Nº13 | T62: META Nº14 | U62: META Nº17 | V62: META Nº18 | W62: META Nº19 | X62: META Nº20 | Y62: META Nº21 | AE62: META Nº12 | AF62: META Nº13
A63: Nº | B63: SERVICIOS DE SALUD | C63: Nº | D63: COMUNA | G63: Porcentaje de familias evaluadas según riesgo familiar | H63: Gestión de reclamos en APS con enfoque participativo (porcentaje de reclamos respondidos dentro de plazo) | I63: Tasa de consultas de morbilidad y de controles médicos, por habitante año | J63: SIC derivadas desde APS al Nivel Secundario | K63: Tasa de Visita Domiciliaria Integral | L63: EMP hombres 20 a 64 años | M63: EMP mujeres de 45 a 64 años | N63: EMP hombres y mujeres de 65 y mas años | O63: Cobertura de Evaluación del desarrollo Psicomotor en niños y niñas de 12 a 23 meses bajo control. | P63: Cobertura de control de salud integral a adolescentes de 10 a 14 años | Q63: Proporción de menores de 20 años con alta odontologica total | R63: Cobertura de atención Integral a personas de 5 y más años con trastornos mentales | S63: Cobertura de atención de Asma en población general y EPOC en personas de 40 y más años | T63: Cobertura de capacitación a cuidadores de personas con dependencia severa con pago de estipendio | U63: Ingreso precoz de mujeres a control de embarazo | V63: Cobertura de método anticonceptivos en adolescentes de 15 a 19 años estimados que usan métodos de regulación de la fertilidad | W63: Cobertura efectiva de Tratamiento en personas con Diabetes Mellitus 2, de 15 y más años | X63: Cobertura efectiva de Tratamiento en personas de 15 y más años, con Hipertensión Arterial | Y63: Proporción de niñas y niños menores de 3 años libre de caries en población estimada | AE63: Cobertura de atención Integral a personas de 5 y más años con trastornos mentales | AF63: Cobertura de atención de Asma en población general y EPOC en personas de 40 y más años
G64: 0.15 | H64: 0.97 | I64: 1 | J64: 0.1 | K64: 0.22 | L64: 0.2 | M64: 0.25 | N64: 0.55 | O64: 0.94 | P64: 0.15 | Q64: 0.24 | R64: 0.17 | S64: 0.22 | T64: 0.9 | U64: 0.9 | V64: 0.19 | W64: 0.29 | X64: 0.54 | AE64: 0.17 | AF64: 0.22
A65: 17 | B65: COQUIMBO | C65: 5 | D65: CANELA | E65: 4202 | F65: RURAL | G65: =+G6*$G$64 -> 0.015675 | H65: =+H6*$H$64 -> 0.951861 | I65: =+I6*$I$64 -> 1.21 | J65: =+J6*$J$64 -> 0.00999 | K65: =+K6*$K$64 -> 0.1298 | L65: =+L6*$L$64 -> 0.02112 | M65: =+M6*$M$64 -> 0.037725 | N65: =+N6*$N$64 -> 0.458095 | O65: =+O6*$O$64 -> 0.8836 | P65: =+P6*$P$64 -> 0.022575 | Q65: 0.22 | R65: 0.15 | S65: =+S6*$S$64 -> 0.02409 | T65: 0.22 | U65: 0.15 | V65: =+V6*$S$64 -> 0.059356 | W65: 0.22 | X65: 0.15 | Y65: =+Y6*$S$64 -> 0.132 | AE65: 0.15 | AF65: =+AF6*$S$64 -> 0.010516
A66: 18 | B66: COQUIMBO | C66: 5 | D66: COMBARBALA | E66: 4302 | F66: RURAL | G66: =+G7*$G$64 -> 0.020955 | H66: =+H7*$H$64 -> 0.953801 | I66: =+I7*$I$64 -> 1.1 | J66: =+J7*$J$64 -> 0.00999 | K66: =+K7*$K$64 -> 0.055 | L66: =+L7*$L$64 -> 0.02914 | M66: =+M7*$M$64 -> 0.0569 | N66: =+N7*$N$64 -> 0.278135 | O66: =+O7*$O$64 -> 0.8836 | P66: =+P7*$P$64 -> 0.0249 | Q66: 0.22 | R66: 0.17 | S66: =+S7*$S$64 -> 0.04455 | T66: 0.22 | U66: 0.17 | V66: =+V7*$S$64 -> 0.052294 | W66: 0.22 | X66: 0.17 | Y66: =+Y7*$S$64 -> 0.132 | AE66: 0.17 | AF66: =+AF7*$S$64 -> 0.075746
A67: 19 | B67: COQUIMBO | C67: 5 | D67: COQUIMBO | E67: 4102 | F67: URBANA | G67: =+#REF!*$G$64 -> #REF! | H67: =+#REF!*$H$64 -> #REF! | I67: =+#REF!*$I$64 -> #REF! | J67: =+#REF!*$J$64 -> #REF! | K67: =+#REF!*$K$64 -> #REF! | L67: =+#REF!*$L$64 -> #REF! | M67: =+#REF!*$M$64 -> #REF! | N67: =+#REF!*$N$64 -> #REF! | O67: =+#REF!*$O$64 -> #REF! | P67: =+#REF!*$P$64 -> #REF! | Q67: 0.22 | R67: 0.17 | S67: =+#REF!*$S$64 -> #REF! | T67: 0.22 | U67: 0.17 | V67: =+#REF!*$S$64 -> #REF! | W67: 0.22 | X67: 0.17 | Y67: =+#REF!*$S$64 -> #REF! | AE67: 0.17 | AF67: =+#REF!*$S$64 -> #REF!
A68: 20 | B68: COQUIMBO | C68: 5 | D68: ILLAPEL | E68: 4201 | F68: RURAL | G68: =+#REF!*$G$64 -> #REF! | H68: =+#REF!*$H$64 -> #REF! | I68: =+#REF!*$I$64 -> #REF! | J68: =+#REF!*$J$64 -> #REF! | K68: =+#REF!*$K$64 -> #REF! | L68: =+#REF!*$L$64 -> #REF! | M68: =+#REF!*$M$64 -> #REF! | N68: =+#REF!*$N$64 -> #REF! | O68: =+#REF!*$O$64 -> #REF! | P68: =+#REF!*$P$64 -> #REF! | Q68: 0.22 | R68: 0.17 | S68: =+#REF!*$S$64 -> #REF! | T68: 0.22 | U68: 0.17 | V68: =+#REF!*$S$64 -> #REF! | W68: 0.22 | X68: 0.17 | Y68: =+#REF!*$S$64 -> #REF! | AE68: 0.17 | AF68: =+#REF!*$S$64 -> #REF!
A69: 21 | B69: COQUIMBO | C69: 5 | D69: LA SERENA | E69: 4101 | F69: URBANA | G69: =+#REF!*$G$64 -> #REF! | H69: =+#REF!*$H$64 -> #REF! | I69: =+#REF!*$I$64 -> #REF! | J69: =+#REF!*$J$64 -> #REF! | K69: =+#REF!*$K$64 -> #REF! | L69: =+#REF!*$L$64 -> #REF! | M69: =+#REF!*$M$64 -> #REF! | N69: =+#REF!*$N$64 -> #REF! | O69: =+#REF!*$O$64 -> #REF! | P69: =+#REF!*$P$64 -> #REF! | Q69: 0.22 | R69: 0.17 | S69: =+#REF!*$S$64 -> #REF! | T69: 0.22 | U69: 0.17 | V69: =+#REF!*$S$64 -> #REF! | W69: 0.22 | X69: 0.17 | Y69: =+#REF!*$S$64 -> #REF! | AE69: 0.17 | AF69: =+#REF!*$S$64 -> #REF!
A70: 22 | B70: COQUIMBO | C70: 5 | D70: LOS VILOS | E70: 4203 | F70: RURAL | G70: =+#REF!*$G$64 -> #REF! | H70: =+#REF!*$H$64 -> #REF! | I70: =+#REF!*$I$64 -> #REF! | J70: =+#REF!*$J$64 -> #REF! | K70: =+#REF!*$K$64 -> #REF! | L70: =+#REF!*$L$64 -> #REF! | M70: =+#REF!*$M$64 -> #REF! | N70: =+#REF!*$N$64 -> #REF! | O70: =+#REF!*$O$64 -> #REF! | P70: =+#REF!*$P$64 -> #REF! | Q70: 0.22 | R70: 0.19 | S70: =+#REF!*$S$64 -> #REF! | T70: 0.22 | U70: 0.19 | V70: =+#REF!*$S$64 -> #REF! | W70: 0.22 | X70: 0.19 | Y70: =+#REF!*$S$64 -> #REF! | AE70: 0.19 | AF70: =+#REF!*$S$64 -> #REF!
A71: 23 | B71: COQUIMBO | C71: 5 | D71: MONTE PATRIA | E71: 4303 | F71: RURAL | G71: =+#REF!*$G$64 -> #REF! | H71: =+#REF!*$H$64 -> #REF! | I71: =+#REF!*$I$64 -> #REF! | J71: =+#REF!*$J$64 -> #REF! | K71: =+#REF!*$K$64 -> #REF! | L71: =+#REF!*$L$64 -> #REF! | M71: =+#REF!*$M$64 -> #REF! | N71: =+#REF!*$N$64 -> #REF! | O71: =+#REF!*$O$64 -> #REF! | P71: =+#REF!*$P$64 -> #REF! | Q71: 0.22 | R71: 0.17 | S71: =+#REF!*$S$64 -> #REF! | T71: 0.22 | U71: 0.17 | V71: =+#REF!*$S$64 -> #REF! | W71: 0.22 | X71: 0.17 | Y71: =+#REF!*$S$64 -> #REF! | AE71: 0.17 | AF71: =+#REF!*$S$64 -> #REF!
A72: 24 | B72: COQUIMBO | C72: 5 | D72: OVALLE | E72: 4301 | F72: RURAL | G72: =+#REF!*$G$64 -> #REF! | H72: =+#REF!*$H$64 -> #REF! | I72: =+#REF!*$I$64 -> #REF! | J72: =+#REF!*$J$64 -> #REF! | K72: =+#REF!*$K$64 -> #REF! | L72: =+#REF!*$L$64 -> #REF! | M72: =+#REF!*$M$64 -> #REF! | N72: =+#REF!*$N$64 -> #REF! | O72: =+#REF!*$O$64 -> #REF! | P72: =+#REF!*$P$64 -> #REF! | Q72: 0.22 | R72: 0.17 | S72: =+#REF!*$S$64 -> #REF! | T72: 0.22 | U72: 0.17 | V72: =+#REF!*$S$64 -> #REF! | W72: 0.22 | X72: 0.17 | Y72: =+#REF!*$S$64 -> #REF! | AE72: 0.17 | AF72: =+#REF!*$S$64 -> #REF!
A73: 25 | B73: COQUIMBO | C73: 5 | D73: PUNITAQUI | E73: 4304 | F73: RURAL | G73: =+#REF!*$G$64 -> #REF! | H73: =+#REF!*$H$64 -> #REF! | I73: =+#REF!*$I$64 -> #REF! | J73: =+#REF!*$J$64 -> #REF! | K73: =+#REF!*$K$64 -> #REF! | L73: =+#REF!*$L$64 -> #REF! | M73: =+#REF!*$M$64 -> #REF! | N73: =+#REF!*$N$64 -> #REF! | O73: =+#REF!*$O$64 -> #REF! | P73: =+#REF!*$P$64 -> #REF! | Q73: 0.22 | R73: 0.17 | S73: =+#REF!*$S$64 -> #REF! | T73: 0.22 | U73: 0.17 | V73: =+#REF!*$S$64 -> #REF! | W73: 0.22 | X73: 0.17 | Y73: =+#REF!*$S$64 -> #REF! | AE73: 0.17 | AF73: =+#REF!*$S$64 -> #REF!
A74: 26 | B74: COQUIMBO | C74: 5 | D74: RIO HURTADO | E74: 4305 | F74: RURAL | G74: =+#REF!*$G$64 -> #REF! | H74: =+#REF!*$H$64 -> #REF! | I74: =+#REF!*$I$64 -> #REF! | J74: =+#REF!*$J$64 -> #REF! | K74: =+#REF!*$K$64 -> #REF! | L74: =+#REF!*$L$64 -> #REF! | M74: =+#REF!*$M$64 -> #REF! | N74: =+#REF!*$N$64 -> #REF! | O74: =+#REF!*$O$64 -> #REF! | P74: =+#REF!*$P$64 -> #REF! | Q74: 0.35 | R74: 0.32 | S74: =+#REF!*$S$64 -> #REF! | T74: 0.35 | U74: 0.32 | V74: =+#REF!*$S$64 -> #REF! | W74: 0.35 | X74: 0.32 | Y74: =+#REF!*$S$64 -> #REF! | AE74: 0.32 | AF74: =+#REF!*$S$64 -> #REF!
A75: 27 | B75: COQUIMBO | C75: 5 | D75: SALAMANCA | E75: 4204 | F75: RURAL | G75: =+#REF!*$G$64 -> #REF! | H75: =+#REF!*$H$64 -> #REF! | I75: =+#REF!*$I$64 -> #REF! | J75: =+#REF!*$J$64 -> #REF! | K75: =+#REF!*$K$64 -> #REF! | L75: =+#REF!*$L$64 -> #REF! | M75: =+#REF!*$M$64 -> #REF! | N75: =+#REF!*$N$64 -> #REF! | O75: =+#REF!*$O$64 -> #REF! | P75: =+#REF!*$P$64 -> #REF! | Q75: 0.22 | R75: 0.22 | S75: =+#REF!*$S$64 -> #REF! | T75: 0.22 | U75: 0.22 | V75: =+#REF!*$S$64 -> #REF! | W75: 0.22 | X75: 0.22 | Y75: =+#REF!*$S$64 -> #REF! | AE75: 0.22 | AF75: =+#REF!*$S$64 -> #REF!
A76: 28 | B76: COQUIMBO | C76: 5 | D76: VICUÑA | E76: 4106 | F76: RURAL | G76: =+#REF!*$G$64 -> #REF! | H76: =+#REF!*$H$64 -> #REF! | I76: =+#REF!*$I$64 -> #REF! | J76: =+#REF!*$J$64 -> #REF! | K76: =+#REF!*$K$64 -> #REF! | L76: =+#REF!*$L$64 -> #REF! | M76: =+#REF!*$M$64 -> #REF! | N76: =+#REF!*$N$64 -> #REF! | O76: =+#REF!*$O$64 -> #REF! | P76: =+#REF!*$P$64 -> #REF! | Q76: 0.22 | R76: 0.23 | S76: =+#REF!*$S$64 -> #REF! | T76: 0.22 | U76: 0.23 | V76: =+#REF!*$S$64 -> #REF! | W76: 0.22 | X76: 0.23 | Y76: =+#REF!*$S$64 -> #REF! | AE76: 0.23 | AF76: =+#REF!*$S$64 -> #REF!
