Workbook

Sheet RESUMEN
A1: MINISTERIO DE SALUD
A2: SERVICIO DE SALUD COQUIMBO
A3: SUBDIRECCION DE GESTION ASISTENCIAL
A4: SUBDEPTO DE ESTADÍSTICA Y GESTIÓN DE LA INFORMACIÓN
A5: COMUNA | B5: RESUMEN DE CUMPLIMIENTO DE METAS A MARZO 2018
B6: CORTE A MARZO
B8: METAS COMPONENTE ESTRATEGIA RISS, PRODUCCIÓN,COBERTURA EFECTIVA E IMPACTO SANITARIO
B9: META Nº2 | C9: META Nº3.1 | D9: META Nº5 | E9: META Nº6 | F9: META Nº7 | G9: META Nº8.1 | H9: META Nº8.2 | I9: META Nº8.3 | J9: META Nº9 | K9: META Nº10 | L9: META Nº11 | M9: META Nº12 | N9: META Nº13 | O9: META Nº14 | P9: META Nº17 | Q9: META Nº18 | R9: META Nº19 | S9: META Nº20 | T9: META Nº21 | U9: CUMPLIMIENTO GENERAL
B10: Familias Evaluadas según riesgo (*) | C10: Gestion de Reclamos APS | D10: Consultas de Morbilidad y Controles Médicos | E10: SIC derivadas desde la APS al Nivel Secundario | F10: Visita domiciliaria integral | G10: EMP hombres 20 a 64 años | H10: EMP mujeres de 45 a 64 años | I10: EMP 65 y mas años | J10: Evaluación del desarrollo Psicomotor de niños/as de 12 a 23 meses bajo control | K10: Control de salud integral adolescentes de 10 a 14 años | L10: Alta odontologica menores de 7 años a menor de 20 años | M10: Cobertura de Atención Integral de trastornos mentales en personas de 5 y más años | N10: Cobertura de Atención de Asma en Población general y EPOC en personas de 40 años y más | O10: Capacitación a Cuidadores de personas con Dependencia Severa con Pago de Estipendio (*) | P10: Control embarazada | Q10: Cobertura de Métodos Anticonceptivos en Adolescentes | R10: Cobertura DM2 en personas de 15 y mas años (*) | S10: Cobertutra HTA en personas de 15 y mas años (*) | T10: Proporción de Niñas y Niños de 3 años libre de Caries
A12: LA HIGUERA | B12: N/A | C12: =+'META 3.1'!$C$16 -> 0.67798908 | D12: =+'META 5 '!C16 -> 0.19933172 | E12: =+'META 6'!$C$16 -> 0.52075197 | F12: =+'META 7'!$C$16 -> 0.29121339 | G12: =+'META 8.1'!$C$16 -> 0.067954633 | H12: =+'META 8.2'!$C$16 -> 0.026628322 | I12: =+'META 8.3'!$C$16 -> 0.021036776 | J12: =+'META 9'!$C$16 -> 0.26004728 | K12: =+'META 10'!$C$16 -> 0 | L12: =+'META 11'!$C$16 -> 0 | M12: =+'META 12'!$C$16 -> 0.99985175 | N12: =+'META 13'!$C$16 -> 0.94827251 | O12: =+'META 14'!$C$16 -> 0 | P12: =+'META 17'!$C$16 -> 0.9495594 | Q12: =+'META 18'!$C$16 -> 0 | R12: =+'META 19'!$C$16 -> 0 | S12: =+'META 20'!$C$16 -> 0 | T12: =+'META 21'!$C$16 -> 0.023148148 | U12: =+'META 3.1'!$C$16 -> 0.67798908
A13: PAIHUANO | B13: N/A | C13: =+'META 3.1'!$C$21 -> #DIV/0! | D13: =+'META 5 '!C21 -> 0.23145447 | E13: =+'META 6'!$C$21 -> 1.9194137 | F13: =+'META 7'!$C$21 -> 0.18074308 | G13: =+'META 8.1'!$C$21 -> 0.17536476 | H13: =+'META 8.2'!$C$21 -> 0.11781165 | I13: =+'META 8.3'!$C$21 -> 0.18091599 | J13: =+'META 9'!$C$21 -> 0.24898144 | K13: =+'META 10'!$C$21 -> 0 | L13: =+'META 11'!$C$21 -> 0 | M13: =+'META 12'!$C$21 -> 0.99993828 | N13: =+'META 13'!$C$21 -> 0.44299053 | O13: =+'META 14'!$C$21 -> 0 | P13: =+'META 17'!$C$21 -> 0.7982359 | Q13: =+'META 18'!$C$21 -> 0 | R13: =+'META 19'!$C$21 -> 0 | S13: =+'META 20'!$C$21 -> 0 | T13: =+'META 21'!$C$21 -> 0.058823529 | U13: =+'META 3.1'!$C$21 -> #DIV/0!
A14: (*) Metas a Evaluar con Serie P de Junio 2018
A17: COMUNA | B17: RESUMEN DE CUMPLIMIENTO DE METAS A MARZO 2016
B19: CORTE A MARZO
B20: METAS COMPONENTE ACTIVIDAD GENERAL
B21: META Nº1 | C21: META Nº2 | D21: META Nº3 | E21: META Nº4 | F21: META Nº5 | G21: META Nº6 | H21: META Nº7 | I21: META Nº8 | J21: META Nº9 | K21: META Nº10 | L21: META Nº11 | M21: META Nº12 | N21: META Nº13
B22: EMP hombres 20 a 44 años | C22: EMP mujeres de 45 a 64 años | D22: EMP 65 y mas años | E22: Control embarazada | F22: Alta odontologica menores de 20 años | G22: Gestion de reclamos | H22: Cobertura DM2 en personas de 15 y mas años | I22: Cobertutra HTA en personas de 15 y mas años | J22: Cobertura de Evaluación del desarrollo Psicomotor de niños/as de 12 a 23 meses bajo control | K22: Visita domiciliaria integral | L22: Cobertura de Atención de Asma en Población general y EPOC en personas de 40 años y más | M22: Cobertura de Atención Integral de trastornos mentales en personas de 5 y más años | N22: Cobertura de control de salud integral a adolescentes de 10 a 14 años
A24: LA HIGUERA | B24: =IF(B12="n/a","n/a",IF(B12="","",IF(B12>1,1,B12))) -> n/a | C24: =IF(C12="n/a","n/a",IF(C12="","",IF(C12>1,1,C12))) -> 0.67798908 | D24: =IF(D12="n/a","n/a",IF(D12="","",IF(D12>1,1,D12))) -> 0.19933172 | E24: =IF(E12="n/a","n/a",IF(E12="","",IF(E12>1,1,E12))) -> 0.52075197 | F24: =IF(F12="n/a","n/a",IF(F12="","",IF(F12>1,1,F12))) -> 0.29121339 | G24: =IF(G12="n/a","n/a",IF(G12="","",IF(G12>1,1,G12))) -> 0.067954633 | H24: =IF(H12="n/a","n/a",IF(H12="","",IF(H12>1,1,H12))) -> 0.026628322 | I24: =IF(I12="n/a","n/a",IF(I12="","",IF(I12>1,1,I12))) -> 0.021036776 | ... N24: =IF(N12="n/a","n/a",IF(N12="","",IF(N12>1,1,N12))) -> 0.94827251
A25: PAIHUANO | B25: =IF(B13="n/a","n/a",IF(B13="","",IF(B13>1,1,B13))) -> n/a | C25: =IF(C13="n/a","n/a",IF(C13="","",IF(C13>1,1,C13))) -> #DIV/0! | D25: =IF(D13="n/a","n/a",IF(D13="","",IF(D13>1,1,D13))) -> 0.23145447 | E25: =IF(E13="n/a","n/a",IF(E13="","",IF(E13>1,1,E13))) -> 1 | F25: =IF(F13="n/a","n/a",IF(F13="","",IF(F13>1,1,F13))) -> 0.18074308 | G25: =IF(G13="n/a","n/a",IF(G13="","",IF(G13>1,1,G13))) -> 0.17536476 | H25: =IF(H13="n/a","n/a",IF(H13="","",IF(H13>1,1,H13))) -> 0.11781165 | I25: =IF(I13="n/a","n/a",IF(I13="","",IF(I13>1,1,I13))) -> 0.18091599 | ... N25: =IF(N13="n/a","n/a",IF(N13="","",IF(N13>1,1,N13))) -> 0.44299053

Sheet META 2
A1: COMUNA | B1: ESTABLECIMIENTO | C1: CUMPLIMIENTO | D1: Indicador | E1: META 2 : FAMILIAS EVALUADAS SEGÚN RIESGO FAMILIAR
E2: NUMERADOR | G2: DENOMINADOR
E10: Nº de familias evaluadas según riesgo familiar | G10: Total de familias Insciritas (población estimada/3,3)
D11: Resultado | E11: A JUNIO | F11: A DICBRE
A12: 04104-LA HIGUERA | B12: 105314-CES. LA HIGUERA
A13: 04104-LA HIGUERA | B13: 105500-P.S.R. CALETA HORNOS
A14: 04104-LA HIGUERA | B14: 105505-P.S.R. LOS CHOROS
A15: 04104-LA HIGUERA | B15: 105506-P.S.R. EL TRAPICHE
A16: TOTAL LA HIGUERA | D16: =+E16/G16 -> 0 | E16: =SUM(E12:E15) -> 0 | F16: =SUM(F12:F15) -> 0 | G16: 1195
A17: 04105-PAIHUANO | B17: 105306-CES. PAIHUANO
A18: 04105-PAIHUANO | B18: 105475-P.S.R. HORCON
A19: 04105-PAIHUANO | B19: 105476-P.S.R. MONTE GRANDE
A20: 04105-PAIHUANO | B20: 105477-P.S.R. PISCO ELQUI
A21: TOTAL PAIHUANO | D21: =+E21/G21 -> 0 | E21: =SUM(E17:E20) -> 0 | F21: =SUM(F17:F20) -> 0 | G21: 1416
B22: TOTAL

Sheet META 3.1
A1: COMUNA | B1: ESTABLECIMIENTO | C1: CUMPLIMIENTO | D1: Indicador | E1: META 3.1: GESTION DE RECLAMOS EN APS
E2: NUMERADOR | R2: DENOMINADOR
E10: Nº total de reclamos respondidos con solución dentro de los plazos legales establecidos (15 días hábiles) | R10: Nº total de reclamos
D11: Resultado | E11: ENERO | F11: FEBRERO | G11: MARZO | H11: ABRIL | I11: MAYO | J11: JUNIO | K11: JULIO | L11: AGOSTO | M11: SEPBRE | N11: OCTBRE | O11: NOVBRE | P11: DICBRE | Q11: TOTAL | R11: ENERO | S11: FEBRERO | T11: MARZO | U11: ABRIL | V11: MAYO | W11: JUNIO | X11: JULIO | Y11: AGOSTO | Z11: SEPBRE | AA11: OCTBRE | AB11: NOVBRE | AC11: DICBRE | AD11: TOTAL
A12: 04104-LA HIGUERA | B12: 105314-CES. LA HIGUERA | E12: =IFERROR(VLOOKUP(B12,'[1]NUM3.1'!$H$3:$L$72,2,FALSE),0) -> 0 | F12: =IFERROR(VLOOKUP(B12,'[1]NUM3.1'!$H$3:$L$72,3,FALSE),0) -> 1 | G12: =IFERROR(VLOOKUP(B12,'[1]NUM3.1'!$H$3:$L$72,4,FALSE),0) -> 0 | Q12: =SUM(E12:P12) -> 1 | R12: =IFERROR(VLOOKUP(B12,'[1]DEN3.1'!$H$3:$L$72,2,FALSE),0) -> 0 | S12: =IFERROR(VLOOKUP(B12,'[1]DEN3.1'!$H$3:$L$72,3,FALSE),0) -> 1 | T12: =IFERROR(VLOOKUP(B12,'[1]DEN3.1'!$H$3:$L$72,4,FALSE),0) -> 0 | AD12: =SUM(R12:AC12) -> 1
A13: 04104-LA HIGUERA | B13: 105500-P.S.R. CALETA HORNOS | E13: =IFERROR(VLOOKUP(B13,'[1]NUM3.1'!$H$3:$L$72,2,FALSE),0) -> 0 | F13: =IFERROR(VLOOKUP(B13,'[1]NUM3.1'!$H$3:$L$72,3,FALSE),0) -> 0 | G13: =IFERROR(VLOOKUP(B13,'[1]NUM3.1'!$H$3:$L$72,4,FALSE),0) -> 0 | Q13: =SUM(E13:P13) -> 0 | R13: =IFERROR(VLOOKUP(B13,'[1]DEN3.1'!$H$3:$L$72,2,FALSE),0) -> 0 | S13: =IFERROR(VLOOKUP(B13,'[1]DEN3.1'!$H$3:$L$72,3,FALSE),0) -> 2 | T13: =IFERROR(VLOOKUP(B13,'[1]DEN3.1'!$H$3:$L$72,4,FALSE),0) -> 0 | AD13: =SUM(R13:AC13) -> 2
A14: 04104-LA HIGUERA | B14: 105505-P.S.R. LOS CHOROS | E14: =IFERROR(VLOOKUP(B14,'[1]NUM3.1'!$H$3:$L$72,2,FALSE),0) -> 0 | F14: =IFERROR(VLOOKUP(B14,'[1]NUM3.1'!$H$3:$L$72,3,FALSE),0) -> 3 | G14: =IFERROR(VLOOKUP(B14,'[1]NUM3.1'!$H$3:$L$72,4,FALSE),0) -> 0 | Q14: =SUM(E14:P14) -> 3 | R14: =IFERROR(VLOOKUP(B14,'[1]DEN3.1'!$H$3:$L$72,2,FALSE),0) -> 0 | S14: =IFERROR(VLOOKUP(B14,'[1]DEN3.1'!$H$3:$L$72,3,FALSE),0) -> 3 | T14: =IFERROR(VLOOKUP(B14,'[1]DEN3.1'!$H$3:$L$72,4,FALSE),0) -> 0 | AD14: =SUM(R14:AC14) -> 3
A15: 04104-LA HIGUERA | B15: 105506-P.S.R. EL TRAPICHE | E15: =IFERROR(VLOOKUP(B15,'[1]NUM3.1'!$H$3:$L$72,2,FALSE),0) -> 0 | F15: =IFERROR(VLOOKUP(B15,'[1]NUM3.1'!$H$3:$L$72,3,FALSE),0) -> 0 | G15: =IFERROR(VLOOKUP(B15,'[1]NUM3.1'!$H$3:$L$72,4,FALSE),0) -> 0 | Q15: =SUM(E15:P15) -> 0 | R15: =IFERROR(VLOOKUP(B15,'[1]DEN3.1'!$H$3:$L$72,2,FALSE),0) -> 0 | S15: =IFERROR(VLOOKUP(B15,'[1]DEN3.1'!$H$3:$L$72,3,FALSE),0) -> 0 | T15: =IFERROR(VLOOKUP(B15,'[1]DEN3.1'!$H$3:$L$72,4,FALSE),0) -> 0 | AD15: =SUM(R15:AC15) -> 0
A16: TOTAL LA HIGUERA | C16: =+D16/Metas!H7 -> 0.67798908 | D16: =+Q16/AD16 -> 0.66666667 | E16: =SUM(E12:E15) -> 0 | F16: =SUM(F12:F15) -> 4 | G16: =SUM(G12:G15) -> 0 | H16: =SUM(H12:H15) -> 0 | I16: =SUM(I12:I15) -> 0 | J16: =SUM(J12:J15) -> 0 | K16: =SUM(K12:K15) -> 0 | L16: =SUM(L12:L15) -> 0 | ... AD16: =SUM(AD12:AD15) -> 6
A17: 04105-PAIHUANO | B17: 105306-CES. PAIHUANO | E17: =IFERROR(VLOOKUP(B17,'[1]NUM3.1'!$H$3:$L$72,2,FALSE),0) -> 0 | F17: =IFERROR(VLOOKUP(B17,'[1]NUM3.1'!$H$3:$L$72,3,FALSE),0) -> 0 | G17: =IFERROR(VLOOKUP(B17,'[1]NUM3.1'!$H$3:$L$72,4,FALSE),0) -> 0 | Q17: =SUM(E17:P17) -> 0 | R17: =IFERROR(VLOOKUP(B17,'[1]DEN3.1'!$H$3:$L$72,2,FALSE),0) -> 0 | S17: =IFERROR(VLOOKUP(B17,'[1]DEN3.1'!$H$3:$L$72,3,FALSE),0) -> 0 | T17: =IFERROR(VLOOKUP(B17,'[1]DEN3.1'!$H$3:$L$72,4,FALSE),0) -> 0 | AD17: =SUM(R17:AC17) -> 0
A18: 04105-PAIHUANO | B18: 105475-P.S.R. HORCON | E18: =IFERROR(VLOOKUP(B18,'[1]NUM3.1'!$H$3:$L$72,2,FALSE),0) -> 0 | F18: =IFERROR(VLOOKUP(B18,'[1]NUM3.1'!$H$3:$L$72,3,FALSE),0) -> 0 | G18: =IFERROR(VLOOKUP(B18,'[1]NUM3.1'!$H$3:$L$72,4,FALSE),0) -> 0 | Q18: =SUM(E18:P18) -> 0 | R18: =IFERROR(VLOOKUP(B18,'[1]DEN3.1'!$H$3:$L$72,2,FALSE),0) -> 0 | S18: =IFERROR(VLOOKUP(B18,'[1]DEN3.1'!$H$3:$L$72,3,FALSE),0) -> 0 | T18: =IFERROR(VLOOKUP(B18,'[1]DEN3.1'!$H$3:$L$72,4,FALSE),0) -> 0 | AD18: =SUM(R18:AC18) -> 0
A19: 04105-PAIHUANO | B19: 105476-P.S.R. MONTE GRANDE | E19: =IFERROR(VLOOKUP(B19,'[1]NUM3.1'!$H$3:$L$72,2,FALSE),0) -> 0 | F19: =IFERROR(VLOOKUP(B19,'[1]NUM3.1'!$H$3:$L$72,3,FALSE),0) -> 0 | G19: =IFERROR(VLOOKUP(B19,'[1]NUM3.1'!$H$3:$L$72,4,FALSE),0) -> 0 | Q19: =SUM(E19:P19) -> 0 | R19: =IFERROR(VLOOKUP(B19,'[1]DEN3.1'!$H$3:$L$72,2,FALSE),0) -> 0 | S19: =IFERROR(VLOOKUP(B19,'[1]DEN3.1'!$H$3:$L$72,3,FALSE),0) -> 0 | T19: =IFERROR(VLOOKUP(B19,'[1]DEN3.1'!$H$3:$L$72,4,FALSE),0) -> 0 | AD19: =SUM(R19:AC19) -> 0
A20: 04105-PAIHUANO | B20: 105477-P.S.R. PISCO ELQUI | E20: =IFERROR(VLOOKUP(B20,'[1]NUM3.1'!$H$3:$L$72,2,FALSE),0) -> 0 | F20: =IFERROR(VLOOKUP(B20,'[1]NUM3.1'!$H$3:$L$72,3,FALSE),0) -> 0 | G20: =IFERROR(VLOOKUP(B20,'[1]NUM3.1'!$H$3:$L$72,4,FALSE),0) -> 0 | Q20: =SUM(E20:P20) -> 0 | R20: =IFERROR(VLOOKUP(B20,'[1]DEN3.1'!$H$3:$L$72,2,FALSE),0) -> 0 | S20: =IFERROR(VLOOKUP(B20,'[1]DEN3.1'!$H$3:$L$72,3,FALSE),0) -> 0 | T20: =IFERROR(VLOOKUP(B20,'[1]DEN3.1'!$H$3:$L$72,4,FALSE),0) -> 0 | AD20: =SUM(R20:AC20) -> 0
A21: TOTAL PAIHUANO | C21: =+D21/Metas!H6 -> #DIV/0! | D21: =+Q21/AD21 -> #DIV/0! | E21: =SUM(E17:E20) -> 0 | F21: =SUM(F17:F20) -> 0 | G21: =SUM(G17:G20) -> 0 | H21: =SUM(H17:H20) -> 0 | I21: =SUM(I17:I20) -> 0 | J21: =SUM(J17:J20) -> 0 | K21: =SUM(K17:K20) -> 0 | L21: =SUM(L17:L20) -> 0 | ... AD21: =SUM(AD17:AD20) -> 0
B22: TOTAL

Sheet META 5 
A1: COMUNA | B1: ESTABLECIMIENTO | C1: CUMPLIMIENTO | D1: Indicador | E1: META 5: TASA DE CONSULTAS DE MORBILIDAD Y CONTROLES MEDICOS POR HABITANTE/AÑO
E2: NUMERADOR | R2: DENOMINADOR
E10: Nº de consultas de morbilidad y controles médicos realizadas | R10: Población Estimada
D11: Resultado | E11: ENERO | F11: FEBRERO | G11: MARZO | H11: ABRIL | I11: MAYO | J11: JUNIO | K11: JULIO | L11: AGOSTO | M11: SEPBRE | N11: OCTBRE | O11: NOVBRE | P11: DICBRE | Q11: TOTAL
A12: 04104-LA HIGUERA | B12: 105314-CES. LA HIGUERA | E12: =IFERROR(VLOOKUP(B12,[1]NUM5!$H$3:$L$165,2,FALSE),0) -> 175 | F12: =IFERROR(VLOOKUP(B12,[1]NUM5!$H$3:$L$165,3,FALSE),0) -> 102 | G12: =IFERROR(VLOOKUP(B12,[1]NUM5!$H$3:$L$165,4,FALSE),0) -> 150 | Q12: =SUM(E12:P12) -> 427
A13: 04104-LA HIGUERA | B13: 105500-P.S.R. CALETA HORNOS | E13: =IFERROR(VLOOKUP(B13,[1]NUM5!$H$3:$L$165,2,FALSE),0) -> 57 | F13: =IFERROR(VLOOKUP(B13,[1]NUM5!$H$3:$L$165,3,FALSE),0) -> 53 | G13: =IFERROR(VLOOKUP(B13,[1]NUM5!$H$3:$L$165,4,FALSE),0) -> 51 | Q13: =SUM(E13:P13) -> 161
A14: 04104-LA HIGUERA | B14: 105505-P.S.R. LOS CHOROS | E14: =IFERROR(VLOOKUP(B14,[1]NUM5!$H$3:$L$165,2,FALSE),0) -> 67 | F14: =IFERROR(VLOOKUP(B14,[1]NUM5!$H$3:$L$165,3,FALSE),0) -> 55 | G14: =IFERROR(VLOOKUP(B14,[1]NUM5!$H$3:$L$165,4,FALSE),0) -> 31 | Q14: =SUM(E14:P14) -> 153
A15: 04104-LA HIGUERA | B15: 105506-P.S.R. EL TRAPICHE | E15: =IFERROR(VLOOKUP(B15,[1]NUM5!$H$3:$L$165,2,FALSE),0) -> 41 | F15: =IFERROR(VLOOKUP(B15,[1]NUM5!$H$3:$L$165,3,FALSE),0) -> 41 | G15: =IFERROR(VLOOKUP(B15,[1]NUM5!$H$3:$L$165,4,FALSE),0) -> 42 | Q15: =SUM(E15:P15) -> 124
A16: TOTAL LA HIGUERA | C16: =+D16/Metas!I7 -> 0.19933172 | D16: =+Q16/R16 -> 0.21926489 | E16: =SUM(E12:E15) -> 340 | F16: =SUM(F12:F15) -> 251 | G16: =SUM(G12:G15) -> 274 | H16: =SUM(H12:H15) -> 0 | I16: =SUM(I12:I15) -> 0 | J16: =SUM(J12:J15) -> 0 | K16: =SUM(K12:K15) -> 0 | L16: =SUM(L12:L15) -> 0 | ... Q16: =SUM(Q12:Q15) -> 865 | R16: 3945
A17: 04105-PAIHUANO | B17: 105306-CES. PAIHUANO | E17: =IFERROR(VLOOKUP(B17,[1]NUM5!$H$3:$L$165,2,FALSE),0) -> 315 | F17: =IFERROR(VLOOKUP(B17,[1]NUM5!$H$3:$L$165,3,FALSE),0) -> 325 | G17: =IFERROR(VLOOKUP(B17,[1]NUM5!$H$3:$L$165,4,FALSE),0) -> 274 | Q17: =SUM(E17:P17) -> 914
A18: 04105-PAIHUANO | B18: 105475-P.S.R. HORCON | E18: =IFERROR(VLOOKUP(B18,[1]NUM5!$H$3:$L$165,2,FALSE),0) -> 32 | F18: =IFERROR(VLOOKUP(B18,[1]NUM5!$H$3:$L$165,3,FALSE),0) -> 45 | G18: =IFERROR(VLOOKUP(B18,[1]NUM5!$H$3:$L$165,4,FALSE),0) -> 43 | Q18: =SUM(E18:P18) -> 120
A19: 04105-PAIHUANO | B19: 105476-P.S.R. MONTE GRANDE | E19: =IFERROR(VLOOKUP(B19,[1]NUM5!$H$3:$L$165,2,FALSE),0) -> 40 | F19: =IFERROR(VLOOKUP(B19,[1]NUM5!$H$3:$L$165,3,FALSE),0) -> 36 | G19: =IFERROR(VLOOKUP(B19,[1]NUM5!$H$3:$L$165,4,FALSE),0) -> 20 | Q19: =SUM(E19:P19) -> 96
A20: 04105-PAIHUANO | B20: 105477-P.S.R. PISCO ELQUI | E20: =IFERROR(VLOOKUP(B20,[1]NUM5!$H$3:$L$165,2,FALSE),0) -> 72 | F20: =IFERROR(VLOOKUP(B20,[1]NUM5!$H$3:$L$165,3,FALSE),0) -> 76 | G20: =IFERROR(VLOOKUP(B20,[1]NUM5!$H$3:$L$165,4,FALSE),0) -> 31 | Q20: =SUM(E20:P20) -> 179
A21: TOTAL PAIHUANO | C21: =+D21/Metas!I6 -> 0.23145447 | D21: =+Q21/R21 -> 0.28005991 | E21: =SUM(E17:E20) -> 459 | F21: =SUM(F17:F20) -> 482 | G21: =SUM(G17:G20) -> 368 | H21: =SUM(H17:H20) -> 0 | I21: =SUM(I17:I20) -> 0 | J21: =SUM(J17:J20) -> 0 | K21: =SUM(K17:K20) -> 0 | L21: =SUM(L17:L20) -> 0 | ... Q21: =SUM(Q17:Q20) -> 1309 | R21: 4674
B22: TOTAL

Sheet META 6
A1: COMUNA | B1: ESTABLECIMIENTO | C1: CUMPLIMIENTO | D1: Indicador | E1: META 6: SOLICITUDES DE INTERCONSULTAS A ESPECIALIDAD NIVEL SECUNDARIO DESDE LA APS
E2: NUMERADOR | R2: DENOMINADOR
E10: Nº de SIC a especialidad médica en el nivel secundario | R10: N° Total de Consultas y Controles Médicos en APS
D11: Resultado | E11: ENERO | F11: FEBRERO | G11: MARZO | H11: ABRIL | I11: MAYO | J11: JUNIO | K11: JULIO | L11: AGOSTO | M11: SEPBRE | N11: OCTBRE | O11: NOVBRE | P11: DICBRE | Q11: TOTAL | R11: ENERO | S11: FEBRERO | T11: MARZO | U11: ABRIL | V11: MAYO | W11: JUNIO | X11: JULIO | Y11: AGOSTO | Z11: SEPBRE | AA11: OCTBRE | AB11: NOVBRE | AC11: DICBRE | AD11: TOTAL
A12: 04104-LA HIGUERA | B12: 105314-CES. LA HIGUERA | E12: =IFERROR(VLOOKUP(B12,[1]NUM6!$H$3:$L$136,2,FALSE),0) -> 29 | F12: =IFERROR(VLOOKUP(B12,[1]NUM6!$H$3:$L$136,3,FALSE),0) -> 0 | G12: =IFERROR(VLOOKUP(B12,[1]NUM6!$H$3:$L$136,4,FALSE),0) -> 16 | Q12: =SUM(E12:P12) -> 45 | R12: =IFERROR(VLOOKUP(B12,[1]DEN6!$H$3:$L$165,2,FALSE),0) -> 175 | S12: =IFERROR(VLOOKUP(B12,[1]DEN6!$H$3:$L$165,3,FALSE),0) -> 102 | T12: =IFERROR(VLOOKUP(B12,[1]DEN6!$H$3:$L$165,4,FALSE),0) -> 150 | AD12: =SUM(R12:AC12) -> 427
A13: 04104-LA HIGUERA | B13: 105500-P.S.R. CALETA HORNOS | E13: =IFERROR(VLOOKUP(B13,[1]NUM6!$H$3:$L$136,2,FALSE),0) -> 0 | F13: =IFERROR(VLOOKUP(B13,[1]NUM6!$H$3:$L$136,3,FALSE),0) -> 0 | G13: =IFERROR(VLOOKUP(B13,[1]NUM6!$H$3:$L$136,4,FALSE),0) -> 0 | Q13: =SUM(E13:P13) -> 0 | R13: =IFERROR(VLOOKUP(B13,[1]DEN6!$H$3:$L$165,2,FALSE),0) -> 57 | S13: =IFERROR(VLOOKUP(B13,[1]DEN6!$H$3:$L$165,3,FALSE),0) -> 53 | T13: =IFERROR(VLOOKUP(B13,[1]DEN6!$H$3:$L$165,4,FALSE),0) -> 51 | AD13: =SUM(R13:AC13) -> 161
A14: 04104-LA HIGUERA | B14: 105505-P.S.R. LOS CHOROS | E14: =IFERROR(VLOOKUP(B14,[1]NUM6!$H$3:$L$136,2,FALSE),0) -> 0 | F14: =IFERROR(VLOOKUP(B14,[1]NUM6!$H$3:$L$136,3,FALSE),0) -> 0 | G14: =IFERROR(VLOOKUP(B14,[1]NUM6!$H$3:$L$136,4,FALSE),0) -> 0 | Q14: =SUM(E14:P14) -> 0 | R14: =IFERROR(VLOOKUP(B14,[1]DEN6!$H$3:$L$165,2,FALSE),0) -> 67 | S14: =IFERROR(VLOOKUP(B14,[1]DEN6!$H$3:$L$165,3,FALSE),0) -> 55 | T14: =IFERROR(VLOOKUP(B14,[1]DEN6!$H$3:$L$165,4,FALSE),0) -> 31 | AD14: =SUM(R14:AC14) -> 153
A15: 04104-LA HIGUERA | B15: 105506-P.S.R. EL TRAPICHE | E15: =IFERROR(VLOOKUP(B15,[1]NUM6!$H$3:$L$136,2,FALSE),0) -> 0 | F15: =IFERROR(VLOOKUP(B15,[1]NUM6!$H$3:$L$136,3,FALSE),0) -> 0 | G15: =IFERROR(VLOOKUP(B15,[1]NUM6!$H$3:$L$136,4,FALSE),0) -> 0 | Q15: =SUM(E15:P15) -> 0 | R15: =IFERROR(VLOOKUP(B15,[1]DEN6!$H$3:$L$165,2,FALSE),0) -> 41 | S15: =IFERROR(VLOOKUP(B15,[1]DEN6!$H$3:$L$165,3,FALSE),0) -> 41 | T15: =IFERROR(VLOOKUP(B15,[1]DEN6!$H$3:$L$165,4,FALSE),0) -> 42 | AD15: =SUM(R15:AC15) -> 124
A16: TOTAL LA HIGUERA | C16: =D16/Metas!J6 -> 0.52075197 | D16: =+Q16/AD16 -> 0.052023121 | E16: =SUM(E12:E15) -> 29 | F16: =SUM(F12:F15) -> 0 | G16: =SUM(G12:G15) -> 16 | H16: =SUM(H12:H15) -> 0 | I16: =SUM(I12:I15) -> 0 | J16: =SUM(J12:J15) -> 0 | K16: =SUM(K12:K15) -> 0 | L16: =SUM(L12:L15) -> 0 | ... AD16: =SUM(AD12:AD15) -> 865
A17: 04105-PAIHUANO | B17: 105306-CES. PAIHUANO | E17: =IFERROR(VLOOKUP(B17,[1]NUM6!$H$3:$L$136,2,FALSE),0) -> 94 | F17: =IFERROR(VLOOKUP(B17,[1]NUM6!$H$3:$L$136,3,FALSE),0) -> 94 | G17: =IFERROR(VLOOKUP(B17,[1]NUM6!$H$3:$L$136,4,FALSE),0) -> 63 | Q17: =SUM(E17:P17) -> 251 | R17: =IFERROR(VLOOKUP(B17,[1]DEN6!$H$3:$L$165,2,FALSE),0) -> 315 | S17: =IFERROR(VLOOKUP(B17,[1]DEN6!$H$3:$L$165,3,FALSE),0) -> 325 | T17: =IFERROR(VLOOKUP(B17,[1]DEN6!$H$3:$L$165,4,FALSE),0) -> 274 | AD17: =SUM(R17:AC17) -> 914
A18: 04105-PAIHUANO | B18: 105475-P.S.R. HORCON | E18: =IFERROR(VLOOKUP(B18,[1]NUM6!$H$3:$L$136,2,FALSE),0) -> 0 | F18: =IFERROR(VLOOKUP(B18,[1]NUM6!$H$3:$L$136,3,FALSE),0) -> 0 | G18: =IFERROR(VLOOKUP(B18,[1]NUM6!$H$3:$L$136,4,FALSE),0) -> 0 | Q18: =SUM(E18:P18) -> 0 | R18: =IFERROR(VLOOKUP(B18,[1]DEN6!$H$3:$L$165,2,FALSE),0) -> 32 | S18: =IFERROR(VLOOKUP(B18,[1]DEN6!$H$3:$L$165,3,FALSE),0) -> 45 | T18: =IFERROR(VLOOKUP(B18,[1]DEN6!$H$3:$L$165,4,FALSE),0) -> 43 | AD18: =SUM(R18:AC18) -> 120
A19: 04105-PAIHUANO | B19: 105476-P.S.R. MONTE GRANDE | E19: =IFERROR(VLOOKUP(B19,[1]NUM6!$H$3:$L$136,2,FALSE),0) -> 0 | F19: =IFERROR(VLOOKUP(B19,[1]NUM6!$H$3:$L$136,3,FALSE),0) -> 0 | G19: =IFERROR(VLOOKUP(B19,[1]NUM6!$H$3:$L$136,4,FALSE),0) -> 0 | Q19: =SUM(E19:P19) -> 0 | R19: =IFERROR(VLOOKUP(B19,[1]DEN6!$H$3:$L$165,2,FALSE),0) -> 40 | S19: =IFERROR(VLOOKUP(B19,[1]DEN6!$H$3:$L$165,3,FALSE),0) -> 36 | T19: =IFERROR(VLOOKUP(B19,[1]DEN6!$H$3:$L$165,4,FALSE),0) -> 20 | AD19: =SUM(R19:AC19) -> 96
A20: 04105-PAIHUANO | B20: 105477-P.S.R. PISCO ELQUI | E20: =IFERROR(VLOOKUP(B20,[1]NUM6!$H$3:$L$136,2,FALSE),0) -> 0 | F20: =IFERROR(VLOOKUP(B20,[1]NUM6!$H$3:$L$136,3,FALSE),0) -> 0 | G20: =IFERROR(VLOOKUP(B20,[1]NUM6!$H$3:$L$136,4,FALSE),0) -> 0 | Q20: =SUM(E20:P20) -> 0 | R20: =IFERROR(VLOOKUP(B20,[1]DEN6!$H$3:$L$165,2,FALSE),0) -> 72 | S20: =IFERROR(VLOOKUP(B20,[1]DEN6!$H$3:$L$165,3,FALSE),0) -> 76 | T20: =IFERROR(VLOOKUP(B20,[1]DEN6!$H$3:$L$165,4,FALSE),0) -> 31 | AD20: =SUM(R20:AC20) -> 179
A21: TOTAL PAIHUANO | C21: =D21/Metas!J6 -> 1.9194137 | D21: =+Q21/AD21 -> 0.19174943 | E21: =SUM(E17:E20) -> 94 | F21: =SUM(F17:F20) -> 94 | G21: =SUM(G17:G20) -> 63 | H21: =SUM(H17:H20) -> 0 | I21: =SUM(I17:I20) -> 0 | J21: =SUM(J17:J20) -> 0 | K21: =SUM(K17:K20) -> 0 | L21: =SUM(L17:L20) -> 0 | ... AD21: =SUM(AD17:AD20) -> 1309
B22: TOTAL

Sheet META 7
A1: COMUNA | B1: ESTABLECIMIENTO | C1: CUMPLIMIENTO | D1: Indicador | E1: META 7: TASA DE VISITA DOMICILIARIA INTEGRAL
E2: NUMERADOR | R2: DENOMINADOR
E10: Nº de visitas domiciliarias integrales realizadas | R10: Nº de familias (población estimada / 3,3)
D11: Resultado | E11: ENERO | F11: FEBRERO | G11: MARZO | H11: ABRIL | I11: MAYO | J11: JUNIO | K11: JULIO | L11: AGOSTO | M11: SEPBRE | N11: OCTBRE | O11: NOVBRE | P11: DICBRE | Q11: TOTAL
A12: 04104-LA HIGUERA | B12: 105314-CES. LA HIGUERA | E12: =IFERROR(VLOOKUP(B12,[1]NUM7!$H$3:$L$149,2,FALSE),0) -> 2 | F12: =IFERROR(VLOOKUP(B12,[1]NUM7!$H$3:$L$149,3,FALSE),0) -> 8 | G12: =IFERROR(VLOOKUP(B12,[1]NUM7!$H$3:$L$149,4,FALSE),0) -> 6 | Q12: =SUM(E12:P12) -> 16
A13: 04104-LA HIGUERA | B13: 105500-P.S.R. CALETA HORNOS | E13: =IFERROR(VLOOKUP(B13,[1]NUM7!$H$3:$L$149,2,FALSE),0) -> 1 | F13: =IFERROR(VLOOKUP(B13,[1]NUM7!$H$3:$L$149,3,FALSE),0) -> 10 | G13: =IFERROR(VLOOKUP(B13,[1]NUM7!$H$3:$L$149,4,FALSE),0) -> 6 | Q13: =SUM(E13:P13) -> 17
A14: 04104-LA HIGUERA | B14: 105505-P.S.R. LOS CHOROS | E14: =IFERROR(VLOOKUP(B14,[1]NUM7!$H$3:$L$149,2,FALSE),0) -> 8 | F14: =IFERROR(VLOOKUP(B14,[1]NUM7!$H$3:$L$149,3,FALSE),0) -> 9 | G14: =IFERROR(VLOOKUP(B14,[1]NUM7!$H$3:$L$149,4,FALSE),0) -> 7 | Q14: =SUM(E14:P14) -> 24
A15: 04104-LA HIGUERA | B15: 105506-P.S.R. EL TRAPICHE | E15: =IFERROR(VLOOKUP(B15,[1]NUM7!$H$3:$L$149,2,FALSE),0) -> 8 | F15: =IFERROR(VLOOKUP(B15,[1]NUM7!$H$3:$L$149,3,FALSE),0) -> 10 | G15: =IFERROR(VLOOKUP(B15,[1]NUM7!$H$3:$L$149,4,FALSE),0) -> 12 | Q15: =SUM(E15:P15) -> 30
A16: TOTAL LA HIGUERA | C16: =+D16/Metas!K7 -> 0.29121339 | D16: =+Q16/R16 -> 0.072803347 | E16: =SUM(E12:E15) -> 19 | F16: =SUM(F12:F15) -> 37 | G16: =SUM(G12:G15) -> 31 | H16: =SUM(H12:H15) -> 0 | I16: =SUM(I12:I15) -> 0 | J16: =SUM(J12:J15) -> 0 | K16: =SUM(K12:K15) -> 0 | L16: =SUM(L12:L15) -> 0 | ... Q16: =SUM(Q12:Q15) -> 87 | R16: 1195
A17: 04105-PAIHUANO | B17: 105306-CES. PAIHUANO | E17: =IFERROR(VLOOKUP(B17,[1]NUM7!$H$3:$L$149,2,FALSE),0) -> 36 | F17: =IFERROR(VLOOKUP(B17,[1]NUM7!$H$3:$L$149,3,FALSE),0) -> 23 | G17: =IFERROR(VLOOKUP(B17,[1]NUM7!$H$3:$L$149,4,FALSE),0) -> 29 | Q17: =SUM(E17:P17) -> 88
A18: 04105-PAIHUANO | B18: 105475-P.S.R. HORCON | E18: =IFERROR(VLOOKUP(B18,[1]NUM7!$H$3:$L$149,2,FALSE),0) -> 3 | F18: =IFERROR(VLOOKUP(B18,[1]NUM7!$H$3:$L$149,3,FALSE),0) -> 1 | G18: =IFERROR(VLOOKUP(B18,[1]NUM7!$H$3:$L$149,4,FALSE),0) -> 3 | Q18: =SUM(E18:P18) -> 7
A19: 04105-PAIHUANO | B19: 105476-P.S.R. MONTE GRANDE | E19: =IFERROR(VLOOKUP(B19,[1]NUM7!$H$3:$L$149,2,FALSE),0) -> 2 | F19: =IFERROR(VLOOKUP(B19,[1]NUM7!$H$3:$L$149,3,FALSE),0) -> 5 | G19: =IFERROR(VLOOKUP(B19,[1]NUM7!$H$3:$L$149,4,FALSE),0) -> 6 | Q19: =SUM(E19:P19) -> 13
A20: 04105-PAIHUANO | B20: 105477-P.S.R. PISCO ELQUI | E20: =IFERROR(VLOOKUP(B20,[1]NUM7!$H$3:$L$149,2,FALSE),0) -> 6 | F20: =IFERROR(VLOOKUP(B20,[1]NUM7!$H$3:$L$149,3,FALSE),0) -> 13 | G20: =IFERROR(VLOOKUP(B20,[1]NUM7!$H$3:$L$149,4,FALSE),0) -> 24 | Q20: =SUM(E20:P20) -> 43
A21: TOTAL PAIHUANO | C21: =+D21/Metas!K6 -> 0.18074308 | D21: =+Q21/R21 -> 0.10663842 | E21: =SUM(E17:E20) -> 47 | F21: =SUM(F17:F20) -> 42 | G21: =SUM(G17:G20) -> 62 | H21: =SUM(H17:H20) -> 0 | I21: =SUM(I17:I20) -> 0 | J21: =SUM(J17:J20) -> 0 | K21: =SUM(K17:K20) -> 0 | L21: =SUM(L17:L20) -> 0 | ... Q21: =SUM(Q17:Q20) -> 151 | R21: 1416
B22: TOTAL

Sheet META 8.1
A1: COMUNA | B1: ESTABLECIMIENTO | C1: CUMPLIMIENTO | D1: Indicador | E1: META 8.1: COBERTURA EXAMEN DE MEDICINA PREVENTIVA (EMP), EN HOMBRES DE 20 A 64 AÑOS
E2: NUMERADOR | R2: DENOMINADOR
E10: Nº Examen de Medicina Preventiva (EMP) realizado en población masculina de 20 a 64 años | R10: Población masculina de 20 a 64 años estimada, menos población bajo control en Programa Salud Cardiovascular | S10: Población masculina de 20 a 64 años bajo control en programa de salud cardiovascular | Y10: Población masculina de 20 a 64 años estimada | Z10: Ingresos de población masculina al PSCV de 20 y 64 años | AM10: Egresos de población masculina al PSCV de 20 y 64 años
D11: Resultado | E11: ENERO | F11: FEBRERO | G11: MARZO | H11: ABRIL | I11: MAYO | J11: JUNIO | K11: JULIO | L11: AGOSTO | M11: SEPBRE | N11: OCTBRE | O11: NOVBRE | P11: DICBRE | Q11: TOTAL | S11: A DIC 2017 | T11: A ABRIL | U11: A JUNIO | V11: A JULIO | W11: A OCTBRE | X11: A DICBRE | Y11: AÑO 2017 | Z11: ENERO | AA11: FEBRERO | AB11: MARZO | AC11: ABRIL | AD11: MAYO | AE11: JUNIO | AF11: JULIO | AG11: AGOSTO | AH11: SEPBRE | AI11: OCTBRE | AJ11: NOVBRE | AK11: DICBRE | AL11: TOTAL | AM11: ENERO | AN11: FEBRERO | AO11: MARZO | AP11: ABRIL | AQ11: MAYO | AR11: JUNIO | AS11: JULIO | AT11: AGOSTO | AU11: SEPBRE | AV11: OCTBRE | AW11: NOVBRE | AX11: DICBRE | AY11: TOTAL
A12: 04104-LA HIGUERA | B12: 105314-CES. LA HIGUERA | E12: =IFERROR(VLOOKUP(B12,'[1]NUM8.1'!$H$3:$L$156,2,FALSE),0) -> 0 | F12: =IFERROR(VLOOKUP(B12,'[1]NUM8.1'!$H$3:$L$156,3,FALSE),0) -> 0 | G12: =IFERROR(VLOOKUP(B12,'[1]NUM8.1'!$H$3:$L$156,4,FALSE),0) -> 0 | Q12: =SUM(E12:P12) -> 0 | S12: =IFERROR(VLOOKUP(B12,'[2]DEN8.1'!$H$3:$K$162,3,FALSE),0) -> 32 | T12: =+S12+(Z12+AA12+AB12+AC12)-(AM12+AN12+AO12+AP12) -> 35 | V12: =+U12+(AF12)-(AS12) -> 0 | W12: =+U12+(AF12+AG12+AH12+AI12)-(AS12+AT12+AU12+AV12) -> 0 | Z12: =IFERROR(VLOOKUP(B12,'[1]ACT DEN8.1'!$H$3:$L$128,2,FALSE),0) -> 0 | AA12: =IFERROR(VLOOKUP(B12,'[1]ACT DEN8.1'!$H$3:$L$128,3,FALSE),0) -> 0 | AB12: =IFERROR(VLOOKUP(B12,'[1]ACT DEN8.1'!$H$3:$L$128,4,FALSE),0) -> 3 | AL12: =SUM(Z12:AK12) -> 3 | AM12: =IFERROR(VLOOKUP(B12,'[1]ACT DEN8.1'!$AA$3:$AE$86,2,FALSE),0) -> 0 | AN12: =IFERROR(VLOOKUP(B12,'[1]ACT DEN8.1'!$AA$3:$AE$86,3,FALSE),0) -> 0 | AO12: =IFERROR(VLOOKUP(B12,'[1]ACT DEN8.1'!$AA$3:$AE$86,4,FALSE),0) -> 0 | AY12: =SUM(AM12:AX12) -> 0
A13: 04104-LA HIGUERA | B13: 105500-P.S.R. CALETA HORNOS | E13: =IFERROR(VLOOKUP(B13,'[1]NUM8.1'!$H$3:$L$156,2,FALSE),0) -> 0 | F13: =IFERROR(VLOOKUP(B13,'[1]NUM8.1'!$H$3:$L$156,3,FALSE),0) -> 1 | G13: =IFERROR(VLOOKUP(B13,'[1]NUM8.1'!$H$3:$L$156,4,FALSE),0) -> 0 | Q13: =SUM(E13:P13) -> 1 | S13: =IFERROR(VLOOKUP(B13,'[2]DEN8.1'!$H$3:$K$162,3,FALSE),0) -> 31 | T13: =+S13+(Z13+AA13+AB13+AC13)-(AM13+AN13+AO13+AP13) -> 31 | V13: =+U13+(AF13)-(AS13) -> 0 | W13: =+U13+(AF13+AG13+AH13+AI13)-(AS13+AT13+AU13+AV13) -> 0 | Z13: =IFERROR(VLOOKUP(B13,'[1]ACT DEN8.1'!$H$3:$L$128,2,FALSE),0) -> 0 | AA13: =IFERROR(VLOOKUP(B13,'[1]ACT DEN8.1'!$H$3:$L$128,3,FALSE),0) -> 0 | AB13: =IFERROR(VLOOKUP(B13,'[1]ACT DEN8.1'!$H$3:$L$128,4,FALSE),0) -> 0 | AL13: =SUM(Z13:AK13) -> 0 | AM13: =IFERROR(VLOOKUP(B13,'[1]ACT DEN8.1'!$AA$3:$AE$86,2,FALSE),0) -> 0 | AN13: =IFERROR(VLOOKUP(B13,'[1]ACT DEN8.1'!$AA$3:$AE$86,3,FALSE),0) -> 0 | AO13: =IFERROR(VLOOKUP(B13,'[1]ACT DEN8.1'!$AA$3:$AE$86,4,FALSE),0) -> 0 | AY13: =SUM(AM13:AX13) -> 0
A14: 04104-LA HIGUERA | B14: 105505-P.S.R. LOS CHOROS | E14: =IFERROR(VLOOKUP(B14,'[1]NUM8.1'!$H$3:$L$156,2,FALSE),0) -> 0 | F14: =IFERROR(VLOOKUP(B14,'[1]NUM8.1'!$H$3:$L$156,3,FALSE),0) -> 0 | G14: =IFERROR(VLOOKUP(B14,'[1]NUM8.1'!$H$3:$L$156,4,FALSE),0) -> 0 | Q14: =SUM(E14:P14) -> 0 | S14: =IFERROR(VLOOKUP(B14,'[2]DEN8.1'!$H$3:$K$162,3,FALSE),0) -> 23 | T14: =+S14+(Z14+AA14+AB14+AC14)-(AM14+AN14+AO14+AP14) -> 25 | V14: =+U14+(AF14)-(AS14) -> 0 | W14: =+U14+(AF14+AG14+AH14+AI14)-(AS14+AT14+AU14+AV14) -> 0 | Z14: =IFERROR(VLOOKUP(B14,'[1]ACT DEN8.1'!$H$3:$L$128,2,FALSE),0) -> 0 | AA14: =IFERROR(VLOOKUP(B14,'[1]ACT DEN8.1'!$H$3:$L$128,3,FALSE),0) -> 2 | AB14: =IFERROR(VLOOKUP(B14,'[1]ACT DEN8.1'!$H$3:$L$128,4,FALSE),0) -> 0 | AL14: =SUM(Z14:AK14) -> 2 | AM14: =IFERROR(VLOOKUP(B14,'[1]ACT DEN8.1'!$AA$3:$AE$86,2,FALSE),0) -> 0 | AN14: =IFERROR(VLOOKUP(B14,'[1]ACT DEN8.1'!$AA$3:$AE$86,3,FALSE),0) -> 0 | AO14: =IFERROR(VLOOKUP(B14,'[1]ACT DEN8.1'!$AA$3:$AE$86,4,FALSE),0) -> 0 | AY14: =SUM(AM14:AX14) -> 0
A15: 04104-LA HIGUERA | B15: 105506-P.S.R. EL TRAPICHE | E15: =IFERROR(VLOOKUP(B15,'[1]NUM8.1'!$H$3:$L$156,2,FALSE),0) -> 0 | F15: =IFERROR(VLOOKUP(B15,'[1]NUM8.1'!$H$3:$L$156,3,FALSE),0) -> 0 | G15: =IFERROR(VLOOKUP(B15,'[1]NUM8.1'!$H$3:$L$156,4,FALSE),0) -> 0 | Q15: =SUM(E15:P15) -> 0 | S15: =IFERROR(VLOOKUP(B15,'[2]DEN8.1'!$H$3:$K$162,3,FALSE),0) -> 15 | T15: =+S15+(Z15+AA15+AB15+AC15)-(AM15+AN15+AO15+AP15) -> 15 | V15: =+U15+(AF15)-(AS15) -> 0 | W15: =+U15+(AF15+AG15+AH15+AI15)-(AS15+AT15+AU15+AV15) -> 0 | Z15: =IFERROR(VLOOKUP(B15,'[1]ACT DEN8.1'!$H$3:$L$128,2,FALSE),0) -> 0 | AA15: =IFERROR(VLOOKUP(B15,'[1]ACT DEN8.1'!$H$3:$L$128,3,FALSE),0) -> 0 | AB15: =IFERROR(VLOOKUP(B15,'[1]ACT DEN8.1'!$H$3:$L$128,4,FALSE),0) -> 0 | AL15: =SUM(Z15:AK15) -> 0 | AM15: =IFERROR(VLOOKUP(B15,'[1]ACT DEN8.1'!$AA$3:$AE$86,2,FALSE),0) -> 0 | AN15: =IFERROR(VLOOKUP(B15,'[1]ACT DEN8.1'!$AA$3:$AE$86,3,FALSE),0) -> 0 | AO15: =IFERROR(VLOOKUP(B15,'[1]ACT DEN8.1'!$AA$3:$AE$86,4,FALSE),0) -> 0 | AY15: =SUM(AM15:AX15) -> 0
A16: TOTAL LA HIGUERA | C16: =+D16/Metas!L7 -> 0.067954633 | D16: =+Q16/S16 -> 0.0099009901 | E16: =SUM(E12:E15) -> 0 | F16: =SUM(F12:F15) -> 1 | G16: =SUM(G12:G15) -> 0 | H16: =SUM(H12:H15) -> 0 | I16: =SUM(I12:I15) -> 0 | J16: =SUM(J12:J15) -> 0 | K16: =SUM(K12:K15) -> 0 | L16: =SUM(L12:L15) -> 0 | ... Q16: =SUM(Q12:Q15) -> 1 | S16: =SUM(S12:S15) -> 101 | T16: =SUM(T12:T15) -> 106 | U16: =SUM(U12:U15) -> 0 | V16: =SUM(V12:V15) -> 0 | W16: =SUM(W12:W15) -> 0 | X16: =SUM(X12:X15) -> 0 | Y16: 101 | Z16: =SUM(Z12:Z15) -> 0 | AA16: =SUM(AA12:AA15) -> 2 | AB16: =SUM(AB12:AB15) -> 3 | AC16: =SUM(AC12:AC15) -> 0 | AD16: =SUM(AD12:AD15) -> 0 | AE16: =SUM(AE12:AE15) -> 0 | AF16: =SUM(AF12:AF15) -> 0 | AG16: =SUM(AG12:AG15) -> 0 | ... AK16: =SUM(AK12:AK15) -> 0 | AL16: =SUM(Z16:AK16) -> 5 | AM16: =SUM(AM12:AM15) -> 0 | AN16: =SUM(AN12:AN15) -> 0 | AO16: =SUM(AO12:AO15) -> 0 | AP16: =SUM(AP12:AP15) -> 0 | AQ16: =SUM(AQ12:AQ15) -> 0 | AR16: =SUM(AR12:AR15) -> 0 | AS16: =SUM(AS12:AS15) -> 0 | AT16: =SUM(AT12:AT15) -> 0 | ... AX16: =SUM(AX12:AX15) -> 0 | AY16: =SUM(AM16:AX16) -> 0
A17: 04105-PAIHUANO | B17: 105306-CES. PAIHUANO | E17: =IFERROR(VLOOKUP(B17,'[1]NUM8.1'!$H$3:$L$156,2,FALSE),0) -> 2 | F17: =IFERROR(VLOOKUP(B17,'[1]NUM8.1'!$H$3:$L$156,3,FALSE),0) -> 0 | G17: =IFERROR(VLOOKUP(B17,'[1]NUM8.1'!$H$3:$L$156,4,FALSE),0) -> 1 | Q17: =SUM(E17:P17) -> 3 | S17: =IFERROR(VLOOKUP(B17,'[2]DEN8.1'!$H$3:$K$162,3,FALSE),0) -> 63 | T17: =+S17+(Z17+AA17+AB17+AC17)-(AM17+AN17+AO17+AP17) -> 63 | V17: =+U17+(AF17)-(AS17) -> 0 | W17: =+U17+(AF17+AG17+AH17+AI17)-(AS17+AT17+AU17+AV17) -> 0 | Z17: =IFERROR(VLOOKUP(B17,'[1]ACT DEN8.1'!$H$3:$L$128,2,FALSE),0) -> 0 | AA17: =IFERROR(VLOOKUP(B17,'[1]ACT DEN8.1'!$H$3:$L$128,3,FALSE),0) -> 0 | AB17: =IFERROR(VLOOKUP(B17,'[1]ACT DEN8.1'!$H$3:$L$128,4,FALSE),0) -> 0 | AL17: =SUM(Z17:AK17) -> 0 | AM17: =IFERROR(VLOOKUP(B17,'[1]ACT DEN8.1'!$AA$3:$AE$86,2,FALSE),0) -> 0 | AN17: =IFERROR(VLOOKUP(B17,'[1]ACT DEN8.1'!$AA$3:$AE$86,3,FALSE),0) -> 0 | AO17: =IFERROR(VLOOKUP(B17,'[1]ACT DEN8.1'!$AA$3:$AE$86,4,FALSE),0) -> 0 | AY17: =SUM(AM17:AX17) -> 0
A18: 04105-PAIHUANO | B18: 105475-P.S.R. HORCON | E18: =IFERROR(VLOOKUP(B18,'[1]NUM8.1'!$H$3:$L$156,2,FALSE),0) -> 0 | F18: =IFERROR(VLOOKUP(B18,'[1]NUM8.1'!$H$3:$L$156,3,FALSE),0) -> 0 | G18: =IFERROR(VLOOKUP(B18,'[1]NUM8.1'!$H$3:$L$156,4,FALSE),0) -> 0 | Q18: =SUM(E18:P18) -> 0 | S18: =IFERROR(VLOOKUP(B18,'[2]DEN8.1'!$H$3:$K$162,3,FALSE),0) -> 28 | T18: =+S18+(Z18+AA18+AB18+AC18)-(AM18+AN18+AO18+AP18) -> 28 | V18: =+U18+(AF18)-(AS18) -> 0 | W18: =+U18+(AF18+AG18+AH18+AI18)-(AS18+AT18+AU18+AV18) -> 0 | Z18: =IFERROR(VLOOKUP(B18,'[1]ACT DEN8.1'!$H$3:$L$128,2,FALSE),0) -> 0 | AA18: =IFERROR(VLOOKUP(B18,'[1]ACT DEN8.1'!$H$3:$L$128,3,FALSE),0) -> 0 | AB18: =IFERROR(VLOOKUP(B18,'[1]ACT DEN8.1'!$H$3:$L$128,4,FALSE),0) -> 0 | AL18: =SUM(Z18:AK18) -> 0 | AM18: =IFERROR(VLOOKUP(B18,'[1]ACT DEN8.1'!$AA$3:$AE$86,2,FALSE),0) -> 0 | AN18: =IFERROR(VLOOKUP(B18,'[1]ACT DEN8.1'!$AA$3:$AE$86,3,FALSE),0) -> 0 | AO18: =IFERROR(VLOOKUP(B18,'[1]ACT DEN8.1'!$AA$3:$AE$86,4,FALSE),0) -> 0 | AY18: =SUM(AM18:AX18) -> 0
A19: 04105-PAIHUANO | B19: 105476-P.S.R. MONTE GRANDE | E19: =IFERROR(VLOOKUP(B19,'[1]NUM8.1'!$H$3:$L$156,2,FALSE),0) -> 0 | F19: =IFERROR(VLOOKUP(B19,'[1]NUM8.1'!$H$3:$L$156,3,FALSE),0) -> 0 | G19: =IFERROR(VLOOKUP(B19,'[1]NUM8.1'!$H$3:$L$156,4,FALSE),0) -> 0 | Q19: =SUM(E19:P19) -> 0 | S19: =IFERROR(VLOOKUP(B19,'[2]DEN8.1'!$H$3:$K$162,3,FALSE),0) -> 30 | T19: =+S19+(Z19+AA19+AB19+AC19)-(AM19+AN19+AO19+AP19) -> 33 | V19: =+U19+(AF19)-(AS19) -> 0 | W19: =+U19+(AF19+AG19+AH19+AI19)-(AS19+AT19+AU19+AV19) -> 0 | Z19: =IFERROR(VLOOKUP(B19,'[1]ACT DEN8.1'!$H$3:$L$128,2,FALSE),0) -> 1 | AA19: =IFERROR(VLOOKUP(B19,'[1]ACT DEN8.1'!$H$3:$L$128,3,FALSE),0) -> 0 | AB19: =IFERROR(VLOOKUP(B19,'[1]ACT DEN8.1'!$H$3:$L$128,4,FALSE),0) -> 2 | AL19: =SUM(Z19:AK19) -> 3 | AM19: =IFERROR(VLOOKUP(B19,'[1]ACT DEN8.1'!$AA$3:$AE$86,2,FALSE),0) -> 0 | AN19: =IFERROR(VLOOKUP(B19,'[1]ACT DEN8.1'!$AA$3:$AE$86,3,FALSE),0) -> 0 | AO19: =IFERROR(VLOOKUP(B19,'[1]ACT DEN8.1'!$AA$3:$AE$86,4,FALSE),0) -> 0 | AY19: =SUM(AM19:AX19) -> 0
A20: 04105-PAIHUANO | B20: 105477-P.S.R. PISCO ELQUI | E20: =IFERROR(VLOOKUP(B20,'[1]NUM8.1'!$H$3:$L$156,2,FALSE),0) -> 0 | F20: =IFERROR(VLOOKUP(B20,'[1]NUM8.1'!$H$3:$L$156,3,FALSE),0) -> 0 | G20: =IFERROR(VLOOKUP(B20,'[1]NUM8.1'!$H$3:$L$156,4,FALSE),0) -> 0 | Q20: =SUM(E20:P20) -> 0 | S20: =IFERROR(VLOOKUP(B20,'[2]DEN8.1'!$H$3:$K$162,3,FALSE),0) -> 41 | T20: =+S20+(Z20+AA20+AB20+AC20)-(AM20+AN20+AO20+AP20) -> 41 | V20: =+U20+(AF20)-(AS20) -> 0 | W20: =+U20+(AF20+AG20+AH20+AI20)-(AS20+AT20+AU20+AV20) -> 0 | Z20: =IFERROR(VLOOKUP(B20,'[1]ACT DEN8.1'!$H$3:$L$128,2,FALSE),0) -> 0 | AA20: =IFERROR(VLOOKUP(B20,'[1]ACT DEN8.1'!$H$3:$L$128,3,FALSE),0) -> 0 | AB20: =IFERROR(VLOOKUP(B20,'[1]ACT DEN8.1'!$H$3:$L$128,4,FALSE),0) -> 0 | AL20: =SUM(Z20:AK20) -> 0 | AM20: =IFERROR(VLOOKUP(B20,'[1]ACT DEN8.1'!$AA$3:$AE$86,2,FALSE),0) -> 0 | AN20: =IFERROR(VLOOKUP(B20,'[1]ACT DEN8.1'!$AA$3:$AE$86,3,FALSE),0) -> 0 | AO20: =IFERROR(VLOOKUP(B20,'[1]ACT DEN8.1'!$AA$3:$AE$86,4,FALSE),0) -> 0 | AY20: =SUM(AM20:AX20) -> 0
A21: TOTAL PAIHUANO | C21: =+D21/Metas!L6 -> 0.17536476 | D21: =+Q21/S21 -> 0.018518519 | E21: =SUM(E17:E20) -> 2 | F21: =SUM(F17:F20) -> 0 | G21: =SUM(G17:G20) -> 1 | H21: =SUM(H17:H20) -> 0 | I21: =SUM(I17:I20) -> 0 | J21: =SUM(J17:J20) -> 0 | K21: =SUM(K17:K20) -> 0 | L21: =SUM(L17:L20) -> 0 | ... Q21: =SUM(Q17:Q20) -> 3 | S21: =SUM(S17:S20) -> 162 | T21: =SUM(T17:T20) -> 165 | U21: =SUM(U17:U20) -> 0 | V21: =SUM(V17:V20) -> 0 | W21: =SUM(W17:W20) -> 0 | X21: =SUM(X17:X20) -> 0 | Y21: 162 | Z21: =SUM(Z17:Z20) -> 1 | AA21: =SUM(AA17:AA20) -> 0 | AB21: =SUM(AB17:AB20) -> 2 | AC21: =SUM(AC17:AC20) -> 0 | AD21: =SUM(AD17:AD20) -> 0 | AE21: =SUM(AE17:AE20) -> 0 | AF21: =SUM(AF17:AF20) -> 0 | AG21: =SUM(AG17:AG20) -> 0 | ... AY21: =SUM(AY17:AY20) -> 0
B22: TOTAL | E22: =+E16+E21 -> 2 | F22: =+F16+F21 -> 1 | G22: =+G16+G21 -> 1 | H22: =+H16+H21 -> 0 | I22: =+I16+I21 -> 0 | J22: =+J16+J21 -> 0 | K22: =+K16+K21 -> 0 | L22: =+L16+L21 -> 0 | ... AY22: =+AY16+AY21 -> 0

Sheet META 8.2
A1: COMUNA | B1: ESTABLECIMIENTO | C1: CUMPLIMIENTO | D1: Indicador | E1: META 8.2: COBERTURA EXAMEN DE MEDICINA PREVENTIVA (EMP), EN MUJERES DE 45 A 64 AÑOS
E2: NUMERADOR | R2: DENOMINADOR
E10: Nº Examen de Medicina Preventiva (EMP) realizado en población femenina de 45 a 64 años | R10: Población femenina de 45 a 64 años estimada, menos población bajo control en Programa Salud Cardiovascular | S10: Población femenina de 45 a 64 años bajo control en Programa Salud Cardiovascular | Y10: Población femenina de 45 a 64 años estimada | Z10: Ingresos de población femenina al PSCV de 45 y 65 años | AM10: Egresos de población Femenina al PSCV de 45 a 65 años
D11: Resultado | E11: ENERO | F11: FEBRERO | G11: MARZO | H11: ABRIL | I11: MAYO | J11: JUNIO | K11: JULIO | L11: AGOSTO | M11: SEPBRE | N11: OCTBRE | O11: NOVBRE | P11: DICBRE | Q11: TOTAL | S11: A DIC 2017 | T11: A ABRIL | U11: A JUNIO | V11: A JULIO | W11: A OCTBRE | X11: A DICBRE | Y11: AÑO 2017 | Z11: ENERO | AA11: FEBRERO | AB11: MARZO | AC11: ABRIL | AD11: MAYO | AE11: JUNIO | AF11: JULIO | AG11: AGOSTO | AH11: SEPBRE | AI11: OCTBRE | AJ11: NOVBRE | AK11: DICBRE | AL11: TOTAL | AM11: ENERO | AN11: FEBRERO | AO11: MARZO | AP11: ABRIL | AQ11: MAYO | AR11: JUNIO | AS11: JULIO | AT11: AGOSTO | AU11: SEPBRE | AV11: OCTBRE | AW11: NOVBRE | AX11: DICBRE | AY11: TOTAL
A12: 04104-LA HIGUERA | B12: 105314-CES. LA HIGUERA | E12: =IFERROR(VLOOKUP(B12,'[1]NUM8.2'!$H$3:$L$156,2,FALSE),0) -> 0 | F12: =IFERROR(VLOOKUP(B12,'[1]NUM8.2'!$H$3:$L$156,3,FALSE),0) -> 0 | G12: =IFERROR(VLOOKUP(B12,'[1]NUM8.2'!$H$3:$L$156,4,FALSE),0) -> 0 | Q12: =SUM(E12:P12) -> 0 | S12: =IFERROR(VLOOKUP(B12,'[2]DEN8.2'!$H$3:$K$162,3,FALSE),0) -> 62 | T12: =+S12+(Z12+AA12+AB12+AC12)-(AM12+AN12+AO12+AP12) -> 66 | V12: =+U12+(AF12)-(AS12) -> 0 | W12: =+U12+(AF12+AG12+AH12+AI12)-(AS12+AT12+AU12+AV12) -> 0 | Z12: =IFERROR(VLOOKUP(B12,'[1]ACT NUM8.2'!$H$3:$L$128,2,FALSE),0) -> 2 | AA12: =IFERROR(VLOOKUP(B12,'[1]ACT NUM8.2'!$H$3:$L$128,3,FALSE),0) -> 0 | AB12: =IFERROR(VLOOKUP(B12,'[1]ACT NUM8.2'!$H$3:$L$128,4,FALSE),0) -> 2 | AL12: =SUM(Z12:AK12) -> 4 | AM12: =IFERROR(VLOOKUP(B12,'[1]ACT NUM8.2'!$AA$3:$AE$86,2,FALSE),0) -> 0 | AN12: =IFERROR(VLOOKUP(B12,'[1]ACT NUM8.2'!$AA$3:$AE$86,3,FALSE),0) -> 0 | AO12: =IFERROR(VLOOKUP(B12,'[1]ACT NUM8.2'!$AA$3:$AE$86,4,FALSE),0) -> 0 | AY12: =SUM(AM12:AX12) -> 0
A13: 04104-LA HIGUERA | B13: 105500-P.S.R. CALETA HORNOS | E13: =IFERROR(VLOOKUP(B13,'[1]NUM8.2'!$H$3:$L$156,2,FALSE),0) -> 1 | F13: =IFERROR(VLOOKUP(B13,'[1]NUM8.2'!$H$3:$L$156,3,FALSE),0) -> 0 | G13: =IFERROR(VLOOKUP(B13,'[1]NUM8.2'!$H$3:$L$156,4,FALSE),0) -> 0 | Q13: =SUM(E13:P13) -> 1 | S13: =IFERROR(VLOOKUP(B13,'[2]DEN8.2'!$H$3:$K$162,3,FALSE),0) -> 48 | T13: =+S13+(Z13+AA13+AB13+AC13)-(AM13+AN13+AO13+AP13) -> 50 | V13: =+U13+(AF13)-(AS13) -> 0 | W13: =+U13+(AF13+AG13+AH13+AI13)-(AS13+AT13+AU13+AV13) -> 0 | Z13: =IFERROR(VLOOKUP(B13,'[1]ACT NUM8.2'!$H$3:$L$128,2,FALSE),0) -> 0 | AA13: =IFERROR(VLOOKUP(B13,'[1]ACT NUM8.2'!$H$3:$L$128,3,FALSE),0) -> 2 | AB13: =IFERROR(VLOOKUP(B13,'[1]ACT NUM8.2'!$H$3:$L$128,4,FALSE),0) -> 0 | AL13: =SUM(Z13:AK13) -> 2 | AM13: =IFERROR(VLOOKUP(B13,'[1]ACT NUM8.2'!$AA$3:$AE$86,2,FALSE),0) -> 0 | AN13: =IFERROR(VLOOKUP(B13,'[1]ACT NUM8.2'!$AA$3:$AE$86,3,FALSE),0) -> 0 | AO13: =IFERROR(VLOOKUP(B13,'[1]ACT NUM8.2'!$AA$3:$AE$86,4,FALSE),0) -> 0 | AY13: =SUM(AM13:AX13) -> 0
A14: 04104-LA HIGUERA | B14: 105505-P.S.R. LOS CHOROS | E14: =IFERROR(VLOOKUP(B14,'[1]NUM8.2'!$H$3:$L$156,2,FALSE),0) -> 0 | F14: =IFERROR(VLOOKUP(B14,'[1]NUM8.2'!$H$3:$L$156,3,FALSE),0) -> 0 | G14: =IFERROR(VLOOKUP(B14,'[1]NUM8.2'!$H$3:$L$156,4,FALSE),0) -> 0 | Q14: =SUM(E14:P14) -> 0 | S14: =IFERROR(VLOOKUP(B14,'[2]DEN8.2'!$H$3:$K$162,3,FALSE),0) -> 26 | T14: =+S14+(Z14+AA14+AB14+AC14)-(AM14+AN14+AO14+AP14) -> 26 | V14: =+U14+(AF14)-(AS14) -> 0 | W14: =+U14+(AF14+AG14+AH14+AI14)-(AS14+AT14+AU14+AV14) -> 0 | Z14: =IFERROR(VLOOKUP(B14,'[1]ACT NUM8.2'!$H$3:$L$128,2,FALSE),0) -> 0 | AA14: =IFERROR(VLOOKUP(B14,'[1]ACT NUM8.2'!$H$3:$L$128,3,FALSE),0) -> 0 | AB14: =IFERROR(VLOOKUP(B14,'[1]ACT NUM8.2'!$H$3:$L$128,4,FALSE),0) -> 0 | AL14: =SUM(Z14:AK14) -> 0 | AM14: =IFERROR(VLOOKUP(B14,'[1]ACT NUM8.2'!$AA$3:$AE$86,2,FALSE),0) -> 0 | AN14: =IFERROR(VLOOKUP(B14,'[1]ACT NUM8.2'!$AA$3:$AE$86,3,FALSE),0) -> 0 | AO14: =IFERROR(VLOOKUP(B14,'[1]ACT NUM8.2'!$AA$3:$AE$86,4,FALSE),0) -> 0 | AY14: =SUM(AM14:AX14) -> 0
A15: 04104-LA HIGUERA | B15: 105506-P.S.R. EL TRAPICHE | E15: =IFERROR(VLOOKUP(B15,'[1]NUM8.2'!$H$3:$L$156,2,FALSE),0) -> 0 | F15: =IFERROR(VLOOKUP(B15,'[1]NUM8.2'!$H$3:$L$156,3,FALSE),0) -> 0 | G15: =IFERROR(VLOOKUP(B15,'[1]NUM8.2'!$H$3:$L$156,4,FALSE),0) -> 0 | Q15: =SUM(E15:P15) -> 0 | S15: =IFERROR(VLOOKUP(B15,'[2]DEN8.2'!$H$3:$K$162,3,FALSE),0) -> 29 | T15: =+S15+(Z15+AA15+AB15+AC15)-(AM15+AN15+AO15+AP15) -> 30 | V15: =+U15+(AF15)-(AS15) -> 0 | W15: =+U15+(AF15+AG15+AH15+AI15)-(AS15+AT15+AU15+AV15) -> 0 | Z15: =IFERROR(VLOOKUP(B15,'[1]ACT NUM8.2'!$H$3:$L$128,2,FALSE),0) -> 0 | AA15: =IFERROR(VLOOKUP(B15,'[1]ACT NUM8.2'!$H$3:$L$128,3,FALSE),0) -> 0 | AB15: =IFERROR(VLOOKUP(B15,'[1]ACT NUM8.2'!$H$3:$L$128,4,FALSE),0) -> 1 | AL15: =SUM(Z15:AK15) -> 1 | AM15: =IFERROR(VLOOKUP(B15,'[1]ACT NUM8.2'!$AA$3:$AE$86,2,FALSE),0) -> 0 | AN15: =IFERROR(VLOOKUP(B15,'[1]ACT NUM8.2'!$AA$3:$AE$86,3,FALSE),0) -> 0 | AO15: =IFERROR(VLOOKUP(B15,'[1]ACT NUM8.2'!$AA$3:$AE$86,4,FALSE),0) -> 0 | AY15: =SUM(AM15:AX15) -> 0
A16: TOTAL LA HIGUERA | C16: =+D16/Metas!M7 -> 0.026628322 | D16: =+Q16/S16 -> 0.0060606061 | E16: =SUM(E12:E15) -> 1 | F16: =SUM(F12:F15) -> 0 | G16: =SUM(G12:G15) -> 0 | H16: =SUM(H12:H15) -> 0 | I16: =SUM(I12:I15) -> 0 | J16: =SUM(J12:J15) -> 0 | K16: =SUM(K12:K15) -> 0 | L16: =SUM(L12:L15) -> 0 | ... Q16: =SUM(Q12:Q15) -> 1 | S16: =SUM(S12:S15) -> 165 | T16: =SUM(T12:T15) -> 172 | U16: =SUM(U12:U15) -> 0 | V16: =SUM(V12:V15) -> 0 | W16: =SUM(W12:W15) -> 0 | X16: =SUM(X12:X15) -> 0 | Y16: 165 | Z16: =SUM(Z12:Z15) -> 2 | AA16: =SUM(AA12:AA15) -> 2 | AB16: =SUM(AB12:AB15) -> 3 | AC16: =SUM(AC12:AC15) -> 0 | AD16: =SUM(AD12:AD15) -> 0 | AE16: =SUM(AE12:AE15) -> 0 | AF16: =SUM(AF12:AF15) -> 0 | AG16: =SUM(AG12:AG15) -> 0 | ... AK16: =SUM(AK12:AK15) -> 0 | AL16: =SUM(Z16:AK16) -> 7 | AM16: =SUM(AM12:AM15) -> 0 | AN16: =SUM(AN12:AN15) -> 0 | AO16: =SUM(AO12:AO15) -> 0 | AP16: =SUM(AP12:AP15) -> 0 | AQ16: =SUM(AQ12:AQ15) -> 0 | AR16: =SUM(AR12:AR15) -> 0 | AS16: =SUM(AS12:AS15) -> 0 | AT16: =SUM(AT12:AT15) -> 0 | ... AX16: =SUM(AX12:AX15) -> 0 | AY16: =SUM(AM16:AX16) -> 0
A17: 04105-PAIHUANO | B17: 105306-CES. PAIHUANO | E17: =IFERROR(VLOOKUP(B17,'[1]NUM8.2'!$H$3:$L$156,2,FALSE),0) -> 0 | F17: =IFERROR(VLOOKUP(B17,'[1]NUM8.2'!$H$3:$L$156,3,FALSE),0) -> 0 | G17: =IFERROR(VLOOKUP(B17,'[1]NUM8.2'!$H$3:$L$156,4,FALSE),0) -> 3 | Q17: =SUM(E17:P17) -> 3 | S17: =IFERROR(VLOOKUP(B17,'[2]DEN8.2'!$H$3:$K$162,3,FALSE),0) -> 111 | T17: =+S17+(Z17+AA17+AB17+AC17)-(AM17+AN17+AO17+AP17) -> 108 | V17: =+U17+(AF17)-(AS17) -> 0 | W17: =+U17+(AF17+AG17+AH17+AI17)-(AS17+AT17+AU17+AV17) -> 0 | Z17: =IFERROR(VLOOKUP(B17,'[1]ACT NUM8.2'!$H$3:$L$128,2,FALSE),0) -> 0 | AA17: =IFERROR(VLOOKUP(B17,'[1]ACT NUM8.2'!$H$3:$L$128,3,FALSE),0) -> 0 | AB17: =IFERROR(VLOOKUP(B17,'[1]ACT NUM8.2'!$H$3:$L$128,4,FALSE),0) -> 0 | AL17: =SUM(Z17:AK17) -> 0 | AM17: =IFERROR(VLOOKUP(B17,'[1]ACT NUM8.2'!$AA$3:$AE$86,2,FALSE),0) -> 0 | AN17: =IFERROR(VLOOKUP(B17,'[1]ACT NUM8.2'!$AA$3:$AE$86,3,FALSE),0) -> 0 | AO17: =IFERROR(VLOOKUP(B17,'[1]ACT NUM8.2'!$AA$3:$AE$86,4,FALSE),0) -> 3 | AY17: =SUM(AM17:AX17) -> 3
A18: 04105-PAIHUANO | B18: 105475-P.S.R. HORCON | E18: =IFERROR(VLOOKUP(B18,'[1]NUM8.2'!$H$3:$L$156,2,FALSE),0) -> 0 | F18: =IFERROR(VLOOKUP(B18,'[1]NUM8.2'!$H$3:$L$156,3,FALSE),0) -> 0 | G18: =IFERROR(VLOOKUP(B18,'[1]NUM8.2'!$H$3:$L$156,4,FALSE),0) -> 0 | Q18: =SUM(E18:P18) -> 0 | S18: =IFERROR(VLOOKUP(B18,'[2]DEN8.2'!$H$3:$K$162,3,FALSE),0) -> 38 | T18: =+S18+(Z18+AA18+AB18+AC18)-(AM18+AN18+AO18+AP18) -> 38 | V18: =+U18+(AF18)-(AS18) -> 0 | W18: =+U18+(AF18+AG18+AH18+AI18)-(AS18+AT18+AU18+AV18) -> 0 | Z18: =IFERROR(VLOOKUP(B18,'[1]ACT NUM8.2'!$H$3:$L$128,2,FALSE),0) -> 0 | AA18: =IFERROR(VLOOKUP(B18,'[1]ACT NUM8.2'!$H$3:$L$128,3,FALSE),0) -> 0 | AB18: =IFERROR(VLOOKUP(B18,'[1]ACT NUM8.2'!$H$3:$L$128,4,FALSE),0) -> 0 | AL18: =SUM(Z18:AK18) -> 0 | AM18: =IFERROR(VLOOKUP(B18,'[1]ACT NUM8.2'!$AA$3:$AE$86,2,FALSE),0) -> 0 | AN18: =IFERROR(VLOOKUP(B18,'[1]ACT NUM8.2'!$AA$3:$AE$86,3,FALSE),0) -> 0 | AO18: =IFERROR(VLOOKUP(B18,'[1]ACT NUM8.2'!$AA$3:$AE$86,4,FALSE),0) -> 0 | AY18: =SUM(AM18:AX18) -> 0
A19: 04105-PAIHUANO | B19: 105476-P.S.R. MONTE GRANDE | E19: =IFERROR(VLOOKUP(B19,'[1]NUM8.2'!$H$3:$L$156,2,FALSE),0) -> 0 | F19: =IFERROR(VLOOKUP(B19,'[1]NUM8.2'!$H$3:$L$156,3,FALSE),0) -> 0 | G19: =IFERROR(VLOOKUP(B19,'[1]NUM8.2'!$H$3:$L$156,4,FALSE),0) -> 0 | Q19: =SUM(E19:P19) -> 0 | S19: =IFERROR(VLOOKUP(B19,'[2]DEN8.2'!$H$3:$K$162,3,FALSE),0) -> 30 | T19: =+S19+(Z19+AA19+AB19+AC19)-(AM19+AN19+AO19+AP19) -> 30 | V19: =+U19+(AF19)-(AS19) -> 0 | W19: =+U19+(AF19+AG19+AH19+AI19)-(AS19+AT19+AU19+AV19) -> 0 | Z19: =IFERROR(VLOOKUP(B19,'[1]ACT NUM8.2'!$H$3:$L$128,2,FALSE),0) -> 0 | AA19: =IFERROR(VLOOKUP(B19,'[1]ACT NUM8.2'!$H$3:$L$128,3,FALSE),0) -> 0 | AB19: =IFERROR(VLOOKUP(B19,'[1]ACT NUM8.2'!$H$3:$L$128,4,FALSE),0) -> 0 | AL19: =SUM(Z19:AK19) -> 0 | AM19: =IFERROR(VLOOKUP(B19,'[1]ACT NUM8.2'!$AA$3:$AE$86,2,FALSE),0) -> 0 | AN19: =IFERROR(VLOOKUP(B19,'[1]ACT NUM8.2'!$AA$3:$AE$86,3,FALSE),0) -> 0 | AO19: =IFERROR(VLOOKUP(B19,'[1]ACT NUM8.2'!$AA$3:$AE$86,4,FALSE),0) -> 0 | AY19: =SUM(AM19:AX19) -> 0
A20: 04105-PAIHUANO | B20: 105477-P.S.R. PISCO ELQUI | E20: =IFERROR(VLOOKUP(B20,'[1]NUM8.2'!$H$3:$L$156,2,FALSE),0) -> 0 | F20: =IFERROR(VLOOKUP(B20,'[1]NUM8.2'!$H$3:$L$156,3,FALSE),0) -> 0 | G20: =IFERROR(VLOOKUP(B20,'[1]NUM8.2'!$H$3:$L$156,4,FALSE),0) -> 1 | Q20: =SUM(E20:P20) -> 1 | S20: =IFERROR(VLOOKUP(B20,'[2]DEN8.2'!$H$3:$K$162,3,FALSE),0) -> 46 | T20: =+S20+(Z20+AA20+AB20+AC20)-(AM20+AN20+AO20+AP20) -> 46 | V20: =+U20+(AF20)-(AS20) -> 0 | W20: =+U20+(AF20+AG20+AH20+AI20)-(AS20+AT20+AU20+AV20) -> 0 | Z20: =IFERROR(VLOOKUP(B20,'[1]ACT NUM8.2'!$H$3:$L$128,2,FALSE),0) -> 0 | AA20: =IFERROR(VLOOKUP(B20,'[1]ACT NUM8.2'!$H$3:$L$128,3,FALSE),0) -> 0 | AB20: =IFERROR(VLOOKUP(B20,'[1]ACT NUM8.2'!$H$3:$L$128,4,FALSE),0) -> 0 | AL20: =SUM(Z20:AK20) -> 0 | AM20: =IFERROR(VLOOKUP(B20,'[1]ACT NUM8.2'!$AA$3:$AE$86,2,FALSE),0) -> 0 | AN20: =IFERROR(VLOOKUP(B20,'[1]ACT NUM8.2'!$AA$3:$AE$86,3,FALSE),0) -> 0 | AO20: =IFERROR(VLOOKUP(B20,'[1]ACT NUM8.2'!$AA$3:$AE$86,4,FALSE),0) -> 0 | AY20: =SUM(AM20:AX20) -> 0
A21: TOTAL PAIHUANO | C21: =+D21/Metas!M6 -> 0.11781165 | D21: =+Q21/S21 -> 0.017777778 | E21: =SUM(E17:E20) -> 0 | F21: =SUM(F17:F20) -> 0 | G21: =SUM(G17:G20) -> 4 | H21: =SUM(H17:H20) -> 0 | I21: =SUM(I17:I20) -> 0 | J21: =SUM(J17:J20) -> 0 | K21: =SUM(K17:K20) -> 0 | L21: =SUM(L17:L20) -> 0 | ... Q21: =SUM(Q17:Q20) -> 4 | S21: =SUM(S17:S20) -> 225 | T21: =SUM(T17:T20) -> 222 | U21: =SUM(U17:U20) -> 0 | V21: =SUM(V17:V20) -> 0 | W21: =SUM(W17:W20) -> 0 | X21: =SUM(X17:X20) -> 0 | Y21: 225 | Z21: =SUM(Z17:Z20) -> 0 | AA21: =SUM(AA17:AA20) -> 0 | AB21: =SUM(AB17:AB20) -> 0 | AC21: =SUM(AC17:AC20) -> 0 | AD21: =SUM(AD17:AD20) -> 0 | AE21: =SUM(AE17:AE20) -> 0 | AF21: =SUM(AF17:AF20) -> 0 | AG21: =SUM(AG17:AG20) -> 0 | ... AY21: =SUM(AY17:AY20) -> 3
B22: TOTAL | E22: =+E16+E21 -> 1 | F22: =+F16+F21 -> 0 | G22: =+G16+G21 -> 4 | H22: =+H16+H21 -> 0 | I22: =+I16+I21 -> 0 | J22: =+J16+J21 -> 0 | K22: =+K16+K21 -> 0 | L22: =+L16+L21 -> 0 | ... AY22: =+AY16+AY21 -> 3

Sheet META 8.3
A1: COMUNA | B1: ESTABLECIMIENTO | C1: CUMPLIMIENTO | D1: Indicador | E1: META 8.3: COBERTURA EXAMEN DE MEDICINA PREVENTIVA (EMPAM) EN PERSONAS DE 65 AÑOS Y MÁS
E2: NUMERADOR | R2: DENOMINADOR
E10: N° de adultos de 65 y más años con Examen de Medicina Preventiva | R10: Nº de adultos de 65 y más años estimados
D11: Resultado | E11: ENERO | F11: FEBRERO | G11: MARZO | H11: ABRIL | I11: MAYO | J11: JUNIO | K11: JULIO | L11: AGOSTO | M11: SEPBRE | N11: OCTBRE | O11: NOVBRE | P11: DICBRE | Q11: TOTAL
A12: 04104-LA HIGUERA | B12: 105314-CES. LA HIGUERA | E12: =IFERROR(VLOOKUP(B12,'[1]NUM8.3'!$H$3:$L$156,2,FALSE),0) -> 0 | F12: =IFERROR(VLOOKUP(B12,'[1]NUM8.3'!$H$3:$L$156,3,FALSE),0) -> 0 | G12: =IFERROR(VLOOKUP(B12,'[1]NUM8.3'!$H$3:$L$156,4,FALSE),0) -> 2 | Q12: =SUM(E12:P12) -> 2
A13: 04104-LA HIGUERA | B13: 105500-P.S.R. CALETA HORNOS | E13: =IFERROR(VLOOKUP(B13,'[1]NUM8.3'!$H$3:$L$156,2,FALSE),0) -> 0 | F13: =IFERROR(VLOOKUP(B13,'[1]NUM8.3'!$H$3:$L$156,3,FALSE),0) -> 0 | G13: =IFERROR(VLOOKUP(B13,'[1]NUM8.3'!$H$3:$L$156,4,FALSE),0) -> 0 | Q13: =SUM(E13:P13) -> 0
A14: 04104-LA HIGUERA | B14: 105505-P.S.R. LOS CHOROS | E14: =IFERROR(VLOOKUP(B14,'[1]NUM8.3'!$H$3:$L$156,2,FALSE),0) -> 0 | F14: =IFERROR(VLOOKUP(B14,'[1]NUM8.3'!$H$3:$L$156,3,FALSE),0) -> 0 | G14: =IFERROR(VLOOKUP(B14,'[1]NUM8.3'!$H$3:$L$156,4,FALSE),0) -> 0 | Q14: =SUM(E14:P14) -> 0
A15: 04104-LA HIGUERA | B15: 105506-P.S.R. EL TRAPICHE | E15: =IFERROR(VLOOKUP(B15,'[1]NUM8.3'!$H$3:$L$156,2,FALSE),0) -> 0 | F15: =IFERROR(VLOOKUP(B15,'[1]NUM8.3'!$H$3:$L$156,3,FALSE),0) -> 1 | G15: =IFERROR(VLOOKUP(B15,'[1]NUM8.3'!$H$3:$L$156,4,FALSE),0) -> 0 | Q15: =SUM(E15:P15) -> 1
A16: TOTAL LA HIGUERA | C16: =+D16/Metas!N7 -> 0.021036776 | D16: =+Q16/R16 -> 0.010638298 | E16: =SUM(E12:E15) -> 0 | F16: =SUM(F12:F15) -> 1 | G16: =SUM(G12:G15) -> 2 | H16: =SUM(H12:H15) -> 0 | I16: =SUM(I12:I15) -> 0 | J16: =SUM(J12:J15) -> 0 | K16: =SUM(K12:K15) -> 0 | L16: =SUM(L12:L15) -> 0 | ... Q16: =SUM(Q12:Q15) -> 3 | R16: 282
A17: 04105-PAIHUANO | B17: 105306-CES. PAIHUANO | E17: =IFERROR(VLOOKUP(B17,'[1]NUM8.3'!$H$3:$L$156,2,FALSE),0) -> 6 | F17: =IFERROR(VLOOKUP(B17,'[1]NUM8.3'!$H$3:$L$156,3,FALSE),0) -> 7 | G17: =IFERROR(VLOOKUP(B17,'[1]NUM8.3'!$H$3:$L$156,4,FALSE),0) -> 11 | Q17: =SUM(E17:P17) -> 24
A18: 04105-PAIHUANO | B18: 105475-P.S.R. HORCON | E18: =IFERROR(VLOOKUP(B18,'[1]NUM8.3'!$H$3:$L$156,2,FALSE),0) -> 1 | F18: =IFERROR(VLOOKUP(B18,'[1]NUM8.3'!$H$3:$L$156,3,FALSE),0) -> 2 | G18: =IFERROR(VLOOKUP(B18,'[1]NUM8.3'!$H$3:$L$156,4,FALSE),0) -> 9 | Q18: =SUM(E18:P18) -> 12
A19: 04105-PAIHUANO | B19: 105476-P.S.R. MONTE GRANDE | E19: =IFERROR(VLOOKUP(B19,'[1]NUM8.3'!$H$3:$L$156,2,FALSE),0) -> 0 | F19: =IFERROR(VLOOKUP(B19,'[1]NUM8.3'!$H$3:$L$156,3,FALSE),0) -> 1 | G19: =IFERROR(VLOOKUP(B19,'[1]NUM8.3'!$H$3:$L$156,4,FALSE),0) -> 7 | Q19: =SUM(E19:P19) -> 8
A20: 04105-PAIHUANO | B20: 105477-P.S.R. PISCO ELQUI | E20: =IFERROR(VLOOKUP(B20,'[1]NUM8.3'!$H$3:$L$156,2,FALSE),0) -> 2 | F20: =IFERROR(VLOOKUP(B20,'[1]NUM8.3'!$H$3:$L$156,3,FALSE),0) -> 2 | G20: =IFERROR(VLOOKUP(B20,'[1]NUM8.3'!$H$3:$L$156,4,FALSE),0) -> 7 | Q20: =SUM(E20:P20) -> 11
A21: TOTAL PAIHUANO | C21: =+D21/Metas!N6 -> 0.18091599 | D21: =+Q21/R21 -> 0.15068493 | E21: =SUM(E17:E20) -> 9 | F21: =SUM(F17:F20) -> 12 | G21: =SUM(G17:G20) -> 34 | H21: =SUM(H17:H20) -> 0 | I21: =SUM(I17:I20) -> 0 | J21: =SUM(J17:J20) -> 0 | K21: =SUM(K17:K20) -> 0 | L21: =SUM(L17:L20) -> 0 | ... Q21: =SUM(Q17:Q20) -> 55 | R21: 365
B22: TOTAL | E22: =+E16+E21 -> 9 | F22: =+F16+F21 -> 13 | G22: =+G16+G21 -> 36 | H22: =+H16+H21 -> 0 | I22: =+I16+I21 -> 0 | J22: =+J16+J21 -> 0 | K22: =+K16+K21 -> 0 | L22: =+L16+L21 -> 0 | ... Q22: =+Q16+Q21 -> 58

Sheet META 9
A1: COMUNA | B1: ESTABLECIMIENTO | C1: CUMPLIMIENTO | D1: Indicador | E1: META 9: COBERTURA DE EVALUACIÓN DEL DESARROLLO PSICOMOTOR DE NIÑOS Y NIÑAS DE 12 A 23 MESES BAJO CONTROL
E2: NUMERADOR | R2: DENOMINADOR
E10: Niños y niñas 12 a 23 con Evaluación del Desarrollo Psicomotor | R10: Niños y Niñas entre 12 a 23 meses bajo control
D11: Resultado | E11: ENERO | F11: FEBRERO | G11: MARZO | H11: ABRIL | I11: MAYO | J11: JUNIO | K11: JULIO | L11: AGOSTO | M11: SEPBRE | N11: OCTBRE | O11: NOVBRE | P11: DICBRE | Q11: TOTAL | R11: A DIC 2017 | S11: A ABRIL | T11: A JUNIO | U11: A AGOSTO | V11: A OCTBRE | W11: A DICBRE
A12: 04104-LA HIGUERA | B12: 105314-CES. LA HIGUERA | E12: =IFERROR(VLOOKUP(B12,[1]NUM9!$H$3:$L$146,2,FALSE),0) -> 2 | F12: =IFERROR(VLOOKUP(B12,[1]NUM9!$H$3:$L$146,3,FALSE),0) -> 3 | G12: =IFERROR(VLOOKUP(B12,[1]NUM9!$H$3:$L$146,4,FALSE),0) -> 2 | Q12: =SUM(E12:P12) -> 7 | R12: =IFERROR(VLOOKUP(B12,[2]DEN9!$H$3:$K$159,3,FALSE),0) -> 26
A13: 04104-LA HIGUERA | B13: 105500-P.S.R. CALETA HORNOS | E13: =IFERROR(VLOOKUP(B13,[1]NUM9!$H$3:$L$146,2,FALSE),0) -> 0 | F13: =IFERROR(VLOOKUP(B13,[1]NUM9!$H$3:$L$146,3,FALSE),0) -> 0 | G13: =IFERROR(VLOOKUP(B13,[1]NUM9!$H$3:$L$146,4,FALSE),0) -> 0 | Q13: =SUM(E13:P13) -> 0 | R13: =IFERROR(VLOOKUP(B13,[2]DEN9!$H$3:$K$159,3,FALSE),0) -> 8
A14: 04104-LA HIGUERA | B14: 105505-P.S.R. LOS CHOROS | E14: =IFERROR(VLOOKUP(B14,[1]NUM9!$H$3:$L$146,2,FALSE),0) -> 1 | F14: =IFERROR(VLOOKUP(B14,[1]NUM9!$H$3:$L$146,3,FALSE),0) -> 0 | G14: =IFERROR(VLOOKUP(B14,[1]NUM9!$H$3:$L$146,4,FALSE),0) -> 0 | Q14: =SUM(E14:P14) -> 1 | R14: =IFERROR(VLOOKUP(B14,[2]DEN9!$H$3:$K$159,3,FALSE),0) -> 4
A15: 04104-LA HIGUERA | B15: 105506-P.S.R. EL TRAPICHE | E15: =IFERROR(VLOOKUP(B15,[1]NUM9!$H$3:$L$146,2,FALSE),0) -> 3 | F15: =IFERROR(VLOOKUP(B15,[1]NUM9!$H$3:$L$146,3,FALSE),0) -> 0 | G15: =IFERROR(VLOOKUP(B15,[1]NUM9!$H$3:$L$146,4,FALSE),0) -> 0 | Q15: =SUM(E15:P15) -> 3 | R15: =IFERROR(VLOOKUP(B15,[2]DEN9!$H$3:$K$159,3,FALSE),0) -> 7
A16: TOTAL LA HIGUERA | C16: =+D16/Metas!O7 -> 0.26004728 | D16: =+Q16/R16 -> 0.24444444 | E16: =SUM(E12:E15) -> 6 | F16: =SUM(F12:F15) -> 3 | G16: =SUM(G12:G15) -> 2 | H16: =SUM(H12:H15) -> 0 | I16: =SUM(I12:I15) -> 0 | J16: =SUM(J12:J15) -> 0 | K16: =SUM(K12:K15) -> 0 | L16: =SUM(L12:L15) -> 0 | ... W16: =SUM(W12:W15) -> 0
A17: 04105-PAIHUANO | B17: 105306-CES. PAIHUANO | E17: =IFERROR(VLOOKUP(B17,[1]NUM9!$H$3:$L$146,2,FALSE),0) -> 2 | F17: =IFERROR(VLOOKUP(B17,[1]NUM9!$H$3:$L$146,3,FALSE),0) -> 2 | G17: =IFERROR(VLOOKUP(B17,[1]NUM9!$H$3:$L$146,4,FALSE),0) -> 4 | Q17: =SUM(E17:P17) -> 8 | R17: =IFERROR(VLOOKUP(B17,[2]DEN9!$H$3:$K$159,3,FALSE),0) -> 22
A18: 04105-PAIHUANO | B18: 105475-P.S.R. HORCON | E18: =IFERROR(VLOOKUP(B18,[1]NUM9!$H$3:$L$146,2,FALSE),0) -> 0 | F18: =IFERROR(VLOOKUP(B18,[1]NUM9!$H$3:$L$146,3,FALSE),0) -> 0 | G18: =IFERROR(VLOOKUP(B18,[1]NUM9!$H$3:$L$146,4,FALSE),0) -> 1 | Q18: =SUM(E18:P18) -> 1 | R18: =IFERROR(VLOOKUP(B18,[2]DEN9!$H$3:$K$159,3,FALSE),0) -> 14
A19: 04105-PAIHUANO | B19: 105476-P.S.R. MONTE GRANDE | E19: =IFERROR(VLOOKUP(B19,[1]NUM9!$H$3:$L$146,2,FALSE),0) -> 0 | F19: =IFERROR(VLOOKUP(B19,[1]NUM9!$H$3:$L$146,3,FALSE),0) -> 0 | G19: =IFERROR(VLOOKUP(B19,[1]NUM9!$H$3:$L$146,4,FALSE),0) -> 1 | Q19: =SUM(E19:P19) -> 1 | R19: =IFERROR(VLOOKUP(B19,[2]DEN9!$H$3:$K$159,3,FALSE),0) -> 4
A20: 04105-PAIHUANO | B20: 105477-P.S.R. PISCO ELQUI | E20: =IFERROR(VLOOKUP(B20,[1]NUM9!$H$3:$L$146,2,FALSE),0) -> 1 | F20: =IFERROR(VLOOKUP(B20,[1]NUM9!$H$3:$L$146,3,FALSE),0) -> 0 | G20: =IFERROR(VLOOKUP(B20,[1]NUM9!$H$3:$L$146,4,FALSE),0) -> 0 | Q20: =SUM(E20:P20) -> 1 | R20: =IFERROR(VLOOKUP(B20,[2]DEN9!$H$3:$K$159,3,FALSE),0) -> 7
A21: TOTAL PAIHUANO | C21: =+D21/Metas!O6 -> 0.24898144 | D21: =+Q21/R21 -> 0.23404255 | E21: =SUM(E17:E20) -> 3 | F21: =SUM(F17:F20) -> 2 | G21: =SUM(G17:G20) -> 6 | H21: =SUM(H17:H20) -> 0 | I21: =SUM(I17:I20) -> 0 | J21: =SUM(J17:J20) -> 0 | K21: =SUM(K17:K20) -> 0 | L21: =SUM(L17:L20) -> 0 | ... W21: =SUM(W17:W20) -> 0
B22: TOTAL | E22: =+E16+E21 -> 9 | F22: =+F16+F21 -> 5 | G22: =+G16+G21 -> 8 | H22: =+H16+H21 -> 0 | I22: =+I16+I21 -> 0 | J22: =+J16+J21 -> 0 | K22: =+K16+K21 -> 0 | L22: =+L16+L21 -> 0 | ... W22: =+W16+W21 -> 0

Sheet META 10
A1: COMUNA | B1: ESTABLECIMIENTO | C1: CUMPLIMIENTO | D1: Indicador | E1: META 10: COBERTURA DE CONTROL DE SALUD INTEGRAL EN ADOLESCENTES DE 10 14 AÑOS
E2: NUMERADOR | R2: DENOMINADOR
E10: Nº de controles de salud integral, realizados a adolescentes de 10 a 14 años | R10: Población adolescente de 10 a 14 años estimada en el establecimiento de salud
D11: Resultado | E11: ENERO | F11: FEBRERO | G11: MARZO | H11: ABRIL | I11: MAYO | J11: JUNIO | K11: JULIO | L11: AGOSTO | M11: SEPBRE | N11: OCTBRE | O11: NOVBRE | P11: DICBRE | Q11: TOTAL
A12: 04104-LA HIGUERA | B12: 105314-CES. LA HIGUERA | E12: =IFERROR(VLOOKUP(B12,[1]NUM10!$H$3:$L$48,2,FALSE),0) -> 0 | F12: =IFERROR(VLOOKUP(B12,[1]NUM10!$H$3:$L$48,3,FALSE),0) -> 0 | G12: =IFERROR(VLOOKUP(B12,[1]NUM10!$H$3:$L$48,4,FALSE),0) -> 0 | Q12: =SUM(E12:P12) -> 0
A13: 04104-LA HIGUERA | B13: 105500-P.S.R. CALETA HORNOS | E13: =IFERROR(VLOOKUP(B13,[1]NUM10!$H$3:$L$48,2,FALSE),0) -> 0 | F13: =IFERROR(VLOOKUP(B13,[1]NUM10!$H$3:$L$48,3,FALSE),0) -> 0 | G13: =IFERROR(VLOOKUP(B13,[1]NUM10!$H$3:$L$48,4,FALSE),0) -> 0 | Q13: =SUM(E13:P13) -> 0
A14: 04104-LA HIGUERA | B14: 105505-P.S.R. LOS CHOROS | E14: =IFERROR(VLOOKUP(B14,[1]NUM10!$H$3:$L$48,2,FALSE),0) -> 0 | F14: =IFERROR(VLOOKUP(B14,[1]NUM10!$H$3:$L$48,3,FALSE),0) -> 0 | G14: =IFERROR(VLOOKUP(B14,[1]NUM10!$H$3:$L$48,4,FALSE),0) -> 0 | Q14: =SUM(E14:P14) -> 0
A15: 04104-LA HIGUERA | B15: 105506-P.S.R. EL TRAPICHE | E15: =IFERROR(VLOOKUP(B15,[1]NUM10!$H$3:$L$48,2,FALSE),0) -> 0 | F15: =IFERROR(VLOOKUP(B15,[1]NUM10!$H$3:$L$48,3,FALSE),0) -> 0 | G15: =IFERROR(VLOOKUP(B15,[1]NUM10!$H$3:$L$48,4,FALSE),0) -> 0 | Q15: =SUM(E15:P15) -> 0
A16: TOTAL LA HIGUERA | C16: =+D16/Metas!P7 -> 0 | D16: =+Q16/R16 -> 0 | E16: =SUM(E12:E15) -> 0 | F16: =SUM(F12:F15) -> 0 | G16: =SUM(G12:G15) -> 0 | H16: =SUM(H12:H15) -> 0 | I16: =SUM(I12:I15) -> 0 | J16: =SUM(J12:J15) -> 0 | K16: =SUM(K12:K15) -> 0 | L16: =SUM(L12:L15) -> 0 | ... Q16: =SUM(Q12:Q15) -> 0 | R16: 247
A17: 04105-PAIHUANO | B17: 105306-CES. PAIHUANO | E17: =IFERROR(VLOOKUP(B17,[1]NUM10!$H$3:$L$48,2,FALSE),0) -> 0 | F17: =IFERROR(VLOOKUP(B17,[1]NUM10!$H$3:$L$48,3,FALSE),0) -> 0 | G17: =IFERROR(VLOOKUP(B17,[1]NUM10!$H$3:$L$48,4,FALSE),0) -> 0 | Q17: =SUM(E17:P17) -> 0
A18: 04105-PAIHUANO | B18: 105475-P.S.R. HORCON | E18: =IFERROR(VLOOKUP(B18,[1]NUM10!$H$3:$L$48,2,FALSE),0) -> 0 | F18: =IFERROR(VLOOKUP(B18,[1]NUM10!$H$3:$L$48,3,FALSE),0) -> 0 | G18: =IFERROR(VLOOKUP(B18,[1]NUM10!$H$3:$L$48,4,FALSE),0) -> 0 | Q18: =SUM(E18:P18) -> 0
A19: 04105-PAIHUANO | B19: 105476-P.S.R. MONTE GRANDE | E19: =IFERROR(VLOOKUP(B19,[1]NUM10!$H$3:$L$48,2,FALSE),0) -> 0 | F19: =IFERROR(VLOOKUP(B19,[1]NUM10!$H$3:$L$48,3,FALSE),0) -> 0 | G19: =IFERROR(VLOOKUP(B19,[1]NUM10!$H$3:$L$48,4,FALSE),0) -> 0 | Q19: =SUM(E19:P19) -> 0
A20: 04105-PAIHUANO | B20: 105477-P.S.R. PISCO ELQUI | E20: =IFERROR(VLOOKUP(B20,[1]NUM10!$H$3:$L$48,2,FALSE),0) -> 0 | F20: =IFERROR(VLOOKUP(B20,[1]NUM10!$H$3:$L$48,3,FALSE),0) -> 0 | G20: =IFERROR(VLOOKUP(B20,[1]NUM10!$H$3:$L$48,4,FALSE),0) -> 0 | Q20: =SUM(E20:P20) -> 0
A21: TOTAL PAIHUANO | C21: =+D21/Metas!P6 -> 0 | D21: =+Q21/R21 -> 0 | E21: =SUM(E17:E20) -> 0 | F21: =SUM(F17:F20) -> 0 | G21: =SUM(G17:G20) -> 0 | H21: =SUM(H17:H20) -> 0 | I21: =SUM(I17:I20) -> 0 | J21: =SUM(J17:J20) -> 0 | K21: =SUM(K17:K20) -> 0 | L21: =SUM(L17:L20) -> 0 | ... Q21: =SUM(Q17:Q20) -> 0 | R21: 279
B22: TOTAL | E22: =+E16+E21 -> 0 | F22: =+F16+F21 -> 0 | G22: =+G16+G21 -> 0 | H22: =+H16+H21 -> 0 | I22: =+I16+I21 -> 0 | J22: =+J16+J21 -> 0 | K22: =+K16+K21 -> 0 | L22: =+L16+L21 -> 0 | ... Q22: =+Q16+Q21 -> 0

Sheet META 11
A1: COMUNA | B1: ESTABLECIMIENTO | C1: CUMPLIMIENTO | D1: Indicador | E1: META 11: PROPORCIÓN DE MENORES DE 20 AÑOS CON ALTA ODONTOLÓGICA TOTAL
E2: NUMERADOR | R2: DENOMINADOR
E10: Nº de altas odontológicas en menores de 7 años a menor de 20 años | R10: Población inscrita de 7 años a menor de 20 años
D11: Resultado | E11: ENERO | F11: FEBRERO | G11: MARZO | H11: ABRIL | I11: MAYO | J11: JUNIO | K11: JULIO | L11: AGOSTO | M11: SEPBRE | N11: OCTBRE | O11: NOVBRE | P11: DICBRE | Q11: TOTAL
A12: 04104-LA HIGUERA | B12: 105314-CES. LA HIGUERA | E12: =IFERROR(VLOOKUP(B12,[1]NUM11!$H$3:$L$109,2,FALSE),0) -> 0 | F12: =IFERROR(VLOOKUP(B12,[1]NUM11!$H$3:$L$109,3,FALSE),0) -> 0 | G12: =IFERROR(VLOOKUP(B12,[1]NUM11!$H$3:$L$109,4,FALSE),0) -> 0 | Q12: =SUM(E12:P12) -> 0
A13: 04104-LA HIGUERA | B13: 105500-P.S.R. CALETA HORNOS | E13: =IFERROR(VLOOKUP(B13,[1]NUM11!$H$3:$L$109,2,FALSE),0) -> 0 | F13: =IFERROR(VLOOKUP(B13,[1]NUM11!$H$3:$L$109,3,FALSE),0) -> 0 | G13: =IFERROR(VLOOKUP(B13,[1]NUM11!$H$3:$L$109,4,FALSE),0) -> 0 | Q13: =SUM(E13:P13) -> 0
